Workbook

Sheet Trial & Financials
A2: Mitchell Corporation
A3: Unadjusted Trial Balance | L3: Adjusted Trial Balance
A4: 43100 | H4: Adjustments | S4: Balance Sheet | W4: Income Statement
B5: Debit | D5: Credit | H5: Debit | J5: Credit | L5: Debit | N5: Credit | S5: Assets: | W5: Revenue | Y5: =N18 -> 0
A6: Cash | B6: ='T-Accounts'!B16 -> 350000 | L6: =B6+H6-J6 -> 350000 | S6: =A6 -> Cash | T6: =L6 -> 350000
W7: Expenses:
T12: =L11 -> 0
S13: Total Assets | T13: =T6+T7+T8+T11+T12 -> 350000
S15: Liabilities: | W15: Total Expenses | Y15: =SUM(Y8:Y14) -> 0
A16: Common Stock | D16: ='T-Accounts'!G16 -> 350000 | N16: =D16-H16+J16 -> 350000 | W16: Net Gain | Y16: =Y5-Y15 -> 0
W18: Statement of stockholders' EQUITY
X19: Common Stock | Y19: Retained Earings | Z19: Total
S20: Total Liabiliies | T20: =SUM(T16:T19) -> 0 | W20: 43435 | X20: 0 | Y20: 0 | Z20: =X20+Y20 -> 0
S21: Stockholder's Equity: | W21: Common Stock Issued | X21: =N16 -> 350000 | Z21: =X21+Y21 -> 350000
S22: =A16 -> Common Stock | T22: =N16 -> 350000 | W22: Net Gain | Y22: =Y16 -> 0 | Z22: =X22+Y22 -> 0
S23: Dividends | T23: =N18-L19-L20-L21-L22-L23-L24-L17 -> 0 | W23: Dividends | Y23: =-L17 -> 0 | Z23: =X23+Y23 -> 0
S24: Total Stockholders Equitu | T24: =T22+T23 -> 350000 | W24: 43465 | X24: =X20+X21 -> 350000 | Y24: =Y20+Y21+Y22+Y23 -> 0 | Z24: =X24+Y24 -> 350000
A25: Totals | B25: =SUM(B6:B24) -> 350000 | D25: =SUM(D6:D24) -> 350000 | H25: 137000 | J25: 137000 | L25: =SUM(L6:L24) -> 350000 | N25: =SUM(N6:N24) -> 350000 | S25: Total Stockholders' Equity and Liabilities | T25: =T20+T24 -> 350000

Sheet T-Accounts
B2: Cash | F2: Common Stock | J2: Delivery Trucks | N2: Notes Payable | R2: Prepaid Insurance | V2: Revenue | Y2: Unearned Revenue
A3: ='journal entries'!E5 -> 1 | B3: ='journal entries'!F5 -> 350000 | G3: ='journal entries'!G6 -> 350000 | H3: ='journal entries'!E5 -> 1
B16: =SUM(B3:B11)-SUM(C3:C11) -> 350000 | G16: =G3 -> 350000 | J16: =J3 -> 0 | O16: =SUM(O3:O9)-SUM(N3:N9) -> 0 | R16: =SUM(R3:R12)-SUM(S3:S12) -> 0 | W16: =SUM(W3:W9)-SUM(V3:V9) -> 0 | Z16: =SUM(Z3:Z9)-SUM(Y3:Y9) -> 0
B20: Dividends | F20: Supplies | J20: Accounts payable | N20: Wage expense | R20: Accounts receivable | V20: Fuel Expense | Y20: Lodging Expense
B34: =SUM(B21:B29)-SUM(C21:C29) -> 0 | F34: =SUM(F21:F29)-SUM(G21:G29) -> 0 | K34: =SUM(K21:K27)-SUM(J21:J27) -> 0 | N34: =SUM(N21:N29)-SUM(O21:O29) -> 0 | R34: =SUM(R21:R29)-SUM(S21:S29) -> 0 | V34: =SUM(V21:V29)-SUM(W21:W29) -> 0 | Y34: =SUM(Y21:Y29)-SUM(Z21:Z29) -> 0

Sheet journal entries
B2: General Journal
B3: Date | C3: Description | E3: Ref# | F3: Debit | G3: Credit
B5: Dec. 1 | C5: Cash | E5: 1 | F5: 350000
D6: Common stock | G6: =+F5 -> 350000
C7: To record issuance of stock
B9: 43437 | E9: 2
C12: To record purchase of Delivery truck with cash and notes payabe
B14: 43437 | E14: 3
C16: To record purchase of annual insurance policy
B18: 43438 | E18: 4
C20: To record purchase of packing supplies
B22: 43442 | E22: 5
C24: To record payment of wages
B26: 43444 | E26: 6
C28: To record sales revenue
B30: 43446 | E30: 7
C32: To record payment of accounts payable balance
B34: 43447 | E34: 8
C36: To record payment received on Accounts receivable
B38: 43447 | E38: 9
C40: To record payment of wages
B42: 43449 | E42: 10
C44: To record payment of fuel costs
B46: 43449 | E46: 11
C48: To record cash received for future services
B50: 43452 | E50: 12
C52: To record lodging costs
B54: 43453 | E54: 13
C56: To record payment on Notes payable
B58: 43453 | E58: 14
C60: To record services rendered
B62: 43454 | E62: 15
C64: To record cash received from Accounts receivable
B66: 43454 | E66: 16
C68: To record purchase of supplies on account
B70: 43465 | E70: 17
C72: To record payment of dividend to shareholders
A75: Adjusting Journal Entries
B76: 43465 | E76: a | F76: =(F9/5)/12 -> 0
G77: =+F76 -> 0
...
