Workbook

Sheet Keywords
A1: KEYWORD RESEARCH & ACCOUNT STRUCTURE
B2: Campaign | C2: Ad Group | D2: Keyword | E2: Search Volume | F2: Match Type
B3: Name Your Campaigns | C3: Name Your Ad Groups | D3: List Your Keywords | E3: Keyword Search Volume | F3: Choose a Keyword Match Type
A4: Start here! | B4: HCQ engagement | C4: HCQ work | D4: my health record | E4: 10K - 100K | F4: Broad Match
A5: Replace Examples | B5: HCQ engagement | C5: HCQ work | D5: +my+health+record | E5: 10K - 100K | F5: Broad Match Modified
B6: HCQ engagement | C6: HCQ work | D6: "my health record" | E6: 10K - 100K | F6: Phrase Match
B7: HCQ engagement | C7: HCQ work | D7: [my health record] | E7: 10K - 100K | F7: Exact Match
B8: HCQ engagement | C8: HCQ work | D8: mental health awareness | E8: 1K - 10K | F8: Broad Match
B9: HCQ engagement | C9: HCQ work | D9: +mental +health +awareness | E9: 1K - 10K | F9: Broad Match Modified
B10: HCQ engagement | C10: HCQ work | D10: "mental health awareness" | E10: 1K - 10K | F10: Phrase Match
B11: HCQ engagement | C11: HCQ work | D11: [mental health awareness] | E11: 1K - 10K | F11: Exact Match
B12: HCQ engagement | C12: Research | D12: youth mental health | E12: 100 - 1K | F12: Broad Match
B13: HCQ engagement | C13: Research | D13: +youth +mental +health | E13: 100 -1K | F13: Broad Match Modified
B14: HCQ engagement | C14: Research | D14: "youth mental Health" | E14: 100 - 1K | F14: Phrase Match
B15: HCQ engagement | C15: Research | D15: [youth mental health] | E15: 100 - 1K | F15: Exact Match
B16: HCQ engagement | C16: Research | D16: medication | E16: 1K - 10K | F16: Broad Match
B17: HCQ engagement | C17: Research | D17: +medication | E17: 1K - 10K | F17: Broad Match Modified
... B103: HCQ for Health consumers and Carers | C103: Health Consumer rights | D103: "right to refuse medication" | E103: 10 - 100 | F103: Phrase Match

Sheet Search Volume Estimates
A1: SEARCH VOLUME ESTIMATES & BUDGET BREAKDOWN
B2: Campaign | C2: Ad Group | D2: Max. CPC | E2: Clicks | F2: Impressions | G2: Cost | H2: CTR | I2: Avg. CPC | J2: Avg. Pos. | L2: Campaign | M2: Monthly Budget
B3: Your Campaigns | C3: Your Ad Groups | D3: List your maximum Cost per Click for this Ad Group | E3: Enter your estimated click volume for this Ad Group | F3: Enter your estimated Impression volume for this Ad Group | G3: Enter your estimated Cost for this Ad Group | H3: Enter your estimated Click-through Rate for this Ad Group | I3: Enter your estimated Average Cost per Click for this Ad Group | J3: Enter your estimated Average Position for this Ad Group | L3: Your Campaigns | M3: Your proposed Campaign Budget (Based on the information on your table)
B4: =IFERROR(INDEX(Keywords!$B$4:$B$103,MATCH(C4,Keywords!$C$4:$C$103,0)),"") -> HCQ engagement | C4: {=IFERROR(INDEX(Keywords!$C$4:$C$103,MATCH(0,COUNTIF($C$3:C3,Keywords!$C$4:$C$103),0)),"")} -> HCQ work | D4: 4 | E4: 111.6 | F4: 3062.34 | G4: 231.3 | H4: 0.036 | I4: 2.07 | J4: 1.7 | L4: {=IFERROR(INDEX(Keywords!$B$4:$B$103,MATCH(0,COUNTIF($L$3:L3,Keywords!$B$4:$B$103),0)),"")} -> HCQ engagement | M4: 926.18
B5: =IFERROR(INDEX(Keywords!$B$4:$B$103,MATCH(C5,Keywords!$C$4:$C$103,0)),"") -> HCQ engagement | C5: {=IFERROR(INDEX(Keywords!$C$4:$C$103,MATCH(0,COUNTIF($C$3:C4,Keywords!$C$4:$C$103),0)),"")} -> Research | D5: 4 | E5: 308.52 | F5: 8616.6 | G5: 677.54 | H5: 0.036 | I5: 2.2 | J5: 1.6 | L5: {=IFERROR(INDEX(Keywords!$B$4:$B$103,MATCH(0,COUNTIF($L$3:L4,Keywords!$B$4:$B$103),0)),"")} -> Training | M5: 1292.59
B6: =IFERROR(INDEX(Keywords!$B$4:$B$103,MATCH(C6,Keywords!$C$4:$C$103,0)),"") -> HCQ engagement | C6: {=IFERROR(INDEX(Keywords!$C$4:$C$103,MATCH(0,COUNTIF($C$3:C5,Keywords!$C$4:$C$103),0)),"")} -> Advocacy | D6: 4 | E6: 9.14 | F6: 364.09 | G6: 17.34 | H6: 0.033 | I6: 1.9 | J6: 1.8 | L6: {=IFERROR(INDEX(Keywords!$B$4:$B$103,MATCH(0,COUNTIF($L$3:L5,Keywords!$B$4:$B$103),0)),"")} -> Community | M6: 1588.29
B7: =IFERROR(INDEX(Keywords!$B$4:$B$103,MATCH(C7,Keywords!$C$4:$C$103,0)),"") -> Training | C7: {=IFERROR(INDEX(Keywords!$C$4:$C$103,MATCH(0,COUNTIF($C$3:C6,Keywords!$C$4:$C$103),0)),"")} -> Customer training | D7: 4 | E7: 160.15 | F7: 5040.61 | G7: 390.8 | H7: 0.032 | I7: 2.44 | J7: 1.7 | L7: {=IFERROR(INDEX(Keywords!$B$4:$B$103,MATCH(0,COUNTIF($L$3:L6,Keywords!$B$4:$B$103),0)),"")} -> Support | M7: 5922.15
B8: =IFERROR(INDEX(Keywords!$B$4:$B$103,MATCH(C8,Keywords!$C$4:$C$103,0)),"") -> Training | C8: {=IFERROR(INDEX(Keywords!$C$4:$C$103,MATCH(0,COUNTIF($C$3:C7,Keywords!$C$4:$C$103),0)),"")} -> Carer training | D8: 4 | E8: 171.84 | F8: 6299.69 | G8: 424.27 | H8: 0.027 | I8: 2.47 | J8: 1.6 | L8: {=IFERROR(INDEX(Keywords!$B$4:$B$103,MATCH(0,COUNTIF($L$3:L7,Keywords!$B$4:$B$103),0)),"")} -> HCQ for Health consumers and Carers | M8: 31.19
B9: =IFERROR(INDEX(Keywords!$B$4:$B$103,MATCH(C9,Keywords!$C$4:$C$103,0)),"") -> Training | C9: {=IFERROR(INDEX(Keywords!$C$4:$C$103,MATCH(0,COUNTIF($C$3:C8,Keywords!$C$4:$C$103),0)),"")} -> Skill building | D9: 4 | E9: 226.31 | F9: 8406.43 | G9: 477.52 | H9: 0.027 | I9: 2.11 | J9: 1.7 | L9: {=IFERROR(INDEX(Keywords!$B$4:$B$103,MATCH(0,COUNTIF($L$3:L8,Keywords!$B$4:$B$103),0)),"")}
B10: =IFERROR(INDEX(Keywords!$B$4:$B$103,MATCH(C10,Keywords!$C$4:$C$103,0)),"") -> Community | C10: {=IFERROR(INDEX(Keywords!$C$4:$C$103,MATCH(0,COUNTIF($C$3:C9,Keywords!$C$4:$C$103),0)),"")} -> Communityy health | D10: 4 | E10: 1107.94 | F10: 25990.99 | G10: 1521.88 | H10: 0.043 | I10: 1.37 | J10: 1.8 | L10: {=IFERROR(INDEX(Keywords!$B$4:$B$103,MATCH(0,COUNTIF($L$3:L9,Keywords!$B$4:$B$103),0)),"")}
B11: =IFERROR(INDEX(Keywords!$B$4:$B$103,MATCH(C11,Keywords!$C$4:$C$103,0)),"") -> Community | C11: {=IFERROR(INDEX(Keywords!$C$4:$C$103,MATCH(0,COUNTIF($C$3:C10,Keywords!$C$4:$C$103),0)),"")} -> Community engagement | D11: 4 | E11: 24.93 | F11: 1074.31 | G11: 66.41 | H11: 0.023 | I11: 2.66 | J11: 1.5 | L11: {=IFERROR(INDEX(Keywords!$B$4:$B$103,MATCH(0,COUNTIF($L$3:L10,Keywords!$B$4:$B$103),0)),"")}
B12: =IFERROR(INDEX(Keywords!$B$4:$B$103,MATCH(C12,Keywords!$C$4:$C$103,0)),"") -> Support | C12: {=IFERROR(INDEX(Keywords!$C$4:$C$103,MATCH(0,COUNTIF($C$3:C11,Keywords!$C$4:$C$103),0)),"")} -> Patient support | D12: 4 | E12: 44.23 | F12: 1432.25 | G12: 93.63 | H12: 0.031 | I12: 2.12 | J12: 1.7 | L12: {=IFERROR(INDEX(Keywords!$B$4:$B$103,MATCH(0,COUNTIF($L$3:L11,Keywords!$B$4:$B$103),0)),"")}
B13: =IFERROR(INDEX(Keywords!$B$4:$B$103,MATCH(C13,Keywords!$C$4:$C$103,0)),"") -> Support | C13: {=IFERROR(INDEX(Keywords!$C$4:$C$103,MATCH(0,COUNTIF($C$3:C12,Keywords!$C$4:$C$103),0)),"")} -> Carer support | D13: 4 | E13: 2984.23 | F13: 96570.64 | G13: 5828.52 | H13: 0.031 | I13: 1.95 | J13: 1.7 | L13: {=IFERROR(INDEX(Keywords!$B$4:$B$103,MATCH(0,COUNTIF($L$3:L12,Keywords!$B$4:$B$103),0)),"")}
B14: =IFERROR(INDEX(Keywords!$B$4:$B$103,MATCH(C14,Keywords!$C$4:$C$103,0)),"") -> HCQ for Health consumers and Carers | C14: {=IFERROR(INDEX(Keywords!$C$4:$C$103,MATCH(0,COUNTIF($C$3:C13,Keywords!$C$4:$C$103),0)),"")} -> Health Consumer rights | D14: 4 | E14: 14.62 | F14: 391.41 | G14: 31.19 | H14: 0.037 | I14: 2.13 | J14: 1.7 | L14: {=IFERROR(INDEX(Keywords!$B$4:$B$103,MATCH(0,COUNTIF($L$3:L13,Keywords!$B$4:$B$103),0)),"")}
B15: =IFERROR(INDEX(Keywords!$B$4:$B$103,MATCH(C15,Keywords!$C$4:$C$103,0)),"") | C15: {=IFERROR(INDEX(Keywords!$C$4:$C$103,MATCH(0,COUNTIF($C$3:C14,Keywords!$C$4:$C$103),0)),"")} | L15: {=IFERROR(INDEX(Keywords!$B$4:$B$103,MATCH(0,COUNTIF($L$3:L14,Keywords!$B$4:$B$103),0)),"")}
B16: =IFERROR(INDEX(Keywords!$B$4:$B$103,MATCH(C16,Keywords!$C$4:$C$103,0)),"") | C16: {=IFERROR(INDEX(Keywords!$C$4:$C$103,MATCH(0,COUNTIF($C$3:C15,Keywords!$C$4:$C$103),0)),"")} | L16: {=IFERROR(INDEX(Keywords!$B$4:$B$103,MATCH(0,COUNTIF($L$3:L15,Keywords!$B$4:$B$103),0)),"")}
B17: =IFERROR(INDEX(Keywords!$B$4:$B$103,MATCH(C17,Keywords!$C$4:$C$103,0)),"") | C17: {=IFERROR(INDEX(Keywords!$C$4:$C$103,MATCH(0,COUNTIF($C$3:C16,Keywords!$C$4:$C$103),0)),"")} | L17: {=IFERROR(INDEX(Keywords!$B$4:$B$103,MATCH(0,COUNTIF($L$3:L16,Keywords!$B$4:$B$103),0)),"")}
B18: =IFERROR(INDEX(Keywords!$B$4:$B$103,MATCH(C18,Keywords!$C$4:$C$103,0)),"") | C18: {=IFERROR(INDEX(Keywords!$C$4:$C$103,MATCH(0,COUNTIF($C$3:C17,Keywords!$C$4:$C$103),0)),"")} | L18: {=IFERROR(INDEX(Keywords!$B$4:$B$103,MATCH(0,COUNTIF($L$3:L17,Keywords!$B$4:$B$103),0)),"")}
B19: =IFERROR(INDEX(Keywords!$B$4:$B$103,MATCH(C19,Keywords!$C$4:$C$103,0)),"") | C19: {=IFERROR(INDEX(Keywords!$C$4:$C$103,MATCH(0,COUNTIF($C$3:C18,Keywords!$C$4:$C$103),0)),"")} | L19: {=IFERROR(INDEX(Keywords!$B$4:$B$103,MATCH(0,COUNTIF($L$3:L18,Keywords!$B$4:$B$103),0)),"")}
B20: =IFERROR(INDEX(Keywords!$B$4:$B$103,MATCH(C20,Keywords!$C$4:$C$103,0)),"") | C20: {=IFERROR(INDEX(Keywords!$C$4:$C$103,MATCH(0,COUNTIF($C$3:C19,Keywords!$C$4:$C$103),0)),"")} | L20: {=IFERROR(INDEX(Keywords!$B$4:$B$103,MATCH(0,COUNTIF($L$3:L19,Keywords!$B$4:$B$103),0)),"")}
B21: =IFERROR(INDEX(Keywords!$B$4:$B$103,MATCH(C21,Keywords!$C$4:$C$103,0)),"") | C21: {=IFERROR(INDEX(Keywords!$C$4:$C$103,MATCH(0,COUNTIF($C$3:C20,Keywords!$C$4:$C$103),0)),"")} | L21: {=IFERROR(INDEX(Keywords!$B$4:$B$103,MATCH(0,COUNTIF($L$3:L20,Keywords!$B$4:$B$103),0)),"")}
B22: =IFERROR(INDEX(Keywords!$B$4:$B$103,MATCH(C22,Keywords!$C$4:$C$103,0)),"") | C22: {=IFERROR(INDEX(Keywords!$C$4:$C$103,MATCH(0,COUNTIF($C$3:C21,Keywords!$C$4:$C$103),0)),"")} | L22: {=IFERROR(INDEX(Keywords!$B$4:$B$103,MATCH(0,COUNTIF($L$3:L21,Keywords!$B$4:$B$103),0)),"")}
B23: =IFERROR(INDEX(Keywords!$B$4:$B$103,MATCH(C23,Keywords!$C$4:$C$103,0)),"") | C23: {=IFERROR(INDEX(Keywords!$C$4:$C$103,MATCH(0,COUNTIF($C$3:C22,Keywords!$C$4:$C$103),0)),"")} | L23: {=IFERROR(INDEX(Keywords!$B$4:$B$103,MATCH(0,COUNTIF($L$3:L22,Keywords!$B$4:$B$103),0)),"")}
B24: =IFERROR(INDEX(Keywords!$B$4:$B$103,MATCH(C24,Keywords!$C$4:$C$103,0)),"") | C24: {=IFERROR(INDEX(Keywords!$C$4:$C$103,MATCH(0,COUNTIF($C$3:C23,Keywords!$C$4:$C$103),0)),"")} | L24: {=IFERROR(INDEX(Keywords!$B$4:$B$103,MATCH(0,COUNTIF($L$3:L23,Keywords!$B$4:$B$103),0)),"")}
B25: =IFERROR(INDEX(Keywords!$B$4:$B$103,MATCH(C25,Keywords!$C$4:$C$103,0)),"") | C25: {=IFERROR(INDEX(Keywords!$C$4:$C$103,MATCH(0,COUNTIF($C$3:C24,Keywords!$C$4:$C$103),0)),"")} | L25: {=IFERROR(INDEX(Keywords!$B$4:$B$103,MATCH(0,COUNTIF($L$3:L24,Keywords!$B$4:$B$103),0)),"")}
B26: =IFERROR(INDEX(Keywords!$B$4:$B$103,MATCH(C26,Keywords!$C$4:$C$103,0)),"") | C26: {=IFERROR(INDEX(Keywords!$C$4:$C$103,MATCH(0,COUNTIF($C$3:C25,Keywords!$C$4:$C$103),0)),"")} | L26: {=IFERROR(INDEX(Keywords!$B$4:$B$103,MATCH(0,COUNTIF($L$3:L25,Keywords!$B$4:$B$103),0)),"")}
... B28: =IFERROR(INDEX(Keywords!$B$4:$B$103,MATCH(C28,Keywords!$C$4:$C$103,0)),"") | C28: {=IFERROR(INDEX(Keywords!$C$4:$C$103,MATCH(0,COUNTIF($C$3:C27,Keywords!$C$4:$C$103),0)),"")} | L28: {=IFERROR(INDEX(Keywords!$B$4:$B$103,MATCH(0,COUNTIF($L$3:L27,Keywords!$B$4:$B$103),0)),"")}
B29: =IFERROR(INDEX(Keywords!$B$4:$B$103,MATCH(C29,Keywords!$C$4:$C$103,0)),"") | C29: {=IFERROR(INDEX(Keywords!$C$4:$C$103,MATCH(0,COUNTIF($C$3:C28,Keywords!$C$4:$C$103),0)),"")}
B30: =IFERROR(INDEX(Keywords!$B$4:$B$103,MATCH(C30,Keywords!$C$4:$C$103,0)),"") | C30: {=IFERROR(INDEX(Keywords!$C$4:$C$103,MATCH(0,COUNTIF($C$3:C29,Keywords!$C$4:$C$103),0)),"")}
B31: =IFERROR(INDEX(Keywords!$B$4:$B$103,MATCH(C31,Keywords!$C$4:$C$103,0)),"") | C31: {=IFERROR(INDEX(Keywords!$C$4:$C$103,MATCH(0,COUNTIF($C$3:C30,Keywords!$C$4:$C$103),0)),"")}
B32: =IFERROR(INDEX(Keywords!$B$4:$B$103,MATCH(C32,Keywords!$C$4:$C$103,0)),"") | C32: {=IFERROR(INDEX(Keywords!$C$4:$C$103,MATCH(0,COUNTIF($C$3:C31,Keywords!$C$4:$C$103),0)),"")}
B33: =IFERROR(INDEX(Keywords!$B$4:$B$103,MATCH(C33,Keywords!$C$4:$C$103,0)),"") | C33: {=IFERROR(INDEX(Keywords!$C$4:$C$103,MATCH(0,COUNTIF($C$3:C32,Keywords!$C$4:$C$103),0)),"")}
B34: =IFERROR(INDEX(Keywords!$B$4:$B$103,MATCH(C34,Keywords!$C$4:$C$103,0)),"") | C34: {=IFERROR(INDEX(Keywords!$C$4:$C$103,MATCH(0,COUNTIF($C$3:C33,Keywords!$C$4:$C$103),0)),"")}
B35: =IFERROR(INDEX(Keywords!$B$4:$B$103,MATCH(C35,Keywords!$C$4:$C$103,0)),"") | C35: {=IFERROR(INDEX(Keywords!$C$4:$C$103,MATCH(0,COUNTIF($C$3:C34,Keywords!$C$4:$C$103),0)),"")}
B36: =IFERROR(INDEX(Keywords!$B$4:$B$103,MATCH(C36,Keywords!$C$4:$C$103,0)),"") | C36: {=IFERROR(INDEX(Keywords!$C$4:$C$103,MATCH(0,COUNTIF($C$3:C35,Keywords!$C$4:$C$103),0)),"")}
B37: =IFERROR(INDEX(Keywords!$B$4:$B$103,MATCH(C37,Keywords!$C$4:$C$103,0)),"") | C37: {=IFERROR(INDEX(Keywords!$C$4:$C$103,MATCH(0,COUNTIF($C$3:C36,Keywords!$C$4:$C$103),0)),"")}
B38: =IFERROR(INDEX(Keywords!$B$4:$B$103,MATCH(C38,Keywords!$C$4:$C$103,0)),"") | C38: {=IFERROR(INDEX(Keywords!$C$4:$C$103,MATCH(0,COUNTIF($C$3:C37,Keywords!$C$4:$C$103),0)),"")}
B39: =IFERROR(INDEX(Keywords!$B$4:$B$103,MATCH(C39,Keywords!$C$4:$C$103,0)),"") | C39: {=IFERROR(INDEX(Keywords!$C$4:$C$103,MATCH(0,COUNTIF($C$3:C38,Keywords!$C$4:$C$103),0)),"")}
B40: =IFERROR(INDEX(Keywords!$B$4:$B$103,MATCH(C40,Keywords!$C$4:$C$103,0)),"") | C40: {=IFERROR(INDEX(Keywords!$C$4:$C$103,MATCH(0,COUNTIF($C$3:C39,Keywords!$C$4:$C$103),0)),"")}
... B53: =IFERROR(INDEX(Keywords!$B$4:$B$103,MATCH(C53,Keywords!$C$4:$C$103,0)),"") | C53: {=IFERROR(INDEX(Keywords!$C$4:$C$103,MATCH(0,COUNTIF($C$3:C52,Keywords!$C$4:$C$103),0)),"")}

Sheet Ads & Sitelinks
B2: Fill in your sitelinks below. The top ad is just to show what the ad will look like when it is live with sitelinks. The numbers show the character count and will turn red if you exceed the limit.
B4: Title | C4: =C23 -> Amy's Flowers
B5: Display URL | C5: =C24 -> www.amys-flowers.com.au/online
B6: Ad Text | C6: =CONCATENATE(C25,E20,C26) -> Place an Order Online. Get Free Delivery on Orders Over $30!
B8: Sitelink Link Text | C8: Roses | D8: =LEN(C8) -> 5 | F8: =LEN(E8) -> 0
B9: URL (won't be seen) | C9: www. amys-flowers.com.au/roses
B10: Line 1 | C10: Red Roses by the Dozen. | D10: =LEN(C10) -> 23 | F10: =LEN(E10) -> 0
B11: Line 2 | C11: Place an Order Now! | D11: =LEN(C11) -> 19 | F11: =LEN(E11) -> 0
B13: Sitelink Link Text | D13: =LEN(C13) -> 0 | F13: =LEN(E13) -> 0
B14: URL (won't be seen)
B15: Line 1 | D15: =LEN(C15) -> 0 | F15: =LEN(E15) -> 0
B16: Line 2 | D16: =LEN(C16) -> 0 | F16: =LEN(E16) -> 0
B19: Write your ads below (replace the example). The numbers after each box show the character count, and will turn red if you exceed the limit.
B21: Campaign | C21: Amy's Flowers - QLD
B22: Ad Group | C22: Online Ordering
B23: Title | C23: Amy's Flowers | D23: =LEN(C23) -> 13 | F23: =LEN(E23) -> 0 | H23: =LEN(G23) -> 0 | J23: =LEN(I23) -> 0 | L23: =LEN(K23) -> 0
B24: Display URL | C24: www.amys-flowers.com.au/online | D24: =LEN(C24) -> 30 | F24: =LEN(E24) -> 0 | H24: =LEN(G24) -> 0 | J24: =LEN(I24) -> 0 | L24: =LEN(K24) -> 0
B25: Line 1 | C25: Place an Order Online. Get Free | D25: =LEN(C25) -> 31 | F25: =LEN(E25) -> 0 | H25: =LEN(G25) -> 0 | J25: =LEN(I25) -> 0 | L25: =LEN(K25) -> 0
B26: Line 2 | C26: Delivery on Orders Over $30! | D26: =LEN(C26) -> 28 | F26: =LEN(E26) -> 0 | H26: =LEN(G26) -> 0 | J26: =LEN(I26) -> 0 | L26: =LEN(K26) -> 0
B27: Destination URL (won't be seen) | C27: www.amys-flowers.com.au/online/order-form
B30: Campaign
B31: Ad Group
B32: Title | D32: =LEN(C32) -> 0 | F32: 0 | H32: 0 | J32: 0 | L32: 0
B33: Display URL | D33: =LEN(C33) -> 0 | F33: 0 | H33: 0 | J33: 0 | L33: 0
B34: Line 1 | D34: =LEN(C34) -> 0 | F34: 0 | H34: 0 | J34: 0 | L34: 0
B35: Line 2 | D35: =LEN(C35) -> 0 | F35: 0 | H35: 0 | J35: 0 | L35: 0
B36: Destination URL (won't be seen)
B39: Campaign
B40: Ad Group
B41: Title | D41: 0 | F41: 0 | H41: 0 | J41: 0 | L41: 0
B42: Display URL | D42: 0 | F42: 0 | H42: 0 | J42: 0 | L42: 0
B43: Line 1 | D43: 0 | F43: 0 | H43: 0 | J43: 0 | L43: 0
B44: Line 2 | D44: 0 | F44: 0 | H44: 0 | J44: 0 | L44: 0
B45: Destination URL (won't be seen)
G46: =#REF! -> #REF! | I46: =#REF! -> #REF! | K46: =#REF! -> #REF!

Sheet Ads
A1: Campaign | B1: Ad group | C1: Headline 1 (30 characters max.) | D1: Length | E1: Headline 2 (30 characters max.) | F1: Length | G1: Headline 3 (30 characters max.) | H1: Length | I1: Description 1 (90 characters max.) | J1: Length | K1: Description 2 (90 characters max.) | L1: Length | M1: URL path 1 (15 char.) | N1: Length | O1: URL pathway 2 (15 char. | P1: Length | Q1: Destination URL
A2: HCQ engagement | B2: HCQ work | C2: Learn about my health record | D2: =LEN(C2) -> 28 | E2: View my health record | F2: =LEN(E2) -> 21 | G2: Opt out of your health record? | H2: =LEN(G2) -> 30 | I2: Get the latest information about your health record | J2: =LEN(I2) -> 51 | K2: Acess your health record in one click and manage your health | L2: =LEN(K2) -> 60 | M2: HCQ | N2: =LEN(M2) -> 3 | O2: Our Work | P2: =LEN(O2) -> 8 | Q2: http://www.hcq.org.au/our-work/my-health-record/
A3: HCQ engagement | B3: {=IFERROR(INDEX(Keywords!$C$4:$C$103,MATCH(0,COUNTIF(B2:$C$3,Keywords!$C$4:$C$103),0)),"")} -> Research | C3: What is youth mental health? | D3: =LEN(C3) -> 28 | E3: Queensland youth mental health | F3: =LEN(E3) -> 30 | G3: Youth mental health reform | H3: =LEN(G3) -> 26 | I3: Get all information regarding youth mental health in Queensland. | J3: =LEN(I3) -> 64 | K3: Understand the new youth mental health reform in Queensland | L3: =LEN(K3) -> 59 | M3: HCQ | N3: =LEN(M3) -> 3 | O3: Our Work | P3: =LEN(O3) -> 8 | Q3: http://www.hcq.org.au/our-work/barrett-inquiry/
A4: HCQ engagement | B4: {=IFERROR(INDEX(Keywords!$C$4:$C$103,MATCH(0,COUNTIF(B$3:$C3,Keywords!$C$4:$C$103),0)),"")} -> Advocacy | C4: what is patient centered care? | D4: =LEN(C4) -> 30 | E4: What is patient wellbeing | F4: =LEN(E4) -> 25 | G4: Policies on patient wellbeing | H4: =LEN(G4) -> 29 | I4: Understand everything about patient centered care | J4: =LEN(I4) -> 49 | K4: Get know the health policies regarding patient wellbeing | L4: =LEN(K4) -> 56 | M4: HCQ | N4: =LEN(M4) -> 3 | O4: Our Work | P4: =LEN(O4) -> 8 | Q4: http://www.hcq.org.au/our-work/definitions/
A5: Training | B5: {=IFERROR(INDEX(Keywords!$C$4:$C$103,MATCH(0,COUNTIF(B$3:$C4,Keywords!$C$4:$C$103),0)),"")} -> Customer training | C5: Management of chronic diseases | D5: =LEN(C5) -> 30 | E5: Infection control | F5: =LEN(E5) -> 17 | G5: Patient care assistance | H5: =LEN(G5) -> 23 | I5: Learn how to manage your chronic disease | J5: =LEN(I5) -> 40 | K5: Learn how we can assist you when sick | L5: =LEN(K5) -> 37 | M5: HCQ | N5: =LEN(M5) -> 3 | O5: For Consumers | P5: =LEN(O5) -> 13 | Q5: http://www.hcq.org.au/for-consumer-representatives/training/
A6: Training | B6: {=IFERROR(INDEX(Keywords!$C$4:$C$103,MATCH(0,COUNTIF(B$3:$C5,Keywords!$C$4:$C$103),0)),"")} -> Carer training | C6: Enroll for a medical course | D6: =LEN(C6) -> 27 | E6: Learn clinical coding here | F6: =LEN(E6) -> 26 | G6: Become a home care nurse | H6: =LEN(G6) -> 24 | I6: Enroll in one of our short medical courses and develop your medical career | J6: =LEN(I6) -> 74 | K6: Study with us and become an expert in clinical coding | L6: =LEN(K6) -> 53 | M6: HCQ | N6: =LEN(M6) -> 3 | O6: For Providers | P6: =LEN(O6) -> 13 | Q6: http://www.hcq.org.au/for-health-providers/training/
A7: Training | B7: {=IFERROR(INDEX(Keywords!$C$4:$C$103,MATCH(0,COUNTIF(B$3:$C6,Keywords!$C$4:$C$103),0)),"")} -> Skill building | C7: Get to learn ehealth | D7: =LEN(C7) -> 20 | E7: About emotional intelligence | F7: =LEN(E7) -> 28 | G7: Understand HER | H7: =LEN(G7) -> 14 | I7: Learn how to use ehealth to improve care | J7: =LEN(I7) -> 40 | K7: Learn how to become an emotionally intelligent carer. | L7: =LEN(K7) -> 53 | M7: HCQ | N7: =LEN(M7) -> 3 | O7: For Consumers | P7: =LEN(O7) -> 13 | Q7: http://www.hcq.org.au/for-consumer-representatives/training/
A8: Community | B8: {=IFERROR(INDEX(Keywords!$C$4:$C$103,MATCH(0,COUNTIF(B$3:$C7,Keywords!$C$4:$C$103),0)),"")} -> Communityy health | C8: Improving health in Queensland | D8: =LEN(C8) -> 30 | E8: Community health services | F8: =LEN(E8) -> 25 | G8: Making the community healthier | H8: =LEN(G8) -> 30 | I8: How we help improve health in Queensland | J8: =LEN(I8) -> 40 | K8: Queensland community health support | L8: =LEN(K8) -> 35 | M8: HCQ | N8: =LEN(M8) -> 3 | O8: Our Work | P8: =LEN(O8) -> 8 | Q8: http://www.hcq.org.au/our-work/framework/
A9: Community | B9: {=IFERROR(INDEX(Keywords!$C$4:$C$103,MATCH(0,COUNTIF(B$3:$C8,Keywords!$C$4:$C$103),0)),"")} -> Community engagement | C9: Community engagement framework | D9: =LEN(C9) -> 30 | E9: Health consumers collaborative | F9: =LEN(E9) -> 30 | G9: Health consumers engagement | H9: =LEN(G9) -> 27 | I9: Learn about our community engagement framework | J9: =LEN(I9) -> 46 | K9: How can you benefit from hospital and health services consumer engagement | L9: =LEN(K9) -> 73 | M9: HCQ | N9: =LEN(M9) -> 3 | O9: Our Work | P9: =LEN(O9) -> 8 | Q9: http://www.hcq.org.au/our-work/framework/
A10: Support | B10: {=IFERROR(INDEX(Keywords!$C$4:$C$103,MATCH(0,COUNTIF(B$3:$C9,Keywords!$C$4:$C$103),0)),"")} -> Patient support | C10: All cancer support groups | D10: =LEN(C10) -> 25 | E10: Cancer support for families | F10: =LEN(E10) -> 27 | G10: Quality care for you | H10: =LEN(G10) -> 20 | I10: Get to know the available support groups for cancer and other diseases | J10: =LEN(I10) -> 70 | K10: How we can help improve your care while in hospital | L10: =LEN(K10) -> 51 | M10: HCQ | N10: =LEN(M10) -> 3 | O10: For Consumers | P10: =LEN(O10) -> 13 | Q10: http://www.hcq.org.au/for-consumer-representatives/resources/
A11: Support | B11: {=IFERROR(INDEX(Keywords!$C$4:$C$103,MATCH(0,COUNTIF(B$3:$C10,Keywords!$C$4:$C$103),0)),"")} -> Carer support | C11: How we can help you | D11: =LEN(C11) -> 19 | E11: Consumer advisory groups | F11: =LEN(E11) -> 24 | G11: Resources for providers | H11: =LEN(G11) -> 23 | I11: Why Health Consumers Queensland? | J11: =LEN(I11) -> 32 | K11: Access resources that can assist you to provide care to your consumers | L11: =LEN(K11) -> 70 | M11: HCQ | N11: =LEN(M11) -> 3 | O11: For Providers | P11: =LEN(O11) -> 13 | Q11: http://www.hcq.org.au/for-health-providers/how-we-can-help-you/
A12: HCQ for Health consumers and Carers | B12: {=IFERROR(INDEX(Keywords!$C$4:$C$103,MATCH(0,COUNTIF(B$3:$C11,Keywords!$C$4:$C$103),0)),"")} -> Health Consumer rights | C12: Health Consumer rights | D12: =LEN(C12) -> 22 | E12: Being involved in your care | F12: =LEN(E12) -> 27 | G12: Advice and support | H12: =LEN(G12) -> 18 | I12: Australian Charter of Healthcare rights | J12: =LEN(I12) -> 39 | K12: Learn how your can partner with your doctor and be involved in your care | L12: =LEN(K12) -> 72 | M12: HCQ | N12: =LEN(M12) -> 3 | O12: Consumer rights | P12: =LEN(O12) -> 15 | Q12: http://www.hcq.org.au/for-health-consumers-carers/health-consumer-rights/
D13: =LEN(C13) -> 0 | F13: =LEN(E13) -> 0 | H13: =LEN(G13) -> 0 | J13: =LEN(I13) -> 0 | L13: =LEN(K13) -> 0 | N13: =LEN(M13) -> 0 | P13: =LEN(O13) -> 0
D14: =LEN(C14) -> 0 | F14: =LEN(E14) -> 0 | H14: =LEN(G14) -> 0 | J14: =LEN(I14) -> 0 | L14: =LEN(K14) -> 0 | N14: =LEN(M14) -> 0 | P14: =LEN(O14) -> 0
D15: =LEN(C15) -> 0 | F15: =LEN(E15) -> 0 | H15: =LEN(G15) -> 0 | J15: =LEN(I15) -> 0 | L15: =LEN(K15) -> 0 | N15: =LEN(M15) -> 0 | P15: =LEN(O15) -> 0
D16: =LEN(C16) -> 0 | F16: =LEN(E16) -> 0 | H16: =LEN(G16) -> 0 | J16: =LEN(I16) -> 0 | L16: =LEN(K16) -> 0 | N16: =LEN(M16) -> 0 | P16: =LEN(O16) -> 0
D17: =LEN(C17) -> 0 | F17: =LEN(E17) -> 0 | H17: =LEN(G17) -> 0 | J17: =LEN(I17) -> 0 | L17: =LEN(K17) -> 0 | N17: =LEN(M17) -> 0 | P17: =LEN(O17) -> 0
D18: =LEN(C18) -> 0 | F18: =LEN(E18) -> 0 | H18: =LEN(G18) -> 0 | J18: =LEN(I18) -> 0 | L18: =LEN(K18) -> 0 | N18: =LEN(M18) -> 0 | P18: =LEN(O18) -> 0
D19: =LEN(C19) -> 0 | F19: =LEN(E19) -> 0 | H19: =LEN(G19) -> 0 | J19: =LEN(I19) -> 0 | L19: =LEN(K19) -> 0 | N19: =LEN(M19) -> 0 | P19: =LEN(O19) -> 0
D20: =LEN(C20) -> 0 | F20: =LEN(E20) -> 0 | H20: =LEN(G20) -> 0 | J20: =LEN(I20) -> 0 | L20: =LEN(K20) -> 0 | N20: =LEN(M20) -> 0 | P20: =LEN(O20) -> 0
D21: =LEN(C21) -> 0 | F21: =LEN(E21) -> 0 | H21: =LEN(G21) -> 0 | J21: =LEN(I21) -> 0 | L21: =LEN(K21) -> 0 | N21: =LEN(M21) -> 0 | P21: =LEN(O21) -> 0
D22: =LEN(C22) -> 0 | F22: =LEN(E22) -> 0 | H22: =LEN(G22) -> 0 | J22: =LEN(I22) -> 0 | L22: =LEN(K22) -> 0 | N22: =LEN(M22) -> 0 | P22: =LEN(O22) -> 0
D23: =LEN(C23) -> 0 | F23: =LEN(E23) -> 0 | H23: =LEN(G23) -> 0 | J23: =LEN(I23) -> 0 | L23: =LEN(K23) -> 0 | N23: =LEN(M23) -> 0 | P23: =LEN(O23) -> 0
D24: =LEN(C24) -> 0 | F24: =LEN(E24) -> 0 | H24: =LEN(G24) -> 0 | J24: =LEN(I24) -> 0 | L24: =LEN(K24) -> 0 | N24: =LEN(M24) -> 0 | P24: =LEN(O24) -> 0
... D64: =LEN(C64) -> 0 | F64: =LEN(E64) -> 0 | H64: =LEN(G64) -> 0 | J64: =LEN(I64) -> 0 | L64: =LEN(K64) -> 0 | N64: =LEN(M64) -> 0 | P64: =LEN(O64) -> 0

Sheet Sitelinks
A1: ACCOUNT SITELINKS
B2: You will need to write four (4) sitelinks, which should show off different elements of the client's site and product range. If the "LEN" column goes red, your text is too long. | F2: You will also need to make sure your sitelinks meet Google's editorial standards for SEM ads. For details, check the guide, or click here to go there directly.
B3: Link Text | C3: LEN | D3: Description Line 1 | E3: LEN | F3: Description Line 2 | G3: LEN | H3: Destination URL
B4: Maximum of 25 Characters | D4: Maximum of 35 Characters | F4: Maximum of 35 Characters | H4: Sitelink Landing Page
B5: Resources | C5: =LEN(B5) -> 9 | D5: Here are some useful resources for | E5: =LEN(D5) -> 34 | F5: consumers and carers in the ... | G5: =LEN(F5) -> 31 | H5: http://www.hcq.org.au/for-consumer-representatives/resources/
B6: Consumer opportunities | C6: =LEN(B6) -> 22 | D6: Consumer Opportunities. Friday, 6 | E6: =LEN(D6) -> 33 | F6: September 2019. Telehealth ... | G6: =LEN(F6) -> 30 | H6: http://www.hcq.org.au/for-consumer-representatives/consumer-opportunities/
B7: For Consumers | C7: =LEN(B7) -> 13 | D7: We support health consumers and | E7: =LEN(D7) -> 31 | F7: carers to be an effective voice in | G7: =LEN(F7) -> 34 | H7: http://www.hcq.org.au/for-consumer-representatives/
B8: About Us | C8: =LEN(B8) -> 8 | D8: Health Consumers Queensland is | E8: =LEN(D8) -> 30 | F8: the peak organisation ... | G8: =LEN(F8) -> 25 | H8: http://www.hcq.org.au/about-us/
