Workbook

Sheet Amazon
A1: Amazon Stock Historical Prices
A2: Date | B2: Open | C2: Close | D2: Holding Period Return
A3: 39448 | B3: 95.349998 | C3: 77.699997 | D3: =(C3/B3)-1 -> -0.18510751
A4: 39479 | B4: 79.019997 | C4: 64.470001 | D4: =(C4/B4)-1 -> -0.18413056
A5: 39508 | B5: 63.59 | C5: 71.300003 | D5: =(C5/B5)-1 -> 0.12124553
A6: 39539 | B6: 72.989998 | C6: 78.629997 | D6: =(C6/B6)-1 -> 0.077270847
A7: 39569 | B7: 78.400002 | C7: 81.620003 | D7: =(C7/B7)-1 -> 0.04107144
A8: 39600 | B8: 81.150002 | C8: 73.330002 | D8: =(C8/B8)-1 -> -0.096364754
A9: 39630 | B9: 72.239998 | C9: 76.339996 | D9: =(C9/B9)-1 -> 0.056755234
A10: 39661 | B10: 76.360001 | C10: 80.809998 | D10: =(C10/B10)-1 -> 0.058276545
A11: 39692 | B11: 83.160004 | C11: 72.760002 | D11: =(C11/B11)-1 -> -0.12506014
A12: 39722 | B12: 71.779999 | C12: 57.240002 | D12: =(C12/B12)-1 -> -0.20256335
A13: 39753 | B13: 56.349998 | C13: 42.700001 | D13: =(C13/B13)-1 -> -0.24223598
A14: 39783 | B14: 42 | C14: 51.279999 | D14: =(C14/B14)-1 -> 0.22095236
... A122: 43070 | B122: 1172.05 | C122: 1169.47 | D122: =(C122/B122)-1 -> -0.0022013377

Sheet S&P
A1: S&P Stock Historical Prices
A2: Date | B2: Open | C2: Close | D2: Holding Period Return
A3: 39448 | B3: 1467.97 | C3: 1378.55 | D3: =(C3/B3)-1 -> -0.060913999
A4: 39479 | B4: 1378.6 | C4: 1330.63 | D4: =(C4/B4)-1 -> -0.03479615
A5: 39508 | B5: 1330.45 | C5: 1322.7 | D5: =(C5/B5)-1 -> -0.005825097
A6: 39539 | B6: 1326.41 | C6: 1385.59 | D6: =(C6/B6)-1 -> 0.04461662
A7: 39569 | B7: 1385.97 | C7: 1400.38 | D7: =(C7/B7)-1 -> 0.010397075
A8: 39600 | B8: 1399.62 | C8: 1280 | D8: =(C8/B8)-1 -> -0.085466052
A9: 39630 | B9: 1276.6899 | C9: 1267.38 | D9: =(C9/B9)-1 -> -0.0072922451
A10: 39661 | B10: 1269.42 | C10: 1282.83 | D10: =(C10/B10)-1 -> 0.01056381
A11: 39692 | B11: 1287.83 | C11: 1166.36 | D11: =(C11/B11)-1 -> -0.094321436
A12: 39722 | B12: 1164.17 | C12: 968.75 | D12: =(C12/B12)-1 -> -0.16786211
A13: 39753 | B13: 968.66998 | C13: 896.23999 | D13: =(C13/B13)-1 -> -0.07477262
A14: 39783 | B14: 888.60999 | C14: 903.25 | D14: =(C14/B14)-1 -> 0.016475186
... A122: 43070 | B122: 2645.1001 | C122: 2673.6101 | D122: =(C122/B122)-1 -> 0.010778423

Sheet Beta
A1: X variable | B1: Y variable
A2: S&P Holding Period Return | B2: Amazon's Holding Period Return
A3: ='S&P'!D3 -> -0.060913999 | B3: =Amazon!D3 -> -0.18510751
A4: ='S&P'!D4 -> -0.03479615 | B4: =Amazon!D4 -> -0.18413056
A5: ='S&P'!D5 -> -0.005825097 | B5: =Amazon!D5 -> 0.12124553
A6: ='S&P'!D6 -> 0.04461662 | B6: =Amazon!D6 -> 0.077270847
A7: ='S&P'!D7 -> 0.010397075 | B7: =Amazon!D7 -> 0.04107144
A8: ='S&P'!D8 -> -0.085466052 | B8: =Amazon!D8 -> -0.096364754
A9: ='S&P'!D9 -> -0.0072922451 | B9: =Amazon!D9 -> 0.056755234
A10: ='S&P'!D10 -> 0.01056381 | B10: =Amazon!D10 -> 0.058276545
A11: ='S&P'!D11 -> -0.094321436 | B11: =Amazon!D11 -> -0.12506014
A12: ='S&P'!D12 -> -0.16786211 | B12: =Amazon!D12 -> -0.20256335
A13: ='S&P'!D13 -> -0.07477262 | B13: =Amazon!D13 -> -0.24223598
A14: ='S&P'!D14 -> 0.016475186 | B14: =Amazon!D14 -> 0.22095236
... A122: ='S&P'!D122 -> 0.010778423 | B122: =Amazon!D122 -> -0.0022013377
A125: Beta is the slope of the above variables calculated as follows
A126: Beta = | B126: =SLOPE(B3:B122,A3:A122) -> 1.0296147

Sheet Regression Summary
A1: SUMMARY OUTPUT
A3: Regression Statistics
A4: Multiple R | B4: 0.46862784
A5: R Square | B5: 0.21961205
A6: Adjusted R Square | B6: 0.21294207
A7: Standard Error | B7: 0.080623919
A8: Observations | B8: 119
A10: ANOVA
B11: df | C11: SS | D11: MS | E11: F | F11: Significance F
A12: Regression | B12: 1 | C12: 0.21402243 | D12: 0.21402243 | E12: 32.925432 | F12: 7.6581874e-08
A13: Residual | B13: 117 | C13: 0.7605253 | D13: 0.0065002163
A14: Total | B14: 118 | C14: 0.97454773
B16: Coefficients | C16: Standard Error | D16: t Stat | E16: P-value | F16: Lower 95% | G16: Upper 95% | H16: Lower 90.0% | I16: Upper 90.0%
A17: Intercept | B17: 0.021398679 | C17: 0.0074599703 | D17: 2.8684671 | E17: 0.0048946674 | F17: 0.006624599 | G17: 0.03617276 | H17: 0.0090301854 | I17: 0.033767173
A18: -0.060913999 | B18: 0.98638357 | C18: 0.17190167 | D18: 5.7380686 | E18: 7.6581874e-08 | F18: 0.64594132 | G18: 1.3268258 | H18: 0.70137376 | I18: 1.2713934
