Workbook
Name Days_in_year: Inputs!$L$40

Sheet Scenario
A1: Scenario
A3: John and James Harbour are brothers and co-owners of Harbour Fabrications Ltd. Each brother holds 50% of the share capital, but James would like to sell his half of the business to pursue other opportunities.
A5: The articles of association (a type of shareholders’ agreement) requires that the shares must initially be offered for sale to existing shareholders before they may be offered to other parties. The shares must be valued at ‘a reasonable price’ as determined by an independent valuation firm.
A7: The company accountant had started preparing a dividend valuation for the business based on five year projections but unfortunately was unable to finish due to personal reasons.
A9: James, who is not an accountant, has tried to complete the model but is unable to balance the Balance Sheet. He has thus asked for your help to complete the valuation model (built in Excel).
A12: Start with "Inputs" sheet to complete the models in "Workings, P&L, Balsheet, and Cashflow" Sheets

Sheet Inputs
P2: Instructions: Using this data, please complete *Corrected Model* for sheets "Workings, P&L, Balsheet, and Cashflow"
A4: INPUTS
A6: Timeline
A7: Timeline | C7: 42369 | D7: 42735 | E7: 43100 | F7: 43465 | G7: 43830
A9: Sales
A10: Jackets | B10: $ mil's | C10: 108 | D10: =C10+$C10*$L16 -> 129.6 | E10: =D10+$C10*$L16 -> 151.2 | F10: =E10+$C10*$L16 -> 172.8 | G10: =F10+$C10*$L16 -> 194.4
A11: Topsides | B11: $ mil's | C11: 98 | D11: 100 | E11: 88 | F11: 85 | G11: 90
A12: Other structures | B12: $ mil's | C12: 10 | D12: 20 | E12: 50 | F12: 60 | G12: 80
C13: =SUM(C10:C12) -> 216 | D13: =SUM(D10:D12) -> 249.6 | E13: =SUM(E10:E12) -> 289.2 | F13: =SUM(F10:F12) -> 317.8 | G13: =SUM(G10:G12) -> 364.4
A15: Cost of Sales (% of total cost) | C15: =A10 -> Jackets | D15: =A11 -> Topsides | E15: =A12 -> Other structures
A16: Material | B16: % | C16: 0.6 | D16: 0.4 | E16: 0.75 | H16: Annual growth of Jackets sales | L16: 0.2
A17: Contract labour | B17: % | C17: 0.3 | D17: 0.3 | E17: 0.25
A18: Other | B18: % | C18: 0.1 | D18: 0.3
C19: =SUM(C16:C18) -> 1 | D19: =SUM(D16:D18) -> 1 | E19: =SUM(E16:E18) -> 1
A21: Gross margins | B21: % | C21: 0.3 | D21: 0.35 | E21: 0.5
A22: Direct costs as % of sales | B22: % | C22: =100%-C21 -> 0.7 | D22: =100%-D21 -> 0.65 | E22: =100%-E21 -> 0.5
A24: Costs and overheads
A25: Employee costs | B25: $ mil's | C25: 20 | D25: 21 | E25: 33 | F25: 34 | G25: 35
A26: Marketing | B26: $ mil's | C26: 5 | D26: 5 | E26: 5 | F26: 10 | G26: 5
A27: Administration | B27: $ mil's | C27: 10 | D27: 11 | E27: 12 | F27: 13 | G27: 14
C28: =SUM(C25:C27) -> 35 | D28: =SUM(D25:D27) -> 37 | E28: =SUM(E25:E27) -> 50 | F28: =SUM(F25:F27) -> 57 | G28: =SUM(G25:G27) -> 54
A30: Opening balance sheet | B30: $ mil's | H30: Taxation
B31: NBV | C31: Cost | D31: Dep'n | H31: Corporation tax rate | K31: % | L31: 0.2
A32: Land | B32: =C32+D32 -> 80 | C32: 80 | D32: 0
A33: Crawler cranes | B33: =C33+D33 -> 46 | C33: 60 | D33: -14 | H33: Interest
A34: Equipment | B34: =C34+D34 -> 30 | C34: 40 | D34: -10 | H34: On cash balance | K34: % | L34: 0.015
A35: IT | B35: =C35+D35 -> 8 | C35: 12 | D35: -4
A36: Total fixed assets | B36: =SUM(B32:B35) -> 164 | C36: =SUM(C32:C35) -> 192 | D36: =SUM(D32:D35) -> -28 | H36: Working capital
H37: Inventory days | K37: days | L37: 30
A38: Inventory | B38: 6 | H38: Accounts receivable days | K38: days | L38: 60
A39: Accounts receivable (debtors) | B39: 26 | H39: Accounts payable days | K39: days | L39: 45
A40: Cash | B40: 5 | H40: Days in year | K40: days | L40: 365
B41: =SUM(B38:B40) -> 37 | H41: Minimum cash balance | K41: $ mil's | L41: 5
A42: Accounts payables (creditors) | B42: 8
A43: Corporation tax | B43: 5 | H43: Safety inspection provision
A44: Accruals | B44: 4 | H44: % of current year sales | K44: % | L44: 0.25
A45: Inspection provision | B45: 42
B46: =SUM(B42:B45) -> 59 | H46: Depreciation (straight line)
H47: =A32 -> Land | K47: % | L47: 0.04
A48: Total net assets | B48: =B36+B41-B46 -> 142 | H48: =A33 -> Crawler cranes | K48: % | L48: 0.25
...

Sheet Workings
A1: =Inputs!A1 -> 0
A2: =Inputs!A2 -> 0 | L2: ***Corrected Model***
A5: WORKINGS | B5: op. bal. | C5: =Inputs!C7 -> 42369 | D5: =Inputs!D7 -> 42735 | E5: =Inputs!E7 -> 43100 | F5: =Inputs!F7 -> 43465 | G5: =Inputs!G7 -> 43830 | H5: Notes | J5: op. bal. | K5: 42369 | L5: 42735 | M5: 43100 | N5: 43465 | O5: 43830 | T5: Instructions
B6: $ mil's | J6: $ mil's | T6: *Please use "Inputs and P&L" sheet to complete "workings" sheet
A7: Depreciation | T7: *Please make sure to link the model so I can follow the formulas
A8: =Inputs!A32 -> Land | C8: =Inputs!$C32*Inputs!$L47 -> 3.2 | D8: =Inputs!$C32*Inputs!$L47 -> 3.2 | E8: =Inputs!$C32*Inputs!$L47 -> 3.2 | F8: =Inputs!$C32*Inputs!$L47 -> 3.2 | G8: =Inputs!$C32*Inputs!$L47 -> 3.2 | H8: Example: this is incorrect as Land does not depreciate | T8: *Please make sure to correct any incorrect formula in *Corrected Model*
A9: =Inputs!A33 -> Crawler cranes | C9: =Inputs!$C33*Inputs!$L48 -> 15 | D9: =Inputs!$C33*Inputs!$L48 -> 15 | E9: =Inputs!$C33*Inputs!$L48 -> 15 | F9: =Inputs!$C33*Inputs!$L48 -> 15 | G9: =Inputs!$C33*Inputs!$L48 -> 15 | T9: *Please make sure to Note what was the error in the Erroneous Model, see examples
A10: =Inputs!A34 -> Equipment | C10: =Inputs!$C34*Inputs!$L49 -> 4 | D10: =Inputs!$C34*Inputs!$L49 -> 4 | E10: =Inputs!$C34*Inputs!$L49 -> 4 | F10: =Inputs!$C34*Inputs!$L49 -> 4 | G10: =Inputs!$C34*Inputs!$L49 -> 4
A11: =Inputs!A35 -> IT | C11: =Inputs!$C35*Inputs!$L50 -> 0.6 | D11: =Inputs!$C35*Inputs!$L50 -> 0.6 | E11: =Inputs!$C35*Inputs!$L50 -> 0.6 | F11: =Inputs!$C35*Inputs!$L50 -> 0.6 | G11: =Inputs!$C35*Inputs!$L50 -> 0.6
C12: =SUM(C8:C11) -> 22.8 | D12: =SUM(D8:D11) -> 22.8 | E12: =SUM(E8:E11) -> 22.8 | F12: =SUM(F8:F11) -> 22.8 | G12: =SUM(G8:G11) -> 22.8 | K12: =SUM(K8:K11) -> 0 | L12: =SUM(L8:L11) -> 0 | M12: =SUM(M8:M11) -> 0 | N12: =SUM(N8:N11) -> 0 | O12: =SUM(O8:O11) -> 0
A13: Net book value
A14: =A8 -> Land | B14: =Inputs!B32 -> 80 | C14: =B14-C8 -> 76.8 | D14: =C14-D8 -> 73.6 | E14: =D14-E8 -> 70.4 | F14: =E14-F8 -> 67.2 | G14: =F14-G8 -> 64 | J14: =Inputs!B32 -> 80
A15: =A9 -> Crawler cranes | B15: =Inputs!B33 -> 46 | C15: =B15-C9 -> 31 | D15: =C15-D9 -> 16 | E15: =D15-E9 -> 1 | F15: =E15-F9 -> -14 | G15: =F15-G9 -> -29 | J15: =Inputs!B33 -> 46
A16: =A10 -> Equipment | B16: =Inputs!B34 -> 30 | C16: =B16-C10 -> 26 | D16: =C16-D10 -> 22 | E16: =D16-E10 -> 18 | F16: =E16-F10 -> 14 | G16: =F16-G10 -> 10 | J16: =Inputs!B34 -> 30
A17: =A11 -> IT | B17: =Inputs!B35 -> 8 | C17: =B17-C11 -> 7.4 | D17: =C17-D11 -> 6.8 | E17: =D17-E11 -> 6.2 | F17: =E17-F11 -> 5.6 | G17: =F17-G11 -> 5 | J17: =Inputs!B35 -> 8
B18: =SUM(B14:B17) -> 164 | C18: =SUM(C14:C17) -> 141.2 | D18: =SUM(D14:D17) -> 118.4 | E18: =SUM(E14:E17) -> 95.6 | F18: =SUM(F14:F17) -> 72.8 | G18: =SUM(G14:G17) -> 50 | J18: =SUM(B14:B17) -> 164 | K18: =SUM(K14:K17) -> 0 | L18: =SUM(L14:L17) -> 0 | M18: =SUM(M14:M17) -> 0 | N18: =SUM(N14:N17) -> 0 | O18: =SUM(O14:O17) -> 0
A19: Working capital
A20: =Inputs!A38 -> Inventory | C20: ='P&L'!C15*Inputs!$L37/Inputs!$L40 -> 11.860274 | D20: ='P&L'!D15*Inputs!$L37/Inputs!$L40 -> 13.620822 | E20: ='P&L'!E15*Inputs!$L37/Inputs!$L40 -> 15.455342 | F20: ='P&L'!F15*Inputs!$L37/Inputs!$L40 -> 16.948767 | G20: ='P&L'!G15*Inputs!$L37/Inputs!$L40 -> 19.280548
A21: =Inputs!A39 -> Accounts receivable (debtors) | C21: ='P&L'!C10*Inputs!$L38/Inputs!$L40 -> 35.506849 | D21: ='P&L'!D10*Inputs!$L38/Inputs!$L40 -> 41.030137 | E21: ='P&L'!E10*Inputs!$L38/Inputs!$L40 -> 47.539726 | F21: ='P&L'!F10*Inputs!$L38/Inputs!$L40 -> 52.241096 | G21: ='P&L'!G10*Inputs!$L38/Inputs!$L40 -> 59.90137
A22: =Inputs!A42 -> Accounts payables (creditors) | C22: ='P&L'!C10*Inputs!$L39/Inputs!$L40 -> 26.630137 | D22: ='P&L'!D10*Inputs!$L39/Inputs!$L40 -> 30.772603 | E22: ='P&L'!E10*Inputs!$L39/Inputs!$L40 -> 35.654795 | F22: ='P&L'!F10*Inputs!$L39/Inputs!$L40 -> 39.180822 | G22: ='P&L'!G10*Inputs!$L39/Inputs!$L40 -> 44.926027
A24: Provision for safety inspection
A25: Balance b/f | C25: =B27 -> 42 | D25: =C27 -> 54 | E25: =D27 -> 62.4 | F25: =E27 -> 72.3 | G25: =F27 -> 79.45
A26: Charge to P & L | C26: =C27-C25 -> 12 | D26: =D27-D25 -> 8.4 | E26: =E27-E25 -> 9.9 | F26: =F27-F25 -> 7.15 | G26: =G27-G25 -> 11.65 | K26: =K27-K25 -> 0 | L26: =L27-L25 -> 0 | M26: =M27-M25 -> 0 | N26: =N27-N25 -> 0 | O26: =O27-O25 -> 0
A27: Balance c/f | B27: =Inputs!B45 -> 42 | C27: ='P&L'!C10*Inputs!$L44 -> 54 | D27: ='P&L'!D10*Inputs!$L44 -> 62.4 | E27: ='P&L'!E10*Inputs!$L44 -> 72.3 | F27: ='P&L'!F10*Inputs!$L44 -> 79.45 | G27: ='P&L'!G10*Inputs!$L44 -> 91.1 | J27: =Inputs!B45 -> 42

Sheet P&L
A1: =Inputs!A1 -> 0
A2: =Inputs!A2 -> 0 | L2: ***Corrected Model***
C3: Erroneous Model | S3: Instructions
A4: PROFIT AND LOSS A/C | B4: $ mil's | C4: =Inputs!C7 -> 42369 | D4: =Inputs!D7 -> 42735 | E4: =Inputs!E7 -> 43100 | F4: =Inputs!F7 -> 43465 | G4: =Inputs!G7 -> 43830 | H4: Notes | J4: $ mil's | K4: 42369 | L4: 42735 | M4: 43100 | N4: 43465 | O4: 43830 | S4: *Use "Inputs and Workings" sheets to complete P&L
S5: *Please make sure to link the model so I can follow the formulas
A6: Sales | S6: *Please make sure to correct any incorrect formula in *Corrected Model*
A7: =Inputs!A10 -> Jackets | C7: =Inputs!C10 -> 108 | D7: =Inputs!D10 -> 129.6 | E7: =Inputs!E10 -> 151.2 | F7: =Inputs!F10 -> 172.8 | G7: =Inputs!G10 -> 194.4 | S7: *Please make sure to Note what was the error in the Erroneous Model
A8: =Inputs!A11 -> Topsides | C8: =Inputs!C11 -> 98 | D8: =Inputs!D11 -> 100 | E8: =Inputs!E11 -> 88 | F8: =Inputs!F11 -> 85 | G8: =Inputs!G11 -> 90
A9: =Inputs!A12 -> Other structures | C9: =Inputs!C12 -> 10 | D9: =Inputs!D12 -> 20 | E9: =Inputs!E12 -> 50 | F9: =Inputs!F12 -> 60 | G9: =Inputs!G12 -> 80
C10: =SUM(C7:C9) -> 216 | D10: =SUM(D7:D9) -> 249.6 | E10: =SUM(E7:E9) -> 289.2 | F10: =SUM(F7:F9) -> 317.8 | G10: =SUM(G7:G9) -> 364.4 | K10: =SUM(K7:K9) -> 0 | L10: =SUM(L7:L9) -> 0 | M10: =SUM(M7:M9) -> 0 | N10: =SUM(N7:N9) -> 0 | O10: =SUM(O7:O9) -> 0
A11: Cost of sales
A12: =Inputs!A16 -> Material | C12: =Inputs!$C16*'P&L'!C$7*Inputs!$C$22+Inputs!$D16*'P&L'!C$8*Inputs!$D$22+Inputs!$E16*'P&L'!C$9*Inputs!$E$22 -> 74.59 | D12: =Inputs!$C16*'P&L'!D$7*Inputs!$C$22+Inputs!$D16*'P&L'!D$8*Inputs!$D$22+Inputs!$E16*'P&L'!D$9*Inputs!$E$22 -> 87.932 | E12: =Inputs!$C16*'P&L'!E$7*Inputs!$C$22+Inputs!$D16*'P&L'!E$8*Inputs!$D$22+Inputs!$E16*'P&L'!E$9*Inputs!$E$22 -> 105.134 | F12: =Inputs!$C16*'P&L'!F$7*Inputs!$C$22+Inputs!$D16*'P&L'!F$8*Inputs!$D$22+Inputs!$E16*'P&L'!F$9*Inputs!$E$22 -> 117.176 | G12: =Inputs!$C16*'P&L'!G$7*Inputs!$C$22+Inputs!$D16*'P&L'!G$8*Inputs!$D$22+Inputs!$E16*'P&L'!G$9*Inputs!$E$22 -> 135.048
A13: =Inputs!A17 -> Contract labour | C13: =Inputs!$C17*'P&L'!C$7*Inputs!$C$22+Inputs!$D17*'P&L'!C$8*Inputs!$D$22+Inputs!$E17*'P&L'!C$9*Inputs!$E$22 -> 43.04 | D13: =Inputs!$C17*'P&L'!D$7*Inputs!$C$22+Inputs!$D17*'P&L'!D$8*Inputs!$D$22+Inputs!$E17*'P&L'!D$9*Inputs!$E$22 -> 49.216 | E13: =Inputs!$C17*'P&L'!E$7*Inputs!$C$22+Inputs!$D17*'P&L'!E$8*Inputs!$D$22+Inputs!$E17*'P&L'!E$9*Inputs!$E$22 -> 55.162 | F13: =Inputs!$C17*'P&L'!F$7*Inputs!$C$22+Inputs!$D17*'P&L'!F$8*Inputs!$D$22+Inputs!$E17*'P&L'!F$9*Inputs!$E$22 -> 60.363 | G13: =Inputs!$C17*'P&L'!G$7*Inputs!$C$22+Inputs!$D17*'P&L'!G$8*Inputs!$D$22+Inputs!$E17*'P&L'!G$9*Inputs!$E$22 -> 68.374
A14: =Inputs!A18 -> Other | C14: =Inputs!$C18*'P&L'!C$7*Inputs!$C$22+Inputs!$D18*'P&L'!C$8*Inputs!$D$22+Inputs!$E18*'P&L'!C$9*Inputs!$E$22 -> 26.67 | D14: =Inputs!$C18*'P&L'!D$7*Inputs!$C$22+Inputs!$D18*'P&L'!D$8*Inputs!$D$22+Inputs!$E18*'P&L'!D$9*Inputs!$E$22 -> 28.572 | E14: =Inputs!$C18*'P&L'!E$7*Inputs!$C$22+Inputs!$D18*'P&L'!E$8*Inputs!$D$22+Inputs!$E18*'P&L'!E$9*Inputs!$E$22 -> 27.744 | F14: =Inputs!$C18*'P&L'!F$7*Inputs!$C$22+Inputs!$D18*'P&L'!F$8*Inputs!$D$22+Inputs!$E18*'P&L'!F$9*Inputs!$E$22 -> 28.671 | G14: =Inputs!$C18*'P&L'!G$7*Inputs!$C$22+Inputs!$D18*'P&L'!G$8*Inputs!$D$22+Inputs!$E18*'P&L'!G$9*Inputs!$E$22 -> 31.158
C15: =SUM(C12:C14) -> 144.3 | D15: =SUM(D12:D14) -> 165.72 | E15: =SUM(E12:E14) -> 188.04 | F15: =SUM(F12:F14) -> 206.21 | G15: =SUM(G12:G14) -> 234.58 | K15: =SUM(K12:K14) -> 0 | L15: =SUM(L12:L14) -> 0 | M15: =SUM(M12:M14) -> 0 | N15: =SUM(N12:N14) -> 0 | O15: =SUM(O12:O14) -> 0
A16: Costs and overheads
A17: =Inputs!A25 -> Employee costs | C17: =Inputs!C25 -> 20 | D17: =Inputs!D25 -> 21 | E17: =Inputs!E25 -> 33 | F17: =Inputs!F25 -> 34 | G17: =Inputs!G25 -> 35
A18: Marketing | C18: =Inputs!C26 -> 5 | D18: =Inputs!D26 -> 5 | E18: =Inputs!E26 -> 5 | F18: =Inputs!F26 -> 10 | G18: =Inputs!G26 -> 5
A19: Administration | C19: =Inputs!C27 -> 10 | D19: =Inputs!D27 -> 11 | E19: =Inputs!E27 -> 12 | F19: =Inputs!F27 -> 13 | G19: =Inputs!G27 -> 14
C20: =SUM(C17:C19) -> 35 | D20: =SUM(D17:D19) -> 37 | E20: =SUM(E17:E19) -> 50 | F20: =SUM(F17:F19) -> 57 | G20: =SUM(G17:G19) -> 54 | K20: =SUM(K17:K19) -> 0 | L20: =SUM(L17:L19) -> 0 | M20: =SUM(M17:M19) -> 0 | N20: =SUM(N17:N19) -> 0 | O20: =SUM(O17:O19) -> 0
A22: Depreciation | C22: =Workings!C12 -> 22.8 | D22: =Workings!D12 -> 22.8 | E22: =Workings!E12 -> 22.8 | F22: =Workings!F12 -> 22.8 | G22: =Workings!G12 -> 22.8
A23: Provision vs. inspection | C23: =Workings!C26 -> 12 | D23: =Workings!D26 -> 8.4 | E23: =Workings!E26 -> 9.9 | F23: =Workings!F26 -> 7.15 | G23: =Workings!G26 -> 11.65
A24: Profit before interest and tax | C24: =C10-C15-C20-C22-C23 -> 1.9 | D24: =D10-D15-D20-D22-D23 -> 15.68 | E24: =E10-E15-E20-E22-E23 -> 18.46 | F24: =F10-F15-F20-F22-F23 -> 24.64 | G24: =G10-G15-G20-G22-G23 -> 41.37 | K24: =K10-K15-K20-K22-K23 -> 0 | L24: =L10-L15-L20-L22-L23 -> 0 | M24: =M10-M15-M20-M22-M23 -> 0 | N24: =N10-N15-N20-N22-N23 -> 0 | O24: =O10-O15-O20-O22-O23 -> 0
A26: Taxation | C26: =-C24*Inputs!$L$31 -> -0.38 | D26: =-D24*Inputs!$L$31 -> -3.136 | E26: =-E24*Inputs!$L$31 -> -3.692 | F26: =-F24*Inputs!$L$31 -> -4.928 | G26: =-G24*Inputs!$L$31 -> -8.274
A27: Profit after tax | C27: =SUM(C24:C26) -> 1.52 | D27: =SUM(D24:D26) -> 12.544 | E27: =SUM(E24:E26) -> 14.768 | F27: =SUM(F24:F26) -> 19.712 | G27: =SUM(G24:G26) -> 33.096 | K27: =SUM(K24:K26) -> 0 | L27: =SUM(L24:L26) -> 0 | M27: =SUM(M24:M26) -> 0 | N27: =SUM(N24:N26) -> 0 | O27: =SUM(O24:O26) -> 0
A29: Dividends | C29: =-MAX(0,Cashflow!C15) -> -27.163014 | D29: =-MAX(0,Cashflow!D15) -> -21.31863 | E29: =-MAX(0,Cashflow!E15) -> -28.034082 | F29: =-MAX(0,Cashflow!F15) -> -32.813233 | G29: =-MAX(0,Cashflow!G15) -> -53.701151
A30: Retained earnings | C30: =SUM(C27:C29) -> -25.643014 | D30: =SUM(D27:D29) -> -8.7746301 | E30: =SUM(E27:E29) -> -13.266082 | F30: =SUM(F27:F29) -> -13.101233 | G30: =SUM(G27:G29) -> -20.605151 | K30: =SUM(K27:K29) -> 0 | L30: =SUM(L27:L29) -> 0 | M30: =SUM(M27:M29) -> 0 | N30: =SUM(N27:N29) -> 0 | O30: =SUM(O27:O29) -> 0
A32: Reserves brought fwd | C32: =B33 -> -18 | D32: =C33 -> -43.643014 | E32: =D33 -> -52.417644 | F32: =E33 -> -65.683726 | G32: =F33 -> -78.784959 | K32: =J33 -> -18 | L32: =K33 -> -18 | M32: =L33 -> -18 | N32: =M33 -> -18 | O32: =N33 -> -18
A33: Reserves carried fwd | B33: =Inputs!B51 -> -18 | C33: =SUM(C30:C32) -> -43.643014 | D33: =SUM(D30:D32) -> -52.417644 | E33: =SUM(E30:E32) -> -65.683726 | F33: =SUM(F30:F32) -> -78.784959 | G33: =SUM(G30:G32) -> -99.39011 | J33: =Inputs!B51 -> -18 | K33: =SUM(K30:K32) -> -18 | L33: =SUM(L30:L32) -> -18 | M33: =SUM(M30:M32) -> -18 | N33: =SUM(N30:N32) -> -18 | O33: =SUM(O30:O32) -> -18
B34: op. bal. | J34: op. bal.
A36: Share of divi's to value | C36: =-C29*Inputs!$L$54 -> 13.581507 | D36: =-D29*Inputs!$L$54 -> 10.659315 | E36: =-E29*Inputs!$L$54 -> 14.017041 | F36: =-F29*Inputs!$L$54 -> 16.406616 | G36: =-G29*Inputs!$L$54 -> 26.850575 | K36: =-K29*Inputs!$L$54 -> 0 | L36: =-L29*Inputs!$L$54 -> 0 | M36: =-M29*Inputs!$L$54 -> 0 | N36: =-N29*Inputs!$L$54 -> 0 | O36: =-O29*Inputs!$L$54 -> 0
A38: Discount factor | B38: % | C38: =Inputs!L53 -> 0.25 | J38: % | K38: =Inputs!L53 -> 0.25
A39: Dividend valuation | B39: $ mil's | C39: =NPV(C38,C36:G36) -> 40.382439 | J39: $ mil's | K39: =NPV(K38,K36:O36) -> 0

Sheet Balsheet
A1: =Inputs!A1 -> 0
A2: =Inputs!A2 -> 0 | L2: ***Corrected Model***
C3: Erroneous Model | S3: Instructions
A4: BALANCE SHEET | B4: op. bal. | C4: =Inputs!C7 -> 42369 | D4: =Inputs!D7 -> 42735 | E4: =Inputs!E7 -> 43100 | F4: =Inputs!F7 -> 43465 | G4: =Inputs!G7 -> 43830 | H4: Notes | J4: op. bal. | K4: 42369 | L4: 42735 | M4: 43100 | N4: 43465 | O4: 43830 | S4: *Use "Inputs, Workings, P&L, Cashflow" sheets to complete Balsheet
B5: $ mil's | J5: $ mil's | S5: *Please make sure to link the model so I can follow the formulas
A6: =Inputs!A32 -> Land | B6: =Inputs!B32 -> 80 | C6: =Workings!C14 -> 76.8 | D6: =Workings!D14 -> 73.6 | E6: =Workings!E14 -> 70.4 | F6: =Workings!F14 -> 67.2 | G6: =Workings!G14 -> 64 | J6: =Inputs!B32 -> 80 | S6: *Please make sure to correct any incorrect formula in *Corrected Model*
A7: =Inputs!A33 -> Crawler cranes | B7: =Inputs!B33 -> 46 | C7: =Workings!C15 -> 31 | D7: =Workings!D15 -> 16 | E7: =Workings!E15 -> 1 | F7: =Workings!F15 -> -14 | G7: =Workings!G15 -> -29 | J7: =Inputs!B33 -> 46 | S7: *Please make sure to Note what was the error in the Erroneous Model
A8: =Inputs!A34 -> Equipment | B8: =Inputs!B34 -> 30 | C8: =Workings!C16 -> 26 | D8: =Workings!D16 -> 22 | E8: =Workings!E16 -> 18 | F8: =Workings!F16 -> 14 | G8: =Workings!G16 -> 10 | J8: =Inputs!B34 -> 30
A9: =Inputs!A35 -> IT | B9: =Inputs!B35 -> 8 | C9: =Workings!C17 -> 7.4 | D9: =Workings!D17 -> 6.8 | E9: =Workings!E17 -> 6.2 | F9: =Workings!F17 -> 5.6 | G9: =Workings!G17 -> 5 | J9: =Inputs!B35 -> 8
A10: Net book value | B10: =SUM(B6:B9) -> 164 | C10: =SUM(C6:C9) -> 141.2 | D10: =SUM(D6:D9) -> 118.4 | E10: =SUM(E6:E9) -> 95.6 | F10: =SUM(F6:F9) -> 72.8 | G10: =SUM(G6:G9) -> 50 | J10: =SUM(J6:J9) -> 164 | K10: =SUM(K6:K9) -> 0 | L10: =SUM(L6:L9) -> 0 | M10: =SUM(M6:M9) -> 0 | N10: =SUM(N6:N9) -> 0 | O10: =SUM(O6:O9) -> 0
A12: Stock | B12: =Inputs!B38 -> 6 | C12: =Workings!C20 -> 11.860274 | D12: =Workings!D20 -> 13.620822 | E12: =Workings!E20 -> 15.455342 | F12: =Workings!F20 -> 16.948767 | G12: =Workings!G20 -> 19.280548 | J12: =Inputs!B38 -> 6
A13: Debtors | B13: =Inputs!B39 -> 26 | C13: =Workings!C21 -> 35.506849 | D13: =Workings!D21 -> 41.030137 | E13: =Workings!E21 -> 47.539726 | F13: =Workings!F21 -> 52.241096 | G13: =Workings!G21 -> 59.90137 | J13: =Inputs!B39 -> 26
A14: Cash | B14: =Cashflow!B17 -> 5 | C14: =Cashflow!C17 -> 0 | D14: =Cashflow!D17 -> 0 | E14: =Cashflow!E17 -> 0 | F14: =Cashflow!F17 -> 0 | G14: =Cashflow!G17 -> 0 | J14: =Cashflow!B17 -> 5
B15: =SUM(B12:B14) -> 37 | C15: =SUM(C12:C14) -> 47.367123 | D15: =SUM(D12:D14) -> 54.650959 | E15: =SUM(E12:E14) -> 62.995068 | F15: =SUM(F12:F14) -> 69.189863 | G15: =SUM(G12:G14) -> 79.181918 | J15: =SUM(J12:J14) -> 37 | K15: =SUM(K12:K14) -> 0 | L15: =SUM(L12:L14) -> 0 | M15: =SUM(M12:M14) -> 0 | N15: =SUM(N12:N14) -> 0 | O15: =SUM(O12:O14) -> 0
A17: Trade creditor | B17: =Inputs!B42 -> 8 | C17: =Workings!C22 -> 26.630137 | D17: =Workings!D22 -> 30.772603 | E17: =Workings!E22 -> 35.654795 | F17: =Workings!F22 -> 39.180822 | G17: =Workings!G22 -> 44.926027 | J17: =Inputs!B42 -> 8
A18: Corporation tax | B18: =Inputs!B43 -> 5 | C18: =-'P&L'!C26 -> 0.38 | D18: =-'P&L'!D26 -> 3.136 | E18: =-'P&L'!E26 -> 3.692 | F18: =-'P&L'!F26 -> 4.928 | G18: =-'P&L'!G26 -> 8.274 | J18: =Inputs!B43 -> 5
A19: Accruals | B19: =Inputs!B44 -> 4 | C19: =B19 -> 4 | D19: =C19 -> 4 | E19: =D19 -> 4 | F19: =E19 -> 4 | G19: =F19 -> 4 | J19: =Inputs!B44 -> 4
A20: Safety inspection prov'n | B20: =Inputs!B45 -> 42 | C20: =Workings!C27 -> 54 | D20: =Workings!D27 -> 62.4 | E20: =Workings!E27 -> 72.3 | F20: =Workings!F27 -> 79.45 | G20: =Workings!G27 -> 91.1 | J20: =Inputs!B45 -> 42
B21: =SUM(B17:B20) -> 59 | C21: =SUM(C17:C20) -> 85.010137 | D21: =SUM(D17:D20) -> 100.3086 | E21: =SUM(E17:E20) -> 115.64679 | F21: =SUM(F17:F20) -> 127.55882 | G21: =SUM(G17:G20) -> 148.30003 | J21: =SUM(J17:J20) -> 59 | K21: =SUM(K17:K20) -> 0 | L21: =SUM(L17:L20) -> 0 | M21: =SUM(M17:M20) -> 0 | N21: =SUM(N17:N20) -> 0 | O21: =SUM(O17:O20) -> 0
A23: Total net assets | B23: =B10+B15-B21 -> 142 | C23: =C10+C15-C21 -> 103.55699 | D23: =D10+D15-D21 -> 72.742356 | E23: =E10+E15-E21 -> 42.948274 | F23: =F10+F15-F21 -> 14.431041 | G23: =G10+G15-G21 -> -19.11811 | J23: =J10+J15-J21 -> 142 | K23: =K10+K15-K21 -> 0 | L23: =L10+L15-L21 -> 0 | M23: =M10+M15-M21 -> 0 | N23: =N10+N15-N21 -> 0 | O23: =O10+O15-O21 -> 0
A25: Share capital | B25: =Inputs!B50 -> 160 | C25: =B25 -> 160 | D25: =C25 -> 160 | E25: =D25 -> 160 | F25: =E25 -> 160 | G25: =F25 -> 160 | J25: =Inputs!B50 -> 160
A26: Profit and loss account | B26: ='P&L'!B33 -> -18 | C26: ='P&L'!C33 -> -43.643014 | D26: ='P&L'!D33 -> -52.417644 | E26: ='P&L'!E33 -> -65.683726 | F26: ='P&L'!F33 -> -78.784959 | G26: ='P&L'!G33 -> -99.39011 | J26: ='P&L'!B33 -> -18
B27: =SUM(B25:B26) -> 142 | C27: =SUM(C25:C26) -> 116.35699 | D27: =SUM(D25:D26) -> 107.58236 | E27: =SUM(E25:E26) -> 94.316274 | F27: =SUM(F25:F26) -> 81.215041 | G27: =SUM(G25:G26) -> 60.60989 | J27: =SUM(J25:J26) -> 142 | K27: =SUM(K25:K26) -> 0 | L27: =SUM(L25:L26) -> 0 | M27: =SUM(M25:M26) -> 0 | N27: =SUM(N25:N26) -> 0 | O27: =SUM(O25:O26) -> 0
A30: Difference | B30: =ROUND(B23-B27,2) -> 0 | C30: =ROUND(C23-C27,2) -> -12.8 | D30: =ROUND(D23-D27,2) -> -34.84 | E30: =ROUND(E23-E27,2) -> -51.37 | F30: =ROUND(F23-F27,2) -> -66.78 | G30: =ROUND(G23-G27,2) -> -79.73 | J30: =ROUND(J23-J27,2) -> 0 | K30: =ROUND(K23-K27,2) -> 0 | L30: =ROUND(L23-L27,2) -> 0 | M30: =ROUND(M23-M27,2) -> 0 | N30: =ROUND(N23-N27,2) -> 0 | O30: =ROUND(O23-O27,2) -> 0

Sheet Cashflow
A1: =Inputs!A1 -> 0
A2: =Inputs!A2 -> 0 | L2: ***Corrected Model***
C3: Erroneous Model | S3: Instructions
A4: CASH FLOW | B4: $ mil's | C4: =Inputs!C7 -> 42369 | D4: =Inputs!D7 -> 42735 | E4: =Inputs!E7 -> 43100 | F4: =Inputs!F7 -> 43465 | G4: =Inputs!G7 -> 43830 | H4: Notes | J4: $ mil's | K4: 42369 | L4: 42735 | M4: 43100 | N4: 43465 | O4: 43830 | S4: *Use "P&L, Balsheet" sheets to complete cashflow
S5: *Please make sure to link the model so I can follow the formulas
A6: Profit before tax | C6: ='P&L'!C24 -> 1.9 | D6: ='P&L'!D24 -> 15.68 | E6: ='P&L'!E24 -> 18.46 | F6: ='P&L'!F24 -> 24.64 | G6: ='P&L'!G24 -> 41.37 | S6: *Please make sure to correct any incorrect formula in *Corrected Model*
A7: (Increase) / decrease in stock | C7: =-(Balsheet!C12-Balsheet!B12) -> -5.860274 | D7: =-(Balsheet!D12-Balsheet!C12) -> -1.7605479 | E7: =-(Balsheet!E12-Balsheet!D12) -> -1.8345205 | F7: =-(Balsheet!F12-Balsheet!E12) -> -1.4934247 | G7: =-(Balsheet!G12-Balsheet!F12) -> -2.3317808 | S7: *Please make sure to Note what was the error in the Erroneous Model
A8: (Increase) / decrease in trade debtors | C8: =-(Balsheet!C13-Balsheet!B13) -> -9.5068493 | D8: =-(Balsheet!D13-Balsheet!C13) -> -5.5232877 | E8: =-(Balsheet!E13-Balsheet!D13) -> -6.509589 | F8: =-(Balsheet!F13-Balsheet!E13) -> -4.7013699 | G8: =-(Balsheet!G13-Balsheet!F13) -> -7.660274
A9: Increase / (decrease) in trade creditors | C9: =Balsheet!C17-Balsheet!B17 -> 18.630137 | D9: =Balsheet!D17-Balsheet!C17 -> 4.1424658 | E9: =Balsheet!E17-Balsheet!D17 -> 4.8821918 | F9: =Balsheet!F17-Balsheet!E17 -> 3.5260274 | G9: =Balsheet!G17-Balsheet!F17 -> 5.7452055
A10: Taxation | C10: =-((Balsheet!C18-Balsheet!B18)+'P&L'!C26) -> 5 | D10: =-((Balsheet!D18-Balsheet!C18)+'P&L'!D26) -> 0.38 | E10: =-((Balsheet!E18-Balsheet!D18)+'P&L'!E26) -> 3.136 | F10: =-((Balsheet!F18-Balsheet!E18)+'P&L'!F26) -> 3.692 | G10: =-((Balsheet!G18-Balsheet!F18)+'P&L'!G26) -> 4.928
A11: Increase / (decrease) in provisions | C11: =Balsheet!C20-Balsheet!B20 -> 12 | D11: =Balsheet!D20-Balsheet!C20 -> 8.4 | E11: =Balsheet!E20-Balsheet!D20 -> 9.9 | F11: =Balsheet!F20-Balsheet!E20 -> 7.15 | G11: =Balsheet!G20-Balsheet!F20 -> 11.65
A12: Net cash flow before dividends | C12: =SUM(C6:C11) -> 22.163014 | D12: =SUM(D6:D11) -> 21.31863 | E12: =SUM(E6:E11) -> 28.034082 | F12: =SUM(F6:F11) -> 32.813233 | G12: =SUM(G6:G11) -> 53.701151 | K12: =SUM(K6:K11) -> 0 | L12: =SUM(L6:L11) -> 0 | M12: =SUM(M6:M11) -> 0 | N12: =SUM(N6:N11) -> 0 | O12: =SUM(O6:O11) -> 0
A14: Cash balance b/f | C14: =B17 -> 5 | D14: =C17 -> 0 | E14: =D17 -> 0 | F14: =E17 -> 0 | G14: =F17 -> 0
A15: Cash available for dividends | C15: =SUM(C12:C14) -> 27.163014 | D15: =SUM(D12:D14) -> 21.31863 | E15: =SUM(E12:E14) -> 28.034082 | F15: =SUM(F12:F14) -> 32.813233 | G15: =SUM(G12:G14) -> 53.701151 | K15: =SUM(K12:K14) -> 0 | L15: =SUM(L12:L14) -> 0 | M15: =SUM(M12:M14) -> 0 | N15: =SUM(N12:N14) -> 0 | O15: =SUM(O12:O14) -> 0
A16: Dividends | C16: ='P&L'!C29 -> -27.163014 | D16: ='P&L'!D29 -> -21.31863 | E16: ='P&L'!E29 -> -28.034082 | F16: ='P&L'!F29 -> -32.813233 | G16: ='P&L'!G29 -> -53.701151
A17: Cash balance c/f | B17: =Inputs!B40 -> 5 | C17: =SUM(C15:C16) -> 0 | D17: =SUM(D15:D16) -> 0 | E17: =SUM(E15:E16) -> 0 | F17: =SUM(F15:F16) -> 0 | G17: =SUM(G15:G16) -> 0 | J17: =Inputs!B40 -> 5 | K17: =SUM(K15:K16) -> 0 | L17: =SUM(L15:L16) -> 0 | M17: =SUM(M15:M16) -> 0 | N17: =SUM(N15:N16) -> 0 | O17: =SUM(O15:O16) -> 0
B18: op. bal. | J18: op. bal.
