Workbook

Sheet T Accounts
A1: T ACCOUNTS
A2: CASH | F2: ACCOUNTS RECEIVABLE | I2: UNEARNED REVENUE | L2: VEHICLE
A3: Debit | B3: Credit | F3: Debit | G3: Credit | I3: Debit | J3: Credit | L3: Debit | M3: Credit
A4: 21500 | B4: 3600 | F4: 3000 | J4: 7500 | L4: 40000
A5: 7500 | B5: 1000
B6: 800
B7: 6400
B8: 10000
B9: 10000
B10: 5000 | L10: NOTES PAYABLE
A11: =SUM(A4:A10) -> 29000 | B11: =SUM(B4:B10) -> 36800 | F11: =SUM(F4:F10) -> 3000 | L11: Debit | M11: Credit
B12: =B11-A11 -> 7800 | F12: =F11-G11 -> 3000 | M12: 30000
A14: ACCOUNTS PAYABLE | F14: SALARY PAY | I14: SERVICE REVENUE
A15: Debit | B15: Credit | F15: Debit | G15: Credit | I15: Debit | J15: Credit
B16: 800 | J16: 21500
B17: 55 | F17: 400 | J17: 3000 | L17: DEPRECIATION EXPENSE
B18: 5 | I18: =SUM(I16:I17) -> 0 | J18: =SUM(J16:J17) -> 24500 | L18: Debit | M18: Credit
A19: 6400 | L19: 600
A20: =SUM(A16:A19) -> 6400 | B20: =SUM(B16:B19) -> 860 | F20: =SUM(F16:F19) -> 400 | G20: =SUM(G16:G19) -> 0 | L20: 250
A21: =A20-B20 -> 5540 | L21: 67
A22: RENT EXP | F22: TELEPHONE | I22: PREPAID RENT | L22: =SUM(L19:L21) -> 917 | M22: =SUM(M19:M20) -> 0
A23: Debit | B23: Credit | F23: Debit | G23: Credit | I23: Debit | J23: Credit | L23: ACCUMULAED DEPRECIATION - VEHICLE
A24: 1000 | F24: 50 | I24: 800 | L24: Debit | M24: Credit
F25: 5 | M25: 600
A27: =SUM(A24:A26) -> 1000 | B27: =SUM(B24:B26) -> 0 | F27: =SUM(F24:F26) -> 55 | G27: =SUM(G24:G26) -> 0 | I27: =SUM(I24:I26) -> 800 | J27: =SUM(J24:J26) -> 0
L28: EQUIPMENT NEW
A29: INSURANCE EXPENSE | F29: SUPPLIES | I29: SUPPLIES EXPENSE | L29: Debit | M29: Credit
A30: Debit | B30: Credit | F30: Debit | G30: Credit | I30: Debit | J30: Credit | L30: 16000
A31: 150 | F31: 800 | I31: 4840
G32: 4840
A34: =SUM(A31:A33) -> 150 | B34: =SUM(B31:B33) -> 0 | F34: =SUM(F31:F33) -> 800 | G34: =SUM(G31:G33) -> 4840 | L34: ACC DEPRECIATION- EQIP OLD
G35: =G34-F34 -> 4040 | L35: Debit | M35: Credit
A36: PREPAID INSURANCE | F36: INTEREST EXPENSE | I36: INTEREST PAYABLE | L36: 4000
A37: Debit | B37: Credit | F37: Debit | G37: Credit | I37: Debit | J37: Credit | L37: =L36-M36 -> 4000
B38: 150 | F38: 100 | J38: 100
F40: EQUIP OLD | I40: DEPRECIATION FURNITURE | L40: ACC DEPR FURNITURE
A41: =SUM(A38:A40) -> 0 | B41: =SUM(B38:B40) -> 150 | F41: Debit | G41: Credit | I41: Debit | J41: Credit | L41: Debit | M41: Credit
G42: 8000 | I42: 67 | M42: 83
I44: Salary Expense
I45: Debit | J45: Credit | L45: ACC DEPR - EQUIPMENT
...

Sheet Trial Balance
A1: TRIAL BALANCE
B2: Unadjusted Trial Balance April 30 | D2: Adjustments | F2: Adjusted Trial Balance May 31
A3: Account Title | B3: Debit | C3: Credit | D3: Debit | E3: Credit | F3: Debit | G3: Credit
A4: Cash | B4: 18200 | E4: ='T Accounts'!B12 -> 7800 | F4: =B4-E4 -> 10400
A5: Accounts Receivable | B5: 6630 | D5: ='T Accounts'!F12 -> 3000 | F5: =B5+D5 -> 9630
A6: Accounts Payable | C6: 6400 | E6: 5540 | G6: =C6+E6 -> 11940
A7: Salary Payable | D7: ='T Accounts'!F20 -> 400 | F7: =D7 -> 400
A8: Rent | D8: ='T Accounts'!A27 -> 1000 | F8: =D8 -> 1000
A9: Telephone | D9: 60 | F9: =D9 -> 60
A10: Prepaid Rent | D10: ='T Accounts'!I27 -> 800 | F10: =D10 -> 800
A11: Insurance | D11: ='T Accounts'!A34 -> 150 | F11: =D11 -> 150
A12: Supplies | B12: 5240 | D12: ='T Accounts'!G35 -> 4040 | F12: =B12+D12 -> 9280
A13: Furniture | B13: 5000 | F13: =B13 -> 5000
A14: Accumulated Depreciation - Furniture | C14: 1000 | E14: 67 | G14: =C14+E14 -> 1067
A15: Accumulated Depreciation - Equipment | C15: 4000 | E15: ='T Accounts'!M47 -> 250 | G15: =C15+E15 -> 4250
A16: Unearned Service Revenue | C16: 1900 | E16: ='T Accounts'!J4 -> 7500 | G16: =E16+C16 -> 9400
A17: Capital Shares | C17: 20000 | G17: =C17 -> 20000
A18: Retained Earnings | C18: 10520 | G18: =C18 -> 10520
A19: Equipment | B19: 8000 | F19: =B19+D19 -> 8000
A20: Prepaid Insurance | B20: 750 | E20: ='T Accounts'!B41 -> 150 | F20: =B20-E20 -> 600
A21: Interest Expense | D21: ='T Accounts'!F38 -> 100 | F21: =D21 -> 100
A22: Equipment Old | E22: ='T Accounts'!G42 -> 8000 | G22: =E22 -> 8000
A23: Service Revenue | E23: ='T Accounts'!J18 -> 24500 | G23: =E23 -> 24500
A24: Supplies expense | D24: 5240 | F24: =D24 -> 5240
A25: Salaries Expense | D25: ='T Accounts'!I50 -> 9000 | F25: =D25 -> 9000
A26: Interest Payable | E26: ='T Accounts'!J38 -> 100 | G26: =E26 -> 100
A27: Depreciation Furniture | D27: 67 | F27: =D27 -> 67
A28: Accumulated Depreciation - Equipment Old | D28: ='T Accounts'!L37 -> 4000 | F28: =D28 -> 4000
A29: Equipment New | D29: ='T Accounts'!L30 -> 16000 | F29: =D29 -> 16000
A30: Accumulated Depreciation - Vehicle | E30: ='T Accounts'!M25 -> 600 | G30: =E30 -> 600
A31: Depreciation Expense | D31: 650 | F31: =D31 -> 650
A32: Notes Payable | E32: ='T Accounts'!M12 -> 30000 | G32: =E32 -> 30000
A33: Vehicle | D33: ='T Accounts'!L4 -> 40000 | F33: =D33 -> 40000
B34: =SUM(B4:B20) -> 43820 | C34: =SUM(C4:C20) -> 43820 | D34: =SUM(D4:D33) -> 84507 | E34: =SUM(E4:E33) -> 84507 | F34: =SUM(F4:F33) -> 120377 | G34: =SUM(G4:G33) -> 120377

Sheet Entries 
A1: PART B: | C1: General Journal
A2: Entry # | B2: Account Description | D2: Dr | E2: Cr | I2: GRADE: | K2: /39
B3: 1 | C3: Salaries Expense | D3: 3600
C4: Cash | E4: 3600
B6: 2 | C6: Salaries Expense | D6: 400
C7: Salaries Payable | E7: 400
B9: 3 | C9: Supplies | D9: 800 | F9: 800
C10: Acounts Payable | E10: 800
B12: 4 | C12: Insurance Expense | D12: 150
C13: Prepaid Insurance | E13: 150
B15: 5 | C15: Rent Expense | D15: 1000
C16: Cash | E16: 1000
B18: 6 | C18: Prepaid Rent | D18: 800
C19: Cash | E19: 800
B21: 7 | C21: Telephone Expense | D21: 55
C22: Accounts Payable | E22: 55
B24: 8 | C24: Telephone Expense | D24: 5
C25: Accounts Payable | E25: 5
B27: 9 | C27: Accounts Payable | D27: 6400
C28: Cash | E28: 6400
B30: 10 | C30: Salaries Expense | D30: 5000
C31: Cash | E31: 5000
B33: 11 | C33: Supplies Expense | D33: 4840
C34: Supplies | E34: 4840
B36: 12 | C36: Cash | D36: 21500
C37: Service Revenue | E37: 21500
B39: 13 | C39: Accounts Receivable | D39: 3000
C40: Service Revenue | E40: 3000
B42: 14 | C42: Cash | D42: 7500
C43: Unearned Revenue | E43: 7500
B45: 15 | C45: Vechicle | D45: 40000
C46: Cash | E46: 10000
C47: Notes Payable | E47: 30000
B49: 16 | C49: Interest Expense | D49: 100
C50: Interest Payable | E50: 100
B52: 17 | C52: Depreciation Expense | D52: 600
C53: Accumulated Depreciation— Vechicle | E53: 600
B55: 18 | C55: Equipment New | D55: 16000
C56: Accumulated Depreciation— Equipment old | D56: 4000
C57: Equipment old | E57: 8000
...

Sheet Income Statement
A2: INCOME STATEMENT
A3: PERIOD ENDED 31 MAY
A4: Revenues
A5: Accounts Receivable | B5: ='Trial Balance'!F5 -> 9630
A6: Unearned Service Revenue | B6: ='Trial Balance'!G16 -> 9400
A7: Service Revenue | B7: ='Trial Balance'!G23 -> 24500
A8: Interest Payable | B8: ='Trial Balance'!G26 -> 100
A9: Notes Payable | B9: ='Trial Balance'!G32 -> 30000
B10: =SUM(B5:B9) -> 73630
A12: Expenses
A13: Salary | B13: ='Trial Balance'!F7 -> 400
A14: Rent | B14: ='Trial Balance'!F8-'Trial Balance'!F10 -> 200
A15: Telephone | B15: ='Trial Balance'!F9 -> 60
A16: Interest Expense | B16: ='Trial Balance'!F21 -> 100
A17: Supplies Expense | B17: ='Trial Balance'!F24 -> 5240
A18: Depreciation Expense | B18: ='Trial Balance'!F31 -> 650
B19: =SUM(B13:B18) -> 6650
A21: Net Income | B21: =B10-B19 -> 66980 | H21: 66980

Sheet FINANCIAL POSITION
B4: STATEMENT OF FINANCIAL POSITION AS AT
B5: 44347
B6: Assets | E6: Liabilities
B7: Cash | C7: ='Trial Balance'!F4 -> 10400 | E7: Accounts Payable | F7: ='Trial Balance'!G6 -> 11940
B8: Furniture | C8: ='Trial Balance'!B13 -> 5000 | E8: Retained Earnings | F8: ='Trial Balance'!G18 -> 10520
B9: Equipment | C9: ='Trial Balance'!F29 -> 16000 | E9: Accumulated Depreciation - Furniture | F9: ='Trial Balance'!G14 -> 1067
B10: Vehicle | C10: ='Trial Balance'!F33 -> 40000 | E10: Notes Payable | F10: ='Trial Balance'!G32 -> 30000
E11: Accumulated Depreciation - Equipment | F11: ='Trial Balance'!G15 -> 4250
B12: TOTAL ASSETS | C12: =SUM(C7:C10) -> 71400 | E12: Capital Shares | F12: ='Trial Balance'!G17 -> 20000
E13: Accumulated Depreciation - Equipment Old | F13: ='Trial Balance'!F28 -> 4000
E14: Accumulated Depreciation - Vehicle | F14: ='Trial Balance'!G30 -> 600
E15: Depreciation Furniture | F15: ='Trial Balance'!F27 -> 67
E17: TOTAL LIABILITIES | F17: =SUM(F7:F15) -> 82444
J23: 71400 | K23: 66980 | M23: =J23/K23 -> 1.0659898
M24: =K23/J23 -> 0.93809524

Sheet RETAINED EARNINGS
B3: Beginning Balance, Retained Earnings | C3: ='Trial Balance'!G18 -> 10520
B4: Net Income | C4: ='Income Statement'!B21 -> 66980
B5: Interest Payable | C5: =-('Trial Balance'!G26) -> -100
C6: =SUM(C3:C5) -> 77400

Sheet Theory
A1: PART E: THEORY
A2: List 3 different types of users of the financial statements of The London Tour Company (present and potential). Explain briefly what type of information they are looking for.
B5: Users: | E5: Type of Information: | P5: GRADE: | R5: /6
A16: Calculate the current ratio, as well as 2 other ratios you believe the bank will look at to assess the company's health.
A17: Explain briefly why you selected these ratios and how they apply to the bank's needs.
A18: What do these ratios show?
A19: Do you believe they will be same if calculated on financial statements for an entire year?
A21: Current ratio | D21: ='FINANCIAL POSITION'!C12/'FINANCIAL POSITION'!F17 -> 0.8660424
A22: Ratio #2 | D22: ='FINANCIAL POSITION'!F17/'FINANCIAL POSITION'!C12 -> 1.1546779 | E22: Debt Ratio | P22: GRADE: | R22: /10
A23: Ratio #3 | D23: ='Income Statement'!B10/'FINANCIAL POSITION'!C12 -> 1.0312325 | E23: Asset Turnover
A39: What can you recommend to Andrew to improve the current ratio?
A40: Be specific in assessing the impact of your recommendation on the current ratio.
P43: GRADE: | R43: /4
