Workbook
Name Footnote: Series!$A$1:$I$1333
Name ItemCode: Series!$A$1:$M$5374
Name Itemname: Item!$A$1:$F$400

Sheet Wine Sales 15-16
A1: Sum of value | B1: Column Labels
A2: Row Labels | B2: January | C2: February | D2: March | E2: April | F2: May | G2: June | H2: July | I2: August | J2: September | K2: October | L2: November | M2: December | N2: Grand Total
A3: 2015 | B3: 36.405 | C3: 36.203 | D3: 35.987 | E3: 35.602 | F3: 34.894 | G3: 34.714 | H3: 34.645 | I3: 34.834 | J3: 34.864 | K3: 36.555 | L3: 36.103 | M3: 35.664 | N3: 426.47
A4: Wine, red and white table, all sizes, any origin, per 1 liter (33.8 oz) | B4: 36.405 | C4: 36.203 | D4: 35.987 | E4: 35.602 | F4: 34.894 | G4: 34.714 | H4: 34.645 | I4: 34.834 | J4: 34.864 | K4: 36.555 | L4: 36.103 | M4: 35.664 | N4: 426.47
A5: 2016 | B5: 35.672 | C5: 35.958 | D5: 36.128 | E5: 36.389 | F5: 35.794 | G5: 36.368 | H5: 36.216 | I5: 36.161 | J5: 36.56 | K5: 35.769 | L5: 35.335 | M5: 35.432 | N5: 431.782
A6: Wine, red and white table, all sizes, any origin, per 1 liter (33.8 oz) | B6: 35.672 | C6: 35.958 | D6: 36.128 | E6: 36.389 | F6: 35.794 | G6: 36.368 | H6: 36.216 | I6: 36.161 | J6: 36.56 | K6: 35.769 | L6: 35.335 | M6: 35.432 | N6: 431.782
A7: Grand Total | B7: 72.077 | C7: 72.161 | D7: 72.115 | E7: 71.991 | F7: 70.688 | G7: 71.082 | H7: 70.861 | I7: 70.995 | J7: 71.424 | K7: 72.324 | L7: 71.438 | M7: 71.096 | N7: 858.252
A15: Row Labels | B15: Sum of January | C15: Sum of February | D15: Sum of March | E15: Sum of April | F15: Sum of May | G15: Sum of June | H15: Sum of July | I15: Sum of August | J15: Sum of September | K15: Sum of October | L15: Sum of November | M15: Sum of December
A16: 2015 | B16: 36.405 | C16: 36.203 | D16: 35.987 | E16: 35.602 | F16: 34.894 | G16: 34.714 | H16: 34.645 | I16: 34.834 | J16: 34.864 | K16: 36.555 | L16: 36.103 | M16: 35.664
A17: 2016 | B17: 35.672 | C17: 35.958 | D17: 36.128 | E17: 36.389 | F17: 35.794 | G17: 36.368 | H17: 36.216 | I17: 36.161 | J17: 36.56 | K17: 35.769 | L17: 35.335 | M17: 35.432
A18: Grand Total | B18: 72.077 | C18: 72.161 | D18: 72.115 | E18: 71.991 | F18: 70.688 | G18: 71.082 | H18: 70.861 | I18: 70.995 | J18: 71.424 | K18: 72.324 | L18: 71.438 | M18: 71.096

Sheet All_Items
A1: series_id | B1: Year | C1: period value | D1: value | E1: item code | F1: item name | G1: area code | H1: area name | I1: period month
A2: APU0000FD2101 | B2: 2013 | C2: M01 | D2: 2.693 | E2: =VLOOKUP(A2,Series!A:C,3,FALSE) -> FD2101 | F2: =VLOOKUP(E2,Item!A:B,2,FALSE) -> All Ham (Excluding Canned Ham and Luncheon Slices), per lb. (453.6 gm) | G2: =VLOOKUP(A2,Series!A:B,2,FALSE) -> 0 | H2: =VLOOKUP(G2,Area!A:B,2,FALSE) -> U.S. city average | I2: =VLOOKUP(C2,Dates!A:C,3,FALSE) -> January
A3: APU0000FD2101 | B3: 2013 | C3: M02 | D3: 2.633 | E3: =VLOOKUP(A3,Series!A:C,3,FALSE) -> FD2101 | F3: =VLOOKUP(E3,Item!A:B,2,FALSE) -> All Ham (Excluding Canned Ham and Luncheon Slices), per lb. (453.6 gm) | G3: =VLOOKUP(A3,Series!A:B,2,FALSE) -> 0 | H3: =VLOOKUP(G3,Area!A:B,2,FALSE) -> U.S. city average | I3: =VLOOKUP(C3,Dates!A:C,3,FALSE) -> February
A4: APU0000FD2101 | B4: 2013 | C4: M03 | D4: 2.777 | E4: =VLOOKUP(A4,Series!A:C,3,FALSE) -> FD2101 | F4: =VLOOKUP(E4,Item!A:B,2,FALSE) -> All Ham (Excluding Canned Ham and Luncheon Slices), per lb. (453.6 gm) | G4: =VLOOKUP(A4,Series!A:B,2,FALSE) -> 0 | H4: =VLOOKUP(G4,Area!A:B,2,FALSE) -> U.S. city average | I4: =VLOOKUP(C4,Dates!A:C,3,FALSE) -> March
A5: APU0000FD2101 | B5: 2013 | C5: M04 | D5: 2.69 | E5: =VLOOKUP(A5,Series!A:C,3,FALSE) -> FD2101 | F5: =VLOOKUP(E5,Item!A:B,2,FALSE) -> All Ham (Excluding Canned Ham and Luncheon Slices), per lb. (453.6 gm) | G5: =VLOOKUP(A5,Series!A:B,2,FALSE) -> 0 | H5: =VLOOKUP(G5,Area!A:B,2,FALSE) -> U.S. city average | I5: =VLOOKUP(C5,Dates!A:C,3,FALSE) -> April
A6: APU0000FD2101 | B6: 2013 | C6: M05 | D6: 2.743 | E6: =VLOOKUP(A6,Series!A:C,3,FALSE) -> FD2101 | F6: =VLOOKUP(E6,Item!A:B,2,FALSE) -> All Ham (Excluding Canned Ham and Luncheon Slices), per lb. (453.6 gm) | G6: =VLOOKUP(A6,Series!A:B,2,FALSE) -> 0 | H6: =VLOOKUP(G6,Area!A:B,2,FALSE) -> U.S. city average | I6: =VLOOKUP(C6,Dates!A:C,3,FALSE) -> May
A7: APU0000FD2101 | B7: 2013 | C7: M06 | D7: 2.869 | E7: =VLOOKUP(A7,Series!A:C,3,FALSE) -> FD2101 | F7: =VLOOKUP(E7,Item!A:B,2,FALSE) -> All Ham (Excluding Canned Ham and Luncheon Slices), per lb. (453.6 gm) | G7: =VLOOKUP(A7,Series!A:B,2,FALSE) -> 0 | H7: =VLOOKUP(G7,Area!A:B,2,FALSE) -> U.S. city average | I7: =VLOOKUP(C7,Dates!A:C,3,FALSE) -> June
A8: APU0000FD2101 | B8: 2013 | C8: M07 | D8: 2.837 | E8: =VLOOKUP(A8,Series!A:C,3,FALSE) -> FD2101 | F8: =VLOOKUP(E8,Item!A:B,2,FALSE) -> All Ham (Excluding Canned Ham and Luncheon Slices), per lb. (453.6 gm) | G8: =VLOOKUP(A8,Series!A:B,2,FALSE) -> 0 | H8: =VLOOKUP(G8,Area!A:B,2,FALSE) -> U.S. city average | I8: =VLOOKUP(C8,Dates!A:C,3,FALSE) -> July
A9: APU0000FD2101 | B9: 2013 | C9: M08 | D9: 2.906 | E9: =VLOOKUP(A9,Series!A:C,3,FALSE) -> FD2101 | F9: =VLOOKUP(E9,Item!A:B,2,FALSE) -> All Ham (Excluding Canned Ham and Luncheon Slices), per lb. (453.6 gm) | G9: =VLOOKUP(A9,Series!A:B,2,FALSE) -> 0 | H9: =VLOOKUP(G9,Area!A:B,2,FALSE) -> U.S. city average | I9: =VLOOKUP(C9,Dates!A:C,3,FALSE) -> August
A10: APU0000FD2101 | B10: 2013 | C10: M09 | D10: 2.921 | E10: =VLOOKUP(A10,Series!A:C,3,FALSE) -> FD2101 | F10: =VLOOKUP(E10,Item!A:B,2,FALSE) -> All Ham (Excluding Canned Ham and Luncheon Slices), per lb. (453.6 gm) | G10: =VLOOKUP(A10,Series!A:B,2,FALSE) -> 0 | H10: =VLOOKUP(G10,Area!A:B,2,FALSE) -> U.S. city average | I10: =VLOOKUP(C10,Dates!A:C,3,FALSE) -> September
A11: APU0000FD2101 | B11: 2013 | C11: M10 | D11: 2.947 | E11: =VLOOKUP(A11,Series!A:C,3,FALSE) -> FD2101 | F11: =VLOOKUP(E11,Item!A:B,2,FALSE) -> All Ham (Excluding Canned Ham and Luncheon Slices), per lb. (453.6 gm) | G11: =VLOOKUP(A11,Series!A:B,2,FALSE) -> 0 | H11: =VLOOKUP(G11,Area!A:B,2,FALSE) -> U.S. city average | I11: =VLOOKUP(C11,Dates!A:C,3,FALSE) -> October
A12: APU0000FD2101 | B12: 2013 | C12: M11 | D12: 2.805 | E12: =VLOOKUP(A12,Series!A:C,3,FALSE) -> FD2101 | F12: =VLOOKUP(E12,Item!A:B,2,FALSE) -> All Ham (Excluding Canned Ham and Luncheon Slices), per lb. (453.6 gm) | G12: =VLOOKUP(A12,Series!A:B,2,FALSE) -> 0 | H12: =VLOOKUP(G12,Area!A:B,2,FALSE) -> U.S. city average | I12: =VLOOKUP(C12,Dates!A:C,3,FALSE) -> November
A13: APU0000FD2101 | B13: 2013 | C13: M12 | D13: 2.725 | E13: =VLOOKUP(A13,Series!A:C,3,FALSE) -> FD2101 | F13: =VLOOKUP(E13,Item!A:B,2,FALSE) -> All Ham (Excluding Canned Ham and Luncheon Slices), per lb. (453.6 gm) | G13: =VLOOKUP(A13,Series!A:B,2,FALSE) -> 0 | H13: =VLOOKUP(G13,Area!A:B,2,FALSE) -> U.S. city average | I13: =VLOOKUP(C13,Dates!A:C,3,FALSE) -> December
... A7541: APU0200706311 | B7541: 2017 | C7541: M07 | D7541: 1.48 | E7541: =VLOOKUP(A7541,Series!A:C,3,FALSE) -> 706311 | F7541: =VLOOKUP(E7541,Item!A:B,2,FALSE) -> Turkey, frozen, whole, per lb. (453.6 gm) | G7541: =VLOOKUP(A7541,Series!A:B,2,FALSE) -> 200 | H7541: =VLOOKUP(G7541,Area!A:B,2,FALSE) -> Midwest urban | I7541: =VLOOKUP(C7541,Dates!A:C,3,FALSE) -> July

Sheet Series
A1: series_id | B1: area_code | C1: item_code | D1: series_title | E1: footnote_codes | F1: begin_year | G1: begin_period | H1: end_year | I1: end_period
A2: APU0000701111 | B2: 0 | C2: 701111 | D2: Flour, white, all purpose, per lb. (453.6 gm) in U.S. city average, average price, not seasonally adjusted | F2: 1980 | G2: M01 | H2: 2017 | I2: M07
A3: APU0000701311 | B3: 0 | C3: 701311 | D3: Rice, white, long grain, precooked (cost per pound/453.6 grams) in U.S. city average, average price, not seasonally adjusted | F3: 1980 | G3: M01 | H3: 1981 | I3: M12
A4: APU0000701312 | B4: 0 | C4: 701312 | D4: Rice, white, long grain, uncooked, per lb. (453.6 gm) in U.S. city average, average price, not seasonally adjusted | F4: 1980 | G4: M01 | H4: 2017 | I4: M07
A5: APU0000701321 | B5: 0 | C5: 701321 | D5: Spaghetti (cost per pound/453.6 grams) in U.S. city average, average price, not seasonally adjusted | F5: 1980 | G5: M01 | H5: 1981 | I5: M03
A6: APU0000701322 | B6: 0 | C6: 701322 | D6: Spaghetti and macaroni, per lb. (453.6 gm) in U.S. city average, average price, not seasonally adjusted | F6: 1984 | G6: M01 | H6: 2017 | I6: M07
A7: APU0000702111 | B7: 0 | C7: 702111 | D7: Bread, white, pan, per lb. (453.6 gm) in U.S. city average, average price, not seasonally adjusted | F7: 1980 | G7: M01 | H7: 2017 | I7: M07
A8: APU0000702112 | B8: 0 | C8: 702112 | D8: Bread, French, per lb. (453.6 gm) in U.S. city average, average price, not seasonally adjusted | F8: 1980 | G8: M01 | H8: 2016 | I8: M09
A9: APU0000702211 | B9: 0 | C9: 702211 | D9: Bread, rye, pan (cost per pound/453.6 grams) in U.S. city average, average price, not seasonally adjusted | F9: 1980 | G9: M01 | H9: 1981 | I9: M12
A10: APU0000702212 | B10: 0 | C10: 702212 | D10: Bread, whole wheat, pan, per lb. (453.6 gm) in U.S. city average, average price, not seasonally adjusted | F10: 1980 | G10: M01 | H10: 2017 | I10: M07
A11: APU0000702213 | B11: 0 | C11: 702213 | D11: Bread, wheat blend, pan (cost per pound/453.6 grams) in U.S. city average, average price, not seasonally adjusted | F11: 1980 | G11: M01 | H11: 1981 | I11: M12
A12: APU0000702221 | B12: 0 | C12: 702221 | D12: Rolls, hamburger (cost per pound/453.6 grams) in U.S. city average, average price, not seasonally adjusted | F12: 1980 | G12: M01 | H12: 1984 | I12: M09
A13: APU0000702411 | B13: 0 | C13: 702411 | D13: Cupcakes, chocolate (cost per pound/453.6 grams) in U.S. city average, average price, not seasonally adjusted | F13: 1980 | G13: M01 | H13: 1986 | I13: M12
... A146: APU000074717 | B146: 0 | C146: 74717 | D146: Automotive diesel fuel, per gallon/3.785 liters in U.S. city average, average price, not seasonally adjusted | F146: 1998 | G146: M01 | H146: 2017 | I146: M07
A147: APU00007471A | B147: 0 | C147: 7471A | D147: Gasoline, all types, per gallon/3.785 liters in U.S. city average, average price, not seasonally adjusted | F147: 1978 | G147: M01 | H147: 2017 | I147: M07
A148: APU0000FC1101 | B148: 0 | C148: FC1101 | D148: All uncooked ground beef, per lb. (453.6 gm) in U.S. city average, average price, not seasonally adjusted | F148: 1998 | G148: M01 | H148: 2017 | I148: M07
A149: APU0000FC2101 | B149: 0 | C149: FC2101 | D149: All Uncooked Beef Roasts, per lb. (453.6 gm) in U.S. city average, average price, not seasonally adjusted | F149: 1998 | G149: M01 | H149: 2017 | I149: M07
A150: APU0000FC3101 | B150: 0 | C150: FC3101 | D150: All Uncooked Beef Steaks, per lb. (453.6 gm) in U.S. city average, average price, not seasonally adjusted | F150: 1998 | G150: M01 | H150: 2017 | I150: M07
A151: APU0000FC4101 | B151: 0 | C151: FC4101 | D151: All Uncooked Other Beef (Excluding Veal), per lb. (453.6 gm) in U.S. city average, average price, not seasonally adjusted | F151: 1998 | G151: M01 | H151: 2017 | I151: M07
A152: APU0000FD2101 | B152: 0 | C152: FD2101 | D152: All Ham (Excluding Canned Ham and Luncheon Slices), per lb. (453.6 gm) in U.S. city average, average price, not seasonally adjusted | F152: 1998 | G152: M01 | H152: 2017 | I152: M07
A153: APU0000FD3101 | B153: 0 | C153: FD3101 | D153: All Pork Chops, per lb. (453.6 gm) in U.S. city average, average price, not seasonally adjusted | F153: 1998 | G153: M01 | H153: 2017 | I153: M07
A154: APU0000FD4101 | B154: 0 | C154: FD4101 | D154: All Other Pork (Excluding Canned Ham and Luncheon Slices), per lb. (453.6 gm) in U.S. city average, average price, not seasonally adjusted | F154: 1998 | G154: M01 | H154: 2017 | I154: M07
A155: APU0000FF1101 | B155: 0 | C155: FF1101 | D155: Chicken breast, boneless, per lb. (453.6 gm) in U.S. city average, average price, not seasonally adjusted | F155: 2006 | G155: M01 | H155: 2017 | I155: M07
A156: APU0000FL2101 | B156: 0 | C156: FL2101 | D156: Lettuce, romaine, per lb. (453.6 gm) in U.S. city average, average price, not seasonally adjusted | F156: 2006 | G156: M01 | H156: 2017 | I156: M07
A157: APU0100701111 | B157: 100 | C157: 701111 | D157: Flour, white, all purpose, per lb. (453.6 gm) in Northeast urban, average price, not seasonally adjusted | F157: 1980 | G157: M01 | H157: 2016 | I157: M10
A158: APU0100701311 | B158: 100 | C158: 701311 | D158: Rice, white, long grain, precooked (cost per pound/453.6 grams) in Northeast urban, average price, not seasonally adjusted | F158: 1980 | G158: M01 | H158: 1985 | I158: M11
A159: APU0100701312 | B159: 100 | C159: 701312 | D159: Rice, white, long grain, uncooked, per lb. (453.6 gm) in Northeast urban, average price, not seasonally adjusted | F159: 1980 | G159: M01 | H159: 1997 | I159: M09
A160: APU0100701321 | B160: 100 | C160: 701321 | D160: Spaghetti (cost per pound/453.6 grams) in Northeast urban, average price, not seasonally adjusted | F160: 1980 | G160: M01 | H160: 1980 | I160: M10
A161: APU0100701322 | B161: 100 | C161: 701322 | D161: Spaghetti and macaroni, per lb. (453.6 gm) in Northeast urban, average price, not seasonally adjusted | F161: 1984 | G161: M01 | H161: 2017 | I161: M04
A162: APU0100702111 | B162: 100 | C162: 702111 | D162: Bread, white, pan, per lb. (453.6 gm) in Northeast urban, average price, not seasonally adjusted | F162: 1980 | G162: M01 | H162: 2017 | I162: M07
A163: APU0100702212 | B163: 100 | C163: 702212 | D163: Bread, whole wheat, pan, per lb. (453.6 gm) in Northeast urban, average price, not seasonally adjusted | F163: 1980 | G163: M12 | H163: 2016 | I163: M10
A164: APU0100702221 | B164: 100 | C164: 702221 | D164: Rolls, hamburger (cost per pound/453.6 grams) in Northeast urban, average price, not seasonally adjusted | F164: 1980 | G164: M01 | H164: 1981 | I164: M12
A165: APU0100702411 | B165: 100 | C165: 702411 | D165: Cupcakes, chocolate (cost per pound/453.6 grams) in Northeast urban, average price, not seasonally adjusted | F165: 1980 | G165: M01 | H165: 1985 | I165: M05
A166: APU0100702421 | B166: 100 | C166: 702421 | D166: Cookies, chocolate chip, per lb. (453.6 gm) in Northeast urban, average price, not seasonally adjusted | F166: 1980 | G166: M01 | H166: 1987 | I166: M03
A167: APU0100702611 | B167: 100 | C167: 702611 | D167: Crackers, soda, salted, per lb. (453.6 gm) in Northeast urban, average price, not seasonally adjusted | F167: 1980 | G167: M01 | H167: 1981 | I167: M12
A168: APU0100703111 | B168: 100 | C168: 703111 | D168: Ground chuck, 100% beef, per lb. (453.6 gm) in Northeast urban, average price, not seasonally adjusted | F168: 1980 | G168: M01 | H168: 2016 | I168: M10
... A278: APU010074717 | B278: 100 | C278: 74717 | D278: Automotive diesel fuel, per gallon/3.785 liters in Northeast urban, average price, not seasonally adjusted | F278: 1998 | G278: M01 | H278: 2017 | I278: M07
A279: APU01007471A | B279: 100 | C279: 7471A | D279: Gasoline, all types, per gallon/3.785 liters in Northeast urban, average price, not seasonally adjusted | F279: 1978 | G279: M01 | H279: 2017 | I279: M07
A280: APU0100FC1101 | B280: 100 | C280: FC1101 | D280: All uncooked ground beef, per lb. (453.6 gm) in Northeast urban, average price, not seasonally adjusted | F280: 1998 | G280: M01 | H280: 2017 | I280: M07
A281: APU0100FC2101 | B281: 100 | C281: FC2101 | D281: All Uncooked Beef Roasts, per lb. (453.6 gm) in Northeast urban, average price, not seasonally adjusted | F281: 1998 | G281: M01 | H281: 2017 | I281: M07
...

Sheet Item
A1: item_code | B1: item_name
A2: 701111 | B2: Flour, white, all purpose, per lb. (453.6 gm)
A3: 701311 | B3: Rice, white, long grain, precooked (cost per pound/453.6 grams)
A4: 701312 | B4: Rice, white, long grain, uncooked, per lb. (453.6 gm)
A5: 701321 | B5: Spaghetti (cost per pound/453.6 grams)
A6: 701322 | B6: Spaghetti and macaroni, per lb. (453.6 gm)
A7: 702111 | B7: Bread, white, pan, per lb. (453.6 gm)
A8: 702112 | B8: Bread, French, per lb. (453.6 gm)
A9: 702211 | B9: Bread, rye, pan (cost per pound/453.6 grams)
A10: 702212 | B10: Bread, whole wheat, pan, per lb. (453.6 gm)
A11: 702213 | B11: Bread, wheat blend, pan (cost per pound/453.6 grams)
A12: 702221 | B12: Rolls, hamburger (cost per pound/453.6 grams)
A13: 702411 | B13: Cupcakes, chocolate (cost per pound/453.6 grams)
... A146: 74717 | B146: Automotive diesel fuel, per gallon/3.785 liters
A147: 7471A | B147: Gasoline, all types, per gallon/3.785 liters
A148: FC1101 | B148: All uncooked ground beef, per lb. (453.6 gm)
A149: FC2101 | B149: All Uncooked Beef Roasts, per lb. (453.6 gm)
A150: FC3101 | B150: All Uncooked Beef Steaks, per lb. (453.6 gm)
A151: FC4101 | B151: All Uncooked Other Beef (Excluding Veal), per lb. (453.6 gm)
A152: FD2101 | B152: All Ham (Excluding Canned Ham and Luncheon Slices), per lb. (453.6 gm)
A153: FD3101 | B153: All Pork Chops, per lb. (453.6 gm)
A154: FD4101 | B154: All Other Pork (Excluding Canned Ham and Luncheon Slices), per lb. (453.6 gm)
A155: FF1101 | B155: Chicken breast, boneless, per lb. (453.6 gm)
A156: FL2101 | B156: Lettuce, romaine, per lb. (453.6 gm)

Sheet Dates
A1: period | B1: period_abbr | C1: period_name
A2: M01 | B2: JAN | C2: January
A3: M02 | B3: FEB | C3: February
A4: M03 | B4: MAR | C4: March
A5: M04 | B5: APR | C5: April
A6: M05 | B6: MAY | C6: May
A7: M06 | B7: JUN | C7: June
A8: M07 | B8: JUL | C8: July
A9: M08 | B9: AUG | C9: August
A10: M09 | B10: SEP | C10: September
A11: M10 | B11: OCT | C11: October
A12: M11 | B12: NOV | C12: November
... A17: S03 | B17: AN AV | C17: Annual Average

Sheet Area
A1: area_code | B1: area_name
A2: 0 | B2: U.S. city average
A3: 100 | B3: Northeast urban
A4: 200 | B4: Midwest urban
A5: 300 | B5: South urban
A6: 400 | B6: West urban
A7: A000 | B7: City size A
A8: A100 | B8: Northeast Size A
A9: A101 | B9: New York-Northern New Jersey-Long Island, NY-NJ-CT-PA
A10: A102 | B10: Philadelphia-Wilmington-Atlantic City, PA-NJ-DE-MD
A11: A103 | B11: Boston-Brockton-Nashua, MA-NH-ME-CT
A12: A104 | B12: Pittsburgh, PA
A13: A105 | B13: Buffalo-Niagara Falls, NY
A14: A106 | B14: Scranton, PA
A15: A200 | B15: Midwest Size A
A16: A207 | B16: Chicago-Gary-Kenosha, IL-IN-WI
A17: A208 | B17: Detroit-Ann Arbor-Flint, MI
A18: A209 | B18: St. Louis, MO-IL
... A60: X400 | B60: West Size B/C

Sheet About
A1: Average Price Data (AP)
A2: ap.txt
A4: Section Listing
A6: 1. Survey Definition
A7: 2. FTP files listed in the survey directory
A8: 3. Time series, series file, data file, & mapping file definitions and relationships
A9: 4. Series file format and field definitions
A10: 5. Data file format and field definitions
A11: 6. Mapping file formats and field defintions
A12: 7. Data Element Dictionary
A14: ===================================================================================
A15: Section 1
... A50: following the reference month.
