Workbook

Sheet Sheet 1
B3: Month | C3: Shopping | D3: Clothing | E3: Rent | F3: Transport | G3: Airtime | H3: Stationery | I3: Park Fees | J3: Saving | K3: Repairs | L3: Electricitty | M3: Water | N3: Loan repayment | O3: Hangout with friends | P3: Total
B4: Jan | C4: 220 | D4: 100 | E4: 300 | F4: 90 | G4: 15 | H4: 20 | I4: 20 | J4: 20 | K4: 15 | L4: 10 | M4: 10 | N4: 0 | O4: 60 | P4: =SUM(C4:O4) -> 880
B5: Feb | C5: 200 | D5: 50 | E5: 300 | F5: 90 | G5: 20 | H5: 25 | I5: 20 | J5: 20 | K5: 10 | L5: 10 | M5: 10 | N5: 0 | O5: 120 | P5: =SUM(C5:O5) -> 875
B6: March | C6: 150 | D6: 40 | E6: 300 | F6: 60 | G6: 10 | H6: 25 | I6: 35 | J6: 20 | K6: 5 | L6: 5 | M6: 10 | N6: 0 | O6: 100 | P6: =SUM(C6:O6) -> 760
B7: April | C7: 180 | D7: 50 | E7: 300 | F7: 75 | G7: 10 | H7: 20 | I7: 15 | J7: 20 | K7: 15 | L7: 10 | M7: 15 | N7: 30 | O7: 50 | P7: =SUM(C7:O7) -> 790
B8: May | C8: 150 | D8: 30 | E8: 300 | F8: 80 | G8: 10 | H8: 15 | I8: 0 | J8: 20 | K8: 10 | L8: 5 | M8: 5 | N8: 30 | O8: 70 | P8: =SUM(C8:O8) -> 725
B9: June | C9: 250 | D9: 60 | E9: 300 | F9: 90 | G9: 15 | H9: 20 | I9: 0 | J9: 20 | K9: 5 | L9: 10 | M9: 10 | N9: 30 | O9: 50 | P9: =SUM(C9:O9) -> 860
B10: July | C10: 200 | D10: 0 | E10: 300 | F10: 30 | G10: 15 | H10: 5 | I10: 20 | J10: 20 | K10: 5 | L10: 10 | M10: 10 | N10: 30 | O10: 60 | P10: =SUM(C10:O10) -> 705
B11: August | C11: 180 | D11: 80 | E11: 300 | F11: 100 | G11: 20 | H11: 25 | I11: 20 | J11: 20 | K11: 15 | L11: 25 | M11: 20 | N11: 30 | O11: 80 | P11: =SUM(C11:O11) -> 915
B12: Sept | C12: 250 | D12: 15 | E12: 300 | F12: 90 | G12: 20 | H12: 20 | I12: 30 | J12: 20 | K12: 10 | L12: 20 | M12: 10 | N12: 30 | O12: 40 | P12: =SUM(C12:O12) -> 855
B13: Oct | C13: 180 | D13: 50 | E13: 300 | F13: 85 | G13: 15 | H13: 30 | I13: 5 | J13: 20 | K13: 15 | L13: 20 | M13: 15 | N13: 30 | O13: 50 | P13: =SUM(C13:O13) -> 815
B14: Nov | C14: 220 | D14: 100 | E14: 300 | F14: 90 | G14: 15 | H14: 20 | I14: 20 | J14: 20 | K14: 15 | L14: 10 | M14: 10 | N14: 30 | O14: 80 | P14: =SUM(C14:O14) -> 930
B15: Dec | C15: 220 | D15: 100 | E15: 300 | F15: 90 | G15: 15 | H15: 20 | I15: 20 | J15: 20 | K15: 15 | L15: 10 | M15: 10 | N15: 30 | O15: 80 | P15: =SUM(C15:O15) -> 930
B16: Total | C16: =SUM(C4:C15) -> 2400 | D16: =SUM(D4:D15) -> 675 | E16: =SUM(E4:E15) -> 3600 | F16: =SUM(F4:F15) -> 970 | G16: =SUM(G4:G15) -> 180 | H16: =SUM(H4:H15) -> 245 | I16: =SUM(I4:I15) -> 205 | J16: =SUM(J4:J15) -> 240 | ... P16: =SUM(P4:P15) -> 10040
B17: Percentage of total | C17: =C16/$P$16 -> 0.23904382 | D17: =D16/$P$16 -> 0.067231076 | E17: =E16/$P$16 -> 0.35856574 | F17: =F16/$P$16 -> 0.096613546 | G17: =G16/$P$16 -> 0.017928287 | H17: =H16/$P$16 -> 0.02440239 | I17: =I16/$P$16 -> 0.020418327 | J17: =J16/$P$16 -> 0.023904382 | ... O17: =O16/$P$16 -> 0.083665339

Sheet Sheet 2
B2: Month | C2: Date | D2: Shopping | E2: Clothing | F2: Rent | G2: Transport | H2: Airtime | I2: Stationery | J2: Park Fees | K2: Saving | L2: Repairs | M2: Electricitty | N2: Water | O2: Loan repayment | P2: Hangout with friends | Q2: Total
B3: Jan | C3: 3rd | D3: 100 | E3: 10 | F3: 300 | G3: 30 | H3: 5 | I3: 10 | J3: 0 | K3: 0 | L3: 0 | M3: 0 | N3: 0 | O3: 0 | P3: 20 | Q3: =SUM(D3:P3) -> 475
C4: 10th | D4: 20 | E4: 15 | F4: 0 | G4: 40 | H4: 15 | I4: 5 | J4: 10 | K4: 0 | L4: 0 | M4: 0 | N4: 0 | O4: 0 | P4: 15 | Q4: =SUM(D4:P4) -> 120
C5: 20th | D5: 30 | E5: 0 | F5: 0 | G5: 20 | H5: 0 | I5: 0 | J5: 0 | K5: 0 | L5: 0 | M5: 0 | N5: 0 | O5: 0 | P5: 0 | Q5: =SUM(D5:P5) -> 50
C6: 28th | D6: 30 | E6: 20 | G6: 10 | H6: 10 | I6: 7 | J6: 0 | K6: 20 | L6: 5 | M6: 10 | N6: 15 | O6: 0 | Q6: =SUM(D6:P6) -> 127
C7: Monthly Total | D7: =SUM(D3:D6) -> 180 | E7: =SUM(E3:E6) -> 45 | F7: =SUM(F3:F6) -> 300 | G7: =SUM(G3:G6) -> 100 | H7: =SUM(H3:H6) -> 30 | I7: =SUM(I3:I6) -> 22 | J7: =SUM(J3:J6) -> 10 | K7: =SUM(K3:K6) -> 20 | ... Q7: =SUM(Q3:Q6) -> 772
B8: Feb | C8: 4th | D8: 110 | E8: 15 | F8: 300 | G8: 50 | H8: 10 | I8: 10 | J8: 0 | K8: 10 | L8: 10 | M8: 15 | N8: 0 | O8: 0 | P8: 15 | Q8: =SUM(D8:P8) -> 545
C9: 15th | D9: 50 | E9: 10 | F9: 0 | G9: 30 | H9: 10 | I9: 10 | J9: 15 | K9: 15 | L9: 0 | M9: 0 | N9: 0 | O9: 0 | P9: 10 | Q9: =SUM(D9:P9) -> 150
C10: 22nd | D10: 10 | E10: 10 | F10: 0 | G10: 30 | H10: 5 | I10: 5 | J10: 0 | K10: 0 | L10: 5 | M10: 10 | N10: 0 | O10: 0 | P10: 20 | Q10: =SUM(D10:P10) -> 95
C11: 28th | D11: 30 | E11: 20 | G11: 10 | H11: 10 | I11: 7 | J11: 0 | K11: 20 | L11: 5 | M11: 10 | N11: 15 | O11: 0 | P11: 30 | Q11: =SUM(D11:P11) -> 157
C12: Monthly Total | D12: =SUM(D8:D11) -> 200 | E12: =SUM(E8:E11) -> 55 | F12: =SUM(F8:F11) -> 300 | G12: =SUM(G8:G11) -> 120 | H12: =SUM(H8:H11) -> 35 | I12: =SUM(I8:I11) -> 32 | J12: =SUM(J8:J11) -> 15 | K12: =SUM(K8:K11) -> 45 | ... Q12: =SUM(Q8:Q11) -> 947
C13: YTD Total | D13: =D7+D12 -> 380 | E13: =E7+E12 -> 100 | F13: =F7+F12 -> 600 | G13: =G7+G12 -> 220 | H13: =H7+H12 -> 65 | I13: =I7+I12 -> 54 | J13: =J7+J12 -> 25 | K13: =K7+K12 -> 65 | ... Q13: =Q7+Q12 -> 1719
B14: March | C14: 1st | D14: 90 | E14: 0 | F14: 300 | G14: 0 | H14: 10 | I14: 20 | J14: 0 | K14: 20 | L14: 10 | M14: 0 | N14: 0 | O14: 0 | P14: 40 | Q14: =SUM(D14:P14) -> 490
C15: 10th | D15: 45 | E15: 15 | F15: 0 | H15: 20 | I15: 15 | J15: 10 | K15: 0 | L15: 0 | M15: 10 | N15: 20 | O15: 0 | P15: 15 | Q15: =SUM(D15:P15) -> 150
C16: 17th | D16: 0 | E16: 0 | F16: 0 | G16: 30 | H16: 20 | I16: 12 | J16: 20 | K16: 30 | L16: 0 | M16: 25 | N16: 25 | O16: 20 | P16: 0 | Q16: =SUM(D16:P16) -> 182
C17: 28th | D17: 35 | E17: 10 | G17: 15 | H17: 20 | I17: 10 | J17: 0 | K17: 20 | L17: 10 | M17: 0 | N17: 0 | O17: 10 | P17: 60 | Q17: =SUM(D17:P17) -> 190
C18: Monthly Total | D18: =SUM(D14:D17) -> 170 | E18: =SUM(E14:E17) -> 25 | F18: =SUM(F14:F17) -> 300 | G18: =SUM(G14:G17) -> 45 | H18: =SUM(H14:H17) -> 70 | I18: =SUM(I14:I17) -> 57 | J18: =SUM(J14:J17) -> 30 | K18: =SUM(K14:K17) -> 70 | ... Q18: =SUM(Q14:Q17) -> 1012
C19: YTD Total | D19: =D13+D18 -> 550 | E19: =E13+E18 -> 125 | F19: =F13+F18 -> 900 | G19: =G13+G18 -> 265 | H19: =H13+H18 -> 135 | I19: =I13+I18 -> 111 | J19: =J13+J18 -> 55 | K19: =K13+K18 -> 135 | ... Q19: =Q13+Q18 -> 2731
B20: April
C24: Monthly Total | D24: =SUM(D20:D23) -> 0 | E24: =SUM(E20:E23) -> 0 | F24: =SUM(F20:F23) -> 0 | G24: =SUM(G20:G23) -> 0 | H24: =SUM(H20:H23) -> 0 | I24: =SUM(I20:I23) -> 0 | J24: =SUM(J20:J23) -> 0 | K24: =SUM(K20:K23) -> 0 | ... Q24: =SUM(Q20:Q23) -> 0
C25: YTD Total | D25: =D19+D24 -> 550 | E25: =E19+E24 -> 125 | F25: =F19+F24 -> 900 | G25: =G19+G24 -> 265 | H25: =H19+H24 -> 135 | I25: =I19+I24 -> 111 | J25: =J19+J24 -> 55 | K25: =K19+K24 -> 135 | ... Q25: =Q19+Q24 -> 2731
B26: May | Q26: =SUM(D26:P26) -> 0
C30: Monthly Total | D30: =SUM(D26:D29) -> 0 | E30: =SUM(E26:E29) -> 0 | F30: =SUM(F26:F29) -> 0 | G30: =SUM(G26:G29) -> 0 | H30: =SUM(H26:H29) -> 0 | I30: =SUM(I26:I29) -> 0 | J30: =SUM(J26:J29) -> 0 | K30: =SUM(K26:K29) -> 0 | ... Q30: =SUM(Q26:Q29) -> 0
C31: YTD Total | D31: =D25+D30 -> 550 | E31: =E25+E30 -> 125 | F31: =F25+F30 -> 900 | G31: =G25+G30 -> 265 | H31: =H25+H30 -> 135 | I31: =I25+I30 -> 111 | J31: =J25+J30 -> 55 | K31: =K25+K30 -> 135 | ... Q31: =Q25+Q30 -> 2731
B32: June | Q32: =SUM(D32:P32) -> 0
C36: Monthly Total | D36: =SUM(D32:D35) -> 0 | E36: =SUM(E32:E35) -> 0 | F36: =SUM(F32:F35) -> 0 | G36: =SUM(G32:G35) -> 0 | H36: =SUM(H32:H35) -> 0 | I36: =SUM(I32:I35) -> 0 | J36: =SUM(J32:J35) -> 0 | K36: =SUM(K32:K35) -> 0 | ... Q36: =SUM(Q32:Q35) -> 0
C37: YTD Total | D37: =D31+D36 -> 550 | E37: =E31+E36 -> 125 | F37: =F31+F36 -> 900 | G37: =G31+G36 -> 265 | H37: =H31+H36 -> 135 | I37: =I31+I36 -> 111 | J37: =J31+J36 -> 55 | K37: =K31+K36 -> 135 | ... Q37: =Q31+Q36 -> 2731
B38: July | Q38: =SUM(D38:P38) -> 0
C42: Monthly Total | D42: =SUM(D38:D41) -> 0 | E42: =SUM(E38:E41) -> 0 | F42: =SUM(F38:F41) -> 0 | G42: =SUM(G38:G41) -> 0 | H42: =SUM(H38:H41) -> 0 | I42: =SUM(I38:I41) -> 0 | J42: =SUM(J38:J41) -> 0 | K42: =SUM(K38:K41) -> 0 | ... Q42: =SUM(Q38:Q41) -> 0
C43: YTD Total | D43: =D37+D42 -> 550 | E43: =E37+E42 -> 125 | F43: =F37+F42 -> 900 | G43: =G37+G42 -> 265 | H43: =H37+H42 -> 135 | I43: =I37+I42 -> 111 | J43: =J37+J42 -> 55 | K43: =K37+K42 -> 135 | ... Q43: =Q37+Q42 -> 2731
B44: August | Q44: =SUM(D44:P44) -> 0
C48: Monthly Total | D48: =SUM(D44:D47) -> 0 | E48: =SUM(E44:E47) -> 0 | F48: =SUM(F44:F47) -> 0 | G48: =SUM(G44:G47) -> 0 | H48: =SUM(H44:H47) -> 0 | I48: =SUM(I44:I47) -> 0 | J48: =SUM(J44:J47) -> 0 | K48: =SUM(K44:K47) -> 0 | ... Q48: =SUM(Q44:Q47) -> 0
C49: YTD Total | D49: =D43+D48 -> 550 | E49: =E43+E48 -> 125 | F49: =F43+F48 -> 900 | G49: =G43+G48 -> 265 | H49: =H43+H48 -> 135 | I49: =I43+I48 -> 111 | J49: =J43+J48 -> 55 | K49: =K43+K48 -> 135 | ... Q49: =Q43+Q48 -> 2731
B50: Sept | Q50: =SUM(D50:P50) -> 0
C54: Monthly Total | D54: =SUM(D50:D53) -> 0 | E54: =SUM(E50:E53) -> 0 | F54: =SUM(F50:F53) -> 0 | G54: =SUM(G50:G53) -> 0 | H54: =SUM(H50:H53) -> 0 | I54: =SUM(I50:I53) -> 0 | J54: =SUM(J50:J53) -> 0 | K54: =SUM(K50:K53) -> 0 | ... Q54: =SUM(Q50:Q53) -> 0
C55: YTD Total | D55: =D49+D54 -> 550 | E55: =E49+E54 -> 125 | F55: =F49+F54 -> 900 | G55: =G49+G54 -> 265 | H55: =H49+H54 -> 135 | I55: =I49+I54 -> 111 | J55: =J49+J54 -> 55 | K55: =K49+K54 -> 135 | ... Q55: =Q49+Q54 -> 2731
B56: Oct | Q56: =SUM(D56:P56) -> 0
C60: Monthly Total | D60: =SUM(D56:D59) -> 0 | E60: =SUM(E56:E59) -> 0 | F60: =SUM(F56:F59) -> 0 | G60: =SUM(G56:G59) -> 0 | H60: =SUM(H56:H59) -> 0 | I60: =SUM(I56:I59) -> 0 | J60: =SUM(J56:J59) -> 0 | K60: =SUM(K56:K59) -> 0 | ... Q60: =SUM(Q56:Q59) -> 0
C61: YTD Total | D61: =D55+D60 -> 550 | E61: =E55+E60 -> 125 | F61: =F55+F60 -> 900 | G61: =G55+G60 -> 265 | H61: =H55+H60 -> 135 | I61: =I55+I60 -> 111 | J61: =J55+J60 -> 55 | K61: =K55+K60 -> 135 | ... Q61: =Q55+Q60 -> 2731
B62: Nov | Q62: =SUM(D62:P62) -> 0
...
