Workbook

Sheet Sheet2
A3: Column Labels
A4: DreamWorks Distribution | E4: DreamWorks Distribution Sum of $245,000,000 | F4: DreamWorks Distribution Sum of $937,000,000 | G4: Lionsgate | I4: Lionsgate Sum of $245,000,000 | J4: Lionsgate Sum of $937,000,000 | K4: New Line Cinema | M4: New Line Cinema Sum of $245,000,000 | N4: New Line Cinema Sum of $937,000,000 | O4: Newmarket Films | Q4: Newmarket Films Sum of $245,000,000 | R4: Newmarket Films Sum of $937,000,000 | S4: Paramount Pictures | U4: Paramount Pictures Sum of $245,000,000 | V4: Paramount Pictures Sum of $937,000,000 | W4: Sony Pictures Releasing | AA4: Sony Pictures Releasing Sum of $245,000,000 | AB4: Sony Pictures Releasing Sum of $937,000,000 | AC4: Twentieth Century Fox | AE4: Twentieth Century Fox Sum of $245,000,000 | AF4: Twentieth Century Fox Sum of $937,000,000 | AG4: Universal Pictures | AO4: Universal Pictures Sum of $245,000,000 | AP4: Universal Pictures Sum of $937,000,000 | AQ4: Walt Disney Studios Motion Pictures | BE4: Walt Disney Studios Motion Pictures Sum of $245,000,000 | BF4: Walt Disney Studios Motion Pictures Sum of $937,000,000 | BG4: Warner Bros. | BM4: Warner Bros. Sum of $245,000,000 | BN4: Warner Bros. Sum of $937,000,000 | BO4: Total Sum of $245,000,000 | BP4: Total Sum of $937,000,000
A5: AA, C, R | C5: AA, SF | G5: AA, SF | K5: AA, D | O5: D | S5: D | W5: AA, C | Y5: AA, SF | AC5: AA, SF | AG5: AA, C | AI5: AA, C, SF | AK5: AA, SF | AM5: SF | AQ5: AA | AS5: AA, C | AU5: AA, C, SF | AW5: AA, D | AY5: AA, D, SF | BA5: AA, SF | BC5: R | BG5: AA | BI5: AA, D | BK5: AA, SF
A6: Sum of $245,000,000 | B6: Sum of $937,000,000 | C6: Sum of $245,000,000 | D6: Sum of $937,000,000 | G6: Sum of $245,000,000 | H6: Sum of $937,000,000 | K6: Sum of $245,000,000 | L6: Sum of $937,000,000 | O6: Sum of $245,000,000 | P6: Sum of $937,000,000 | S6: Sum of $245,000,000 | T6: Sum of $937,000,000 | W6: Sum of $245,000,000 | X6: Sum of $937,000,000 | Y6: Sum of $245,000,000 | Z6: Sum of $937,000,000 | AC6: Sum of $245,000,000 | AD6: Sum of $937,000,000 | AG6: Sum of $245,000,000 | AH6: Sum of $937,000,000 | AI6: Sum of $245,000,000 | AJ6: Sum of $937,000,000 | AK6: Sum of $245,000,000 | AL6: Sum of $937,000,000 | AM6: Sum of $245,000,000 | AN6: Sum of $937,000,000 | AQ6: Sum of $245,000,000 | AR6: Sum of $937,000,000 | AS6: Sum of $245,000,000 | AT6: Sum of $937,000,000 | AU6: Sum of $245,000,000 | AV6: Sum of $937,000,000 | AW6: Sum of $245,000,000 | AX6: Sum of $937,000,000 | AY6: Sum of $245,000,000 | AZ6: Sum of $937,000,000 | BA6: Sum of $245,000,000 | BB6: Sum of $937,000,000 | BC6: Sum of $245,000,000 | BD6: Sum of $937,000,000 | BG6: Sum of $245,000,000 | BH6: Sum of $937,000,000 | BI6: Sum of $245,000,000 | BJ6: Sum of $937,000,000 | BK6: Sum of $245,000,000 | BL6: Sum of $937,000,000
A7: 150000000 | B7: 441000000 | C7: 200000000 | D7: 402000000 | E7: 350000000 | F7: 843000000 | G7: 208000000 | H7: 833000000 | I7: 208000000 | J7: 833000000 | K7: 94000000 | L7: 377000000 | M7: 94000000 | N7: 377000000 | O7: 30000000 | P7: 370000000 | Q7: 30000000 | R7: 370000000 | S7: 200000000 | T7: 601000000 | U7: 200000000 | V7: 601000000 | W7: 90000000 | X7: 405000000 | Y7: 499000000 | Z7: 1169000000 | AA7: 589000000 | AB7: 1574000000 | AC7: 476000000 | AD7: 1868000000 | AE7: 476000000 | AF7: 1868000000 | AG7: 75000000 | AH7: 368000000 | AI7: 76000000 | AJ7: 368000000 | AK7: 383000000 | AL7: 1427000000 | AM7: 11000000 | AN7: 359000000 | AO7: 545000000 | AP7: 2522000000 | AQ7: 225000000 | AR7: 423000000 | AS7: 994000000 | AT7: 2553000000 | AU7: 400000000 | AV7: 999000000 | AW7: 480000000 | AX7: 960000000 | AY7: 356000000 | AZ7: 858000000 | BA7: 2390000000 | BB7: 5372013994 | BC7: 160000000 | BD7: 504000000 | BE7: 5005000000 | BF7: 11669013994 | BG7: 250000000 | BH7: 448000000 | BI7: 435000000 | BJ7: 914000000 | BK7: 149000000 | BL7: 413000000 | BM7: 834000000 | BN7: 1775000000 | BO7: 8331000000 | BP7: 22432013994

Sheet Data
A1: Title | B1: Year | C1: Studio | D1: Genre | E1: Rating | F1: Budget | G1: Box-Office USA | H1: Simple Profitability Ratio R1 | I1: Simple Profitability Ratio R2 | P1: Revenue AA | Q1: SF | R1: D | S1: C | T1: R
A2: Star Wars: Episode VII - The Force Awakens | B2: 2015 | C2: Walt Disney Studios Motion Pictures | D2: AA, SF | E2: PG - 13 | F2: 245000000 | G2: 937000000 | H2: =G2/F2 -> 3.8244898 | I2: =(G2-F2)/F2 -> 2.8244898 | J2: AA | K2: SF | O2: =COUNTIF(D2:D51,"*AA*") -> 46 | P2: =G2-F2 -> 692000000 | Q2: =G2-F2 -> 692000000
A3: Avengers: Endgame | B3: 2019 | C3: Walt Disney Studios Motion Pictures | D3: AA, D, SF | E3: PG - 13 | F3: 356000000 | G3: 858000000 | H3: =G3/F3 -> 2.4101124 | I3: =(G3-F3)/F3 -> 1.4101124 | J3: AA | K3: SF | L3: D | O3: =COUNTIF(D2:D52,"*SF*") -> 30 | P3: =G3-F3 -> 502000000 | Q3: =G3-F3 -> 502000000 | R3: =G3-F3 -> 502000000
A4: Avatar | B4: 2009 | C4: Twentieth Century Fox | D4: AA, SF | E4: PG - 13 | F4: 237000000 | G4: 750000000 | H4: =G4/F4 -> 3.164557 | I4: =(G4-F4)/F4 -> 2.164557 | J4: AA | K4: SF | O4: =COUNTIF(D2:D53,"*D*") -> 9 | P4: =G4-F4 -> 513000000 | Q4: =G4-F4 -> 513000000
A5: Black Panther | B5: 2018 | C5: Walt Disney Studios Motion Pictures | D5: AA, SF | E5: PG - 13 | F5: 202000000 | G5: 700000000 | H5: =G5/F5 -> 3.4653465 | I5: =(G5-F5)/F5 -> 2.4653465 | J5: AA | K5: SF | O5: =COUNTIF(D2:D54,"*C*") -> 12 | P5: =G5-F5 -> 498000000 | Q5: =G5-F5 -> 498000000
A6: Avengers: Infinity War | B6: 2018 | C6: Walt Disney Studios Motion Pictures | D6: AA, SF | E6: PG - 13 | F6: 316000000 | G6: 679000000 | H6: =G6/F6 -> 2.1487342 | I6: =(G6-F6)/F6 -> 1.1487342 | J6: AA | K6: SF | O6: =COUNTIF(D2:D55,"*R*") -> 2 | P6: =G6-F6 -> 363000000 | Q6: =G6-F6 -> 363000000
A7: Titanic | B7: 1997 | C7: Paramount Pictures | D7: D | E7: PG - 13 | F7: 200000000 | G7: 601000000 | H7: =G7/F7 -> 3.005 | I7: =(G7-F7)/F7 -> 2.005 | L7: D | R7: =G7-F7 -> 401000000
A8: Jurassic World | B8: 2015 | C8: Universal Pictures | D8: AA, SF | E8: PG - 13 | F8: 150000000 | G8: 652000000 | H8: =G8/F8 -> 4.3466667 | I8: =(G8-F8)/F8 -> 3.3466667 | J8: AA | K8: SF | P8: =G8-F8 -> 502000000 | Q8: =G8-F8 -> 502000000
A9: The Avengers | B9: 2012 | C9: Walt Disney Studios Motion Pictures | D9: AA, SF | E9: PG - 13 | F9: 220000000 | G9: 623000000 | H9: =G9/F9 -> 2.8318182 | I9: =(G9-F9)/F9 -> 1.8318182 | J9: AA | K9: SF | P9: =G9-F9 -> 403000000 | Q9: =G9-F9 -> 403000000
A10: Star Wars: Episode VIII - The Last Jedi | B10: 2017 | C10: Walt Disney Studios Motion Pictures | D10: AA, SF | E10: PG - 13 | F10: 317000000 | G10: 620000000 | H10: =G10/F10 -> 1.955836 | I10: =(G10-F10)/F10 -> 0.95583596 | J10: AA | K10: SF | P10: =G10-F10 -> 303000000 | Q10: =G10-F10 -> 303000000
A11: Icredibles 2 | B11: 2018 | C11: Walt Disney Studios Motion Pictures | D11: AA, C, SF | E11: PG - 13 | F11: 200000000 | G11: 609000000 | H11: =G11/F11 -> 3.045 | I11: =(G11-F11)/F11 -> 2.045 | J11: AA | K11: SF | M11: C | P11: =G11-F11 -> 409000000 | Q11: =G11-F11 -> 409000000 | S11: =Q11 -> 409000000
A12: The Lion King (Live Action) | B12: 2019 | C12: Walt Disney Studios Motion Pictures | D12: AA, D | E12: PG. | F12: 260000000 | G12: 544000000 | H12: =G12/F12 -> 2.0923077 | I12: =(G12-F12)/F12 -> 1.0923077 | J12: AA | L12: D | P12: =G12-F12 -> 284000000 | R12: =P12 -> 284000000
A13: The Dark Knight | B13: 2008 | C13: Warner Bros. | D13: AA, D | E13: PG - 13 | F13: 185000000 | G13: 533000000 | H13: =G13/F13 -> 2.8810811 | I13: =(G13-F13)/F13 -> 1.8810811 | J13: AA | L13: D | P13: =G13-F13 -> 348000000 | R13: =P13 -> 348000000
A14: Rogue One: A Star Wars Story | B14: 2016 | C14: Walt Disney Studios Motion Pictures | D14: AA, SF | E14: PG - 13 | F14: 200000000 | G14: 532000000 | H14: =G14/F14 -> 2.66 | I14: =(G14-F14)/F14 -> 1.66 | J14: AA | K14: SF | P14: =G14-F14 -> 332000000 | Q14: =G14-F14 -> 332000000
A15: Star Wars: Episode IX - The Rise of Skywalker | B15: 2019 | C15: Walt Disney Studios Motion Pictures | D15: AA, SF | E15: PG - 13 | F15: 275000000 | G15: 515000000 | H15: =G15/F15 -> 1.8727273 | I15: =(G15-F15)/F15 -> 0.87272727 | J15: AA | K15: SF | P15: =G15-F15 -> 240000000 | Q15: =G15-F15 -> 240000000
A16: Beauty and the Beast | B16: 2017 | C16: Walt Disney Studios Motion Pictures | D16: R | E16: PG. | F16: 160000000 | G16: 504000000 | H16: =G16/F16 -> 3.15 | I16: =(G16-F16)/F16 -> 2.15 | N16: R | T16: =G16-F16 -> 344000000
A17: Finding Dory | B17: 2016 | C17: Walt Disney Studios Motion Pictures | D17: AA, C | E17: PG. | F17: 200000000 | G17: 486000000 | H17: =G17/F17 -> 2.43 | I17: =(G17-F17)/F17 -> 1.43 | J17: AA | M17: C | P17: =S17 -> 286000000 | S17: =G17-F17 -> 286000000
A18: Frozen II | B18: 2019 | C18: Walt Disney Studios Motion Pictures | D18: AA, C | E18: PG. | F18: 150000000 | G18: 477000000 | H18: =G18/F18 -> 3.18 | I18: =(G18-F18)/F18 -> 2.18 | J18: AA | M18: C | P18: =S18 -> 327000000 | S18: =G18-F18 -> 327000000
A19: Star Wars: Episode I - The Phantom Menace | B19: 1999 | C19: Twentieth Century Fox | D19: AA, SF | E19: PG. | F19: 115000000 | G19: 431000000 | H19: =G19/F19 -> 3.7478261 | I19: =(G19-F19)/F19 -> 2.7478261 | J19: AA | K19: SF | P19: =G19-F19 -> 316000000 | Q19: =G19-F19 -> 316000000
A20: Star Wars: Episode IV - A New Hope | B20: 1977 | C20: Twentieth Century Fox | D20: AA, SF | E20: PG. | F20: 11000000 | G20: 307000000 | H20: =G20/F20 -> 27.909091 | I20: =(G20-F20)/F20 -> 26.909091 | J20: AA | K20: SF | P20: =G20-F20 -> 296000000 | Q20: =G20-F20 -> 296000000
A21: Avengers: Age of Ultron | B21: 2015 | C21: Walt Disney Studios Motion Pictures | D21: AA, SF | E21: PG - 13 | F21: 250000000 | G21: 459000000 | H21: =G21/F21 -> 1.836 | I21: =(G21-F21)/F21 -> 0.836 | J21: AA | K21: SF | P21: =G21-F21 -> 209000000 | Q21: =G21-F21 -> 209000000
A22: The Dark Knight Rises | B22: 2012 | C22: Warner Bros. | D22: AA | E22: PG - 13 | F22: 250000000 | G22: 448000000 | H22: =G22/F22 -> 1.792 | I22: =(G22-F22)/F22 -> 0.792 | J22: AA | P22: =G22-F22 -> 198000000
A23: Shrek 2 | B23: 2004 | C23: DreamWorks Distribution | D23: AA, C, R | E23: PG. | F23: 150000000 | G23: 441000000 | H23: =G23/F23 -> 2.94 | I23: =(G23-F23)/F23 -> 1.94 | J23: AA | M23: C | N23: R | P23: =G23-F23 -> 291000000 | S23: =P23 -> 291000000 | T23: =S23 -> 291000000
A24: E.T. the Txtra-Terrestrial | B24: 1982 | C24: Universal Pictures | D24: SF | E24: PG. | F24: 11000000 | G24: 359000000 | H24: =G24/F24 -> 32.636364 | I24: =(G24-F24)/F24 -> 31.636364 | K24: SF | Q24: =G24-F24 -> 348000000
A25: Toy Story 4 | B25: 2019 | C25: Walt Disney Studios Motion Pictures | D25: AA, C | E25: .G | F25: 200000000 | G25: 434000000 | H25: =G25/F25 -> 2.17 | I25: =(G25-F25)/F25 -> 1.17 | J25: AA | M25: C | P25: =G25-F25 -> 234000000 | S25: =P25 -> 234000000
A26: Captain Marvel | B26: 2019 | C26: Walt Disney Studios Motion Pictures | D26: AA, SF | E26: PG - 13 | F26: 160000000 | G26: 427000000 | H26: =G26/F26 -> 2.66875 | I26: =(G26-F26)/F26 -> 1.66875 | J26: AA | K26: SF | P26: =G26-F26 -> 267000000 | Q26: =G26-F26 -> 267000000
A27: The Hunger Games: Catching Fire | B27: 2013 | C27: Lionsgate | D27: AA, SF | E27: PG - 13 | F27: 130000000 | G27: 425000000 | H27: =G27/F27 -> 3.2692308 | I27: =(G27-F27)/F27 -> 2.2692308 | J27: AA | K27: SF | P27: =G27-F27 -> 295000000 | Q27: =G27-F27 -> 295000000
A28: Pirates of the Caribbean: Dead Man's Chest | B28: 2006 | C28: Walt Disney Studios Motion Pictures | D28: AA | E28: PG - 13 | F28: 225000000 | G28: 423000000 | H28: =G28/F28 -> 1.88 | I28: =(G28-F28)/F28 -> 0.88 | J28: AA | P28: =G28-F28 -> 198000000
A29: The Lion King | B29: 1994 | C29: Walt Disney Studios Motion Pictures | D29: AA, D | E29: .G | F29: 45000000 | G29: 313000000 | H29: =G29/F29 -> 6.9555556 | I29: =(G29-F29)/F29 -> 5.9555556 | J29: AA | L29: D | P29: =G29-F29 -> 268000000 | R29: =P29 -> 268000000
A30: Jurassic World: Fallen Kingdom | B30: 2018 | C30: Universal Pictures | D30: AA, SF | E30: PG - 13 | F30: 170000000 | G30: 418000000 | H30: =G30/F30 -> 2.4588235 | I30: =(G30-F30)/F30 -> 1.4588235 | J30: AA | K30: SF | P30: =G30-F30 -> 248000000 | Q30: =G30-F30 -> 248000000
A31: Toy Story 3 | B31: 2010 | C31: Walt Disney Studios Motion Pictures | D31: AA, C | E31: .G | F31: 200000000 | G31: 415000000 | H31: =G31/F31 -> 2.075 | I31: =(G31-F31)/F31 -> 1.075 | J31: AA | M31: C | P31: =G31-F31 -> 215000000 | S31: =P31 -> 215000000
A32: Wonder Woman | B32: 2017 | C32: Warner Bros. | D32: AA, SF | E32: PG - 13 | F32: 149000000 | G32: 413000000 | H32: =G32/F32 -> 2.7718121 | I32: =(G32-F32)/F32 -> 1.7718121 | J32: AA | K32: SF | P32: =G32-F32 -> 264000000 | Q32: =G32-F32 -> 264000000
A33: Iron Man 3 | B33: 2013 | C33: Walt Disney Studios Motion Pictures | D33: AA, SF | E33: PG - 13 | F33: 200000000 | G33: 409013994 | H33: =G33/F33 -> 2.04507 | I33: =(G33-F33)/F33 -> 1.04507 | J33: AA | K33: SF | P33: =G33-F33 -> 209013994 | Q33: =G33-F33 -> 209013994
A34: Captain America: Civil War | B34: 2016 | C34: Walt Disney Studios Motion Pictures | D34: AA, SF | E34: PG - 13 | F34: 250000000 | G34: 408000000 | H34: =G34/F34 -> 1.632 | I34: =(G34-F34)/F34 -> 0.632 | J34: AA | K34: SF | P34: =G34-F34 -> 158000000 | Q34: =G34-F34 -> 158000000
A35: The Hunger Games | B35: 2012 | C35: Lionsgate | D35: AA, SF | E35: PG - 13 | F35: 78000000 | G35: 408000000 | H35: =G35/F35 -> 5.2307692 | I35: =(G35-F35)/F35 -> 4.2307692 | J35: AA | K35: SF | P35: =G35-F35 -> 330000000 | Q35: =G35-F35 -> 330000000
A36: Spider-Man | B36: 2002 | C36: Sony Pictures Releasing | D36: AA, SF | E36: PG - 13 | F36: 139000000 | G36: 404000000 | H36: =G36/F36 -> 2.9064748 | I36: =(G36-F36)/F36 -> 1.9064748 | J36: AA | K36: SF | P36: =G36-F36 -> 265000000 | Q36: =G36-F36 -> 265000000
A37: Jumanji: Welcome to the Jungle | B37: 2017 | C37: Sony Pictures Releasing | D37: AA, C | E37: PG - 13 | F37: 90000000 | G37: 405000000 | H37: =G37/F37 -> 4.5 | I37: =(G37-F37)/F37 -> 3.5 | J37: AA | M37: C | P37: =G37-F37 -> 315000000 | S37: =P37 -> 315000000
A38: Jurassic Park | B38: 1993 | C38: Universal Pictures | D38: AA, SF | E38: PG - 13 | F38: 63000000 | G38: 357000000 | H38: =G38/F38 -> 5.6666667 | I38: =(G38-F38)/F38 -> 4.6666667 | J38: AA | K38: SF | P38: =G38-F38 -> 294000000 | Q38: =G38-F38 -> 294000000
A39: Transformers: Revenge of the Fallen | B39: 2009 | C39: DreamWorks Distribution | D39: AA, SF | E39: PG - 13 | F39: 200000000 | G39: 402000000 | H39: =G39/F39 -> 2.01 | I39: =(G39-F39)/F39 -> 1.01 | J39: AA | K39: SF | P39: =G39-F39 -> 202000000 | Q39: =G39-F39 -> 202000000
A40: Frozen | B40: 2013 | C40: Walt Disney Studios Motion Pictures | D40: AA, C | E40: PG. | F40: 150000000 | G40: 401000000 | H40: =G40/F40 -> 2.6733333 | I40: =(G40-F40)/F40 -> 1.6733333 | J40: AA | M40: C | P40: =G40-F40 -> 251000000 | S40: =P40 -> 251000000
A41: Spider-Man: Far from Home | B41: 2019 | C41: Sony Pictures Releasing | D41: AA, SF | E41: PG - 13 | F41: 160000000 | G41: 391000000 | H41: =G41/F41 -> 2.44375 | I41: =(G41-F41)/F41 -> 1.44375 | J41: AA | K41: SF | P41: =G41-F41 -> 231000000 | Q41: =G41-F41 -> 231000000
A42: Guardians of the Galaxy Vol. 2 | B42: 2017 | C42: Walt Disney Studios Motion Pictures | D42: AA, C, SF | E42: PG - 13 | F42: 200000000 | G42: 390000000 | H42: =G42/F42 -> 1.95 | I42: =(G42-F42)/F42 -> 0.95 | J42: AA | K42: SF | M42: C | P42: =G42-F42 -> 190000000 | Q42: =G42-F42 -> 190000000 | S42: =P42 -> 190000000
A43: Harry Potter and the Deathly Hallows: Part 2 | B43: 2011 | C43: Warner Bros. | D43: AA, D | E43: PG - 13 | F43: 250000000 | G43: 381000000 | H43: =G43/F43 -> 1.524 | I43: =(G43-F43)/F43 -> 0.524 | J43: AA | L43: D | P43: =G43-F43 -> 131000000 | R43: =P43 -> 131000000
A44: Finding Nemo | B44: 2003 | C44: Walt Disney Studios Motion Pictures | D44: AA, C | E44: .G | F44: 94000000 | G44: 340000000 | H44: =G44/F44 -> 3.6170213 | I44: =(G44-F44)/F44 -> 2.6170213 | J44: AA | M44: C | P44: =G44-F44 -> 246000000 | S44: =P44 -> 246000000
A45: Star Wars: Episode III - Revenge of the Sixth | B45: 2005 | C45: Twentieth Century Fox | D45: AA, SF | E45: PG - 13 | F45: 113000000 | G45: 380000000 | H45: =G45/F45 -> 3.3628319 | I45: =(G45-F45)/F45 -> 2.3628319 | J45: AA | K45: SF | P45: =G45-F45 -> 267000000 | Q45: =G45-F45 -> 267000000
A46: The Lord of the Rings: The Return of the King | B46: 2003 | C46: New Line Cinema | D46: AA, D | E46: PG - 13 | F46: 94000000 | G46: 377000000 | H46: =G46/F46 -> 4.0106383 | I46: =(G46-F46)/F46 -> 3.0106383 | J46: AA | L46: D | P46: =G46-F46 -> 283000000 | R46: =P46 -> 283000000
A47: Spider-Man 2 | B47: 2004 | C47: Sony Pictures Releasing | D47: AA, SF | E47: PG - 13 | F47: 200000000 | G47: 374000000 | H47: =G47/F47 -> 1.87 | I47: =(G47-F47)/F47 -> 0.87 | J47: AA | K47: SF | P47: =G47-F47 -> 174000000 | Q47: =G47-F47 -> 174000000
A48: The Passion of Christ | B48: 2004 | C48: Newmarket Films | D48: D | E48: R | F48: 30000000 | G48: 370000000 | H48: =G48/F48 -> 12.333333 | I48: =(G48-F48)/F48 -> 11.333333 | L48: D | R48: =G48-F48 -> 340000000
A49: The Secret Life of Pets | B49: 2016 | C49: Universal Pictures | D49: AA, C | E49: PG. | F49: 75000000 | G49: 368000000 | H49: =G49/F49 -> 4.9066667 | I49: =(G49-F49)/F49 -> 3.9066667 | J49: AA | M49: C | P49: =G49-F49 -> 293000000 | S49: =P49 -> 293000000
A50: Despicable Me 2 | B50: 2013 | C50: Universal Pictures | D50: AA, C, SF | E50: PG. | F50: 76000000 | G50: 368000000 | H50: =G50/F50 -> 4.8421053 | I50: =(G50-F50)/F50 -> 3.8421053 | J50: AA | K50: SF | M50: C | P50: =G50-F50 -> 292000000 | Q50: =G50-F50 -> 292000000 | S50: =P50 -> 292000000
A51: The Jungle Book (Live Action) | B51: 2016 | C51: Walt Disney Studios Motion Pictures | D51: AA, D | E51: PG. | F51: 175000000 | G51: 103000000 | H51: =G51/F51 -> 0.58857143 | I51: =(G51-F51)/F51 -> -0.41142857 | J51: AA | L51: D | P51: =G51-F51 -> -72000000 | R51: =G51-F51 -> -72000000
F52: =COUNTIF(F2:F51,"*<300,000,000*") -> 0 | J52: =COUNTIF(J2:J51,J51) -> 46 | K52: =COUNTIF(K2:K51,K50) -> 30 | L52: =COUNTIF(L2:L51,L51) -> 9 | M52: =COUNTIF(M2:M51,M50) -> 12 | N52: =COUNTIF(N2:N51,N23) -> 2 | P52: =SUM(P2:P51) -> 13360013994 | Q52: =SUM(Q2:Q51) -> 9612013994 | R52: =SUM(R2:R51) -> 2485000000 | S52: =SUM(S2:S51) -> 3349000000 | T52: =SUM(T2:T51) -> 635000000

Sheet Successful Genres (# of films)
A1: Action/ Adventure | B1: Sci-Fi | C1: Comedy | D1: Drama | E1: Romance
A2: 46 | B2: 30 | C2: 12 | D2: 9 | E2: 2

Sheet Successful Genres (revenue)
A1: Genres | B1: Revenues
A2: AA | B2: =Data!P52 -> 13360013994
A3: SF | B3: =Data!Q52 -> 9612013994
A4: D | B4: =Data!R52 -> 2485000000
A5: C | B5: =Data!S52 -> 3349000000
A6: R | B6: =Data!T52 -> 635000000

Sheet Time Series Chart
B1: Count | C1: Revenue | D1: Studio
B2: =COUNTIF(Data!C2:C51,"*walt*") -> 25 | C2: =GETPIVOTDATA("Sum of $937,000,000",Sheet2!$A$3,"Walt Disney Studios Motion Pictures","Walt Disney Studios Motion Pictures") -> 11669013994 | D2: Walt
B3: =COUNTIF(Data!C2:C52,"*Twentieth*") -> 4 | C3: =GETPIVOTDATA("Sum of $937,000,000",Sheet2!$A$3,"Walt Disney Studios Motion Pictures","Twentieth Century Fox") -> 1868000000 | D3: Twentieth
B4: =COUNTIF(Data!C2:C53,"*Paramount*") -> 1 | C4: =GETPIVOTDATA("Sum of $937,000,000",Sheet2!$A$3,"Walt Disney Studios Motion Pictures","Paramount Pictures") -> 601000000 | D4: Paramount
B5: =COUNTIF(Data!C2:C54,"*Universal*") -> 6 | C5: =GETPIVOTDATA("Sum of $245,000,000",Sheet2!$A$3,"Walt Disney Studios Motion Pictures","Universal Pictures") -> 545000000 | D5: Universal
B6: =COUNTIF(Data!C2:C55,"*Warner*") -> 4 | C6: =GETPIVOTDATA("Sum of $937,000,000",Sheet2!$A$3,"Walt Disney Studios Motion Pictures","Warner Bros.") -> 1775000000 | D6: Warner
B7: =COUNTIF(Data!C2:C56,"*DreamWorks*") -> 2 | C7: =GETPIVOTDATA("Sum of $937,000,000",Sheet2!$A$3,"Walt Disney Studios Motion Pictures","DreamWorks Distribution") -> 843000000 | D7: DeamWorks
B8: =COUNTIF(Data!C2:C57,"*Lionsgate*") -> 2 | C8: =GETPIVOTDATA("Sum of $937,000,000",Sheet2!$A$3,"Walt Disney Studios Motion Pictures","Lionsgate") -> 833000000 | D8: Lionsgate
B9: =COUNTIF(Data!C8:C58,"*Sony*") -> 4 | C9: =GETPIVOTDATA("Sum of $937,000,000",Sheet2!$A$3,"Walt Disney Studios Motion Pictures","Sony Pictures Releasing") -> 1574000000 | D9: Sony
B10: =COUNTIF(Data!C2:C59,"*New Line*") -> 1 | C10: =GETPIVOTDATA("Sum of $937,000,000",Sheet2!$A$3,"Walt Disney Studios Motion Pictures","New Line Cinema") -> 377000000 | D10: New Line
B11: =COUNTIF(Data!C10:C60,"*Newmarket*") -> 1 | C11: =GETPIVOTDATA("Sum of $937,000,000",Sheet2!$A$3,"Walt Disney Studios Motion Pictures","Newmarket Films ") -> 370000000 | D11: New Market

Sheet Most Successful Studios
A1: Studio | B1: Revenue | C1: Count
A2: Walt | B2: =GETPIVOTDATA("Sum of $937,000,000",Sheet2!$A$3,"Walt Disney Studios Motion Pictures","Walt Disney Studios Motion Pictures") -> 11669013994 | C2: =COUNTIF(Data!C2:C51,"*walt*") -> 25
A3: Twentieth | B3: =GETPIVOTDATA("Sum of $937,000,000",Sheet2!$A$3,"Walt Disney Studios Motion Pictures","Twentieth Century Fox") -> 1868000000 | C3: =COUNTIF(Data!C2:C52,"*Twentieth*") -> 4
A4: Paramount | B4: =GETPIVOTDATA("Sum of $937,000,000",Sheet2!$A$3,"Walt Disney Studios Motion Pictures","Paramount Pictures") -> 601000000 | C4: =COUNTIF(Data!C2:C53,"*Paramount*") -> 1
A5: Universal | B5: =GETPIVOTDATA("Sum of $245,000,000",Sheet2!$A$3,"Walt Disney Studios Motion Pictures","Universal Pictures") -> 545000000 | C5: =COUNTIF(Data!C2:C54,"*Universal*") -> 6
A6: Warner | B6: =GETPIVOTDATA("Sum of $937,000,000",Sheet2!$A$3,"Walt Disney Studios Motion Pictures","Warner Bros.") -> 1775000000 | C6: =COUNTIF(Data!C2:C55,"*Warner*") -> 4
A7: DeamWorks | B7: =GETPIVOTDATA("Sum of $937,000,000",Sheet2!$A$3,"Walt Disney Studios Motion Pictures","DreamWorks Distribution") -> 843000000 | C7: =COUNTIF(Data!C2:C56,"*DreamWorks*") -> 2
A8: Lionsgate | B8: =GETPIVOTDATA("Sum of $937,000,000",Sheet2!$A$3,"Walt Disney Studios Motion Pictures","Lionsgate") -> 833000000 | C8: =COUNTIF(Data!C2:C57,"*Lionsgate*") -> 2
A9: Sony | B9: =GETPIVOTDATA("Sum of $937,000,000",Sheet2!$A$3,"Walt Disney Studios Motion Pictures","Sony Pictures Releasing") -> 1574000000 | C9: =COUNTIF(Data!C8:C58,"*Sony*") -> 4
A10: New Line | B10: =GETPIVOTDATA("Sum of $937,000,000",Sheet2!$A$3,"Walt Disney Studios Motion Pictures","New Line Cinema") -> 377000000 | C10: =COUNTIF(Data!C2:C59,"*New Line*") -> 1
A11: New Market | B11: =GETPIVOTDATA("Sum of $937,000,000",Sheet2!$A$3,"Walt Disney Studios Motion Pictures","Newmarket Films ") -> 370000000 | C11: =COUNTIF(Data!C10:C60,"*Newmarket*") -> 1

Sheet Genre Distribution
A1: Genre | B1: Distribution
A2: Action/ Adventure | B2: =Data!O2 -> 46
A3: Sci-Fi | B3: =Data!O3 -> 30
A4: Drama | B4: =Data!O4 -> 9
A5: Comedy | B5: =Data!O5 -> 12
A6: Romance | B6: =Data!O6 -> 2

Sheet Rating Breakdown
A1: Ratings | B1: Result
A2: PG - 13 | B2: =COUNTIF(Data!E2:E51,"*PG - 13*") -> 33
A3: PG | B3: =COUNTIF(Data!E2:E52,"*PG.*") -> 12
A4: G | B4: =COUNTIF(Data!E2:E53,"*.G*") -> 4
A5: R | B5: =COUNTIF(Data!E2:E54,"*R*") -> 1

Sheet # of Blockbusters
A3: Row Labels | B3: Sum of $245,000,000
A4: AA | B4: 475000000
A5: AA, C | B5: 1159000000
A6: AA, C, R | B6: 150000000
A7: AA, C, SF | B7: 476000000
A8: AA, D | B8: 1009000000
A9: AA, D, SF | B9: 356000000
A10: AA, SF | B10: 4305000000
A11: D | B11: 230000000
A12: R | B12: 160000000
A13: SF | B13: 11000000
A14: Grand Total | B14: 8331000000

Sheet 300M - 100M
A3: Row Labels | B3: Count of AA, SF
A4: DreamWorks Distribution | B4: 2
A5: Lionsgate | B5: 2
A6: New Line Cinema | B6: 1
A7: Newmarket Films | B7: 1
A8: Paramount Pictures | B8: 1
A9: Sony Pictures Releasing | B9: 4
A10: Twentieth Century Fox | B10: 4
A11: Universal Pictures | B11: 6
A12: Walt Disney Studios Motion Pictures | B12: 24
A13: Warner Bros. | B13: 4
A14: Grand Total | B14: 49
A16: =COUNTIF(Data!G2:G51,"<$300,000,000") -> 1
A17: =COUNTIF(Data!G2:G51,"<$400,000,000") -> 15
A18: =COUNTIF(Data!G2:G51,"<$500,000,000") -> 35
A19: =COUNTIF(Data!G2:G51,"<$600,000,000") -> 40
A20: =COUNTIF(Data!G2:G51,"<$700,000,000") -> 46
A21: =COUNTIF(Data!G2:G51,"<$800,000,000") -> 48
A22: =COUNTIF(Data!G2:G51,"<$800,000,000") -> 48
A23: =COUNTIF(Data!G2:G51,"<$1000,000,000") -> 50

Sheet Interpretation of Data
A1: The chart with the most financially successful genres based on revenue is vital for the executive to decide before making any move. This chart is a revelation that genre AA has contributed most total revenue followed closely by genre SF, then the commedy genre, romance, and then drama.
