Workbook

Sheet Chart of Accounts (Unit 1)
A1: Students should complete this worksheet and submit the entire workbook in Unit 1.
B3: Asset Accounts | D3: Liability Accounts | F3: Equity Accounts
F9: Revenue Accounts
B14: Place the accounts listed in the box below into their correct category on the sheet. The account will be classified as an Asset, Liability, Equity, Revenue, or Expense. This chart of accounts should help you identify the appropriate accounts to record to as you are analyzing and journaling transactions for this workbook. | F14: Expense Accounts
B23: Place each of these accounts into the appropriate category.
B24: Accounts Payable | D24: Interest Payable
B25: Accounts Receivable | D25: M&R Expense
B26: Accumulated Depreciation | D26: Notes Payable
B27: Cash | D27: Office Supplies
B28: Common Stock | D28: Office Supplies Expense
B29: Depreciation Expense | D29: Prepaid Rent
B30: Dividends | D30: Rent Expense
B31: Dividends Payable | D31: Salaries Expense
B32: Equipment | D32: Salaries Payable
B33: Equipment Rental Revenue | D33: Unearned Rental Fees
B34: Interest Expense | D34: Utilities Expense

Sheet Employee Payroll (Unit 2)
A1: Employee Payroll
A2: Payroll involves preparing employee paychecks, withholding the appropriate amount in taxes, and paying the company’s share of payroll taxes. | B2: Refer to page 351 for assistance
A3: Add a New Employee (use fictious information for this employee) | B3: Fill in this column
A4: First Name
A5: Last Name
A6: Social Security Number
A7: Date of Birth
A8: Marital Status
A9: Citizenship
A10: Address
A11: Email
A12: Employee ID
A13: Birth Date
A14: Earnings Name
A15: Hourly/Annual Rate
... A19: Limit
A23: Complete a Timesheet | B23: Fill in this Column
A24: Employee Name (use fictious information for this employee)
A25: Hourly Wage
A26: Overtime Wage (1.5 of Hourly Wage)
A27: Type of Pay--Regular or Overtime
A28: Total Time Worked for Week of 8.5.19--8.9.9 (Hrs)
A29: Monday, 8.5.19
A30: Tuesday, 8.6.19
A31: Wednesday, 8.7.19
A32: Thursday, 8.8.19
A33: Friday, 8.9.19
A35: Total Payroll for this Employee (regular hours * regular pay) + (overtime hours * overtime pay)
A75: Figure 14.1
... A84: Answer the following questions:
A85: Question 1 answer the following: | B85: Place answer in this column
A86: The pay counted for income taxes is the gross pay less the exemptions. Ed’s gross pay for a two-week period is (weekly pay X 2)
A87: His two allowances are worth (withholding allowance X 2)
A88: His taxable pay is (gross pay - withholding allowance)
A89: The pay counted for income taxes is the gross pay less the exemptions. Karin's gross pay for a two-week period is (weekly pay X 2)
A90: Her four allowances are worth (withholding allowance X 4)
A91: Her taxable pay is (gross pay - withholding allowance)
A93: Question 2 answer the following:
A94: Ed and Karin will each pay FICA based on their gross pay.
A95: For Ed, the FICA payment is (gross pay X 7.65% or .0765)
...

Sheet Dec Journal Entries (Unit 4)
A1: Students should complete this worksheet and submit the entire workbook in Unit 4.
B2: Farm Branch Rentals
B3: General Journal Entries
B4: 42339
B6: Date | C6: Accounts | D6: Debit | E6: Credit
B7: 42339
B10: 43800
B14: 43800
B17: 43803
B20: 43807
B23: 43811
B26: 43814
B30: 43816
B33: 43822
B36: 43822
B39: 43825
B42: 43827
... B48: 43830
C52: Total | D52: =SUM(D7:D51) -> 0 | E52: =SUM(E7:E51) -> 0

Sheet T-Accounts - autofill (Unit 4)
A1: Students should complete this worksheet and submit the entire workbook in Unit 4. (Note: This worksheet should autofill if journals are completed correctly.)
A3: date | B3: Cash | D3: date | F3: date | G3: Accounts Rec. | I3: date | K3: date | L3: Prepaid rent | N3: date
A4: 43800 | B4: ='Dec Journal Entries (Unit 4)'!D7 -> 0 | F4: 43814 | G4: ='Dec Journal Entries (Unit 4)'!D27 -> 0 | K4: 43800 | L4: ='Dec Journal Entries (Unit 4)'!D14 -> 0
C5: ='Dec Journal Entries (Unit 4)'!E11 -> 0 | D5: 43800 | H5: ='Dec Journal Entries (Unit 4)'!E34 -> 0 | I5: 43822
C6: ='Dec Journal Entries (Unit 4)'!E15 -> 0 | D6: 43800 | F6: 43822 | G6: ='Dec Journal Entries (Unit 4)'!D36 -> 0
A7: 43807 | B7: ='Dec Journal Entries (Unit 4)'!D20 -> 0 | F7: 43830 | G7: ='Dec Journal Entries (Unit 4)'!D49 -> 0
C8: ='Dec Journal Entries (Unit 4)'!E24 -> 0 | D8: 43811
A9: 43814 | B9: ='Dec Journal Entries (Unit 4)'!D26 -> 0 | G9: =SUM(G4:G7) -> 0 | H9: =SUM(H4:H7) -> 0 | L9: =SUM(L4:L8) -> 0
A10: 43822 | B10: ='Dec Journal Entries (Unit 4)'!D33 -> 0 | G10: =G9-H9 -> 0
C11: ='Dec Journal Entries (Unit 4)'!E40 -> 0 | D11: 43825
A12: 43830 | B12: ='Dec Journal Entries (Unit 4)'!D48 -> 0
B14: =SUM(B4:B13) -> 0 | C14: =SUM(C4:C13) -> 0
B15: =B14-C14 -> 0
B18: Equipment Rental Revenue | G18: Equipment | L18: Office supplies
C19: ='Dec Journal Entries (Unit 4)'!E28 -> 0 | D19: 43814 | F19: 43800 | G19: ='Dec Journal Entries (Unit 4)'!D10 -> 0 | K19: 43803 | L19: ='Dec Journal Entries (Unit 4)'!D17 -> 0
C20: ='Dec Journal Entries (Unit 4)'!E50 -> 0 | D20: 43830
C22: =SUM(C19:C20) -> 0 | G22: =SUM(G19:G20) -> 0 | L22: =SUM(L19:L21) -> 0
L25: Unearned Equipment Rental Fees
B26: Accounts payable | G26: Notes Payable | I26: date
C27: ='Dec Journal Entries (Unit 4)'!E18 -> 0 | D27: 43803 | H27: ='Dec Journal Entries (Unit 4)'!E12 -> 0 | I27: 43800 | M27: ='Dec Journal Entries (Unit 4)'!E21 -> 0 | N27: 43807
C28: ='Dec Journal Entries (Unit 4)'!E31 -> 0 | D28: 43816 | M28: ='Dec Journal Entries (Unit 4)'!E37 -> 0 | N28: 43822
C29: ='Dec Journal Entries (Unit 4)'!E46 -> 0 | D29: 43830
C31: =SUM(C27:C30) -> 0 | H31: =SUM(H27:H30) -> 0 | M31: =SUM(M27:M30) -> 0
B34: Utilities expense | G34: Salary and wages expense | L34: M&R Expense
A35: 43830 | B35: ='Dec Journal Entries (Unit 4)'!D45 -> 0 | F35: 43811 | G35: ='Dec Journal Entries (Unit 4)'!D23 -> 0 | K35: 43816 | L35: ='Dec Journal Entries (Unit 4)'!D30 -> 0
F36: 43825 | G36: ='Dec Journal Entries (Unit 4)'!D39 -> 0
B38: =SUM(B35:B37) -> 0 | G38: =SUM(G35:G37) -> 0 | L38: =SUM(L35:L37) -> 0
A44: date | B44: Dividents Payable | D44: date | F44: date | G44: Dividends | I44: date | K44: date | L44: Common Stock | N44: date
C45: ='Dec Journal Entries (Unit 4)'!E43 -> 0 | D45: 43830 | F45: 43830 | G45: ='Dec Journal Entries (Unit 4)'!D42 -> 0 | M45: ='Dec Journal Entries (Unit 4)'!E8 -> 0 | N45: 43800
C49: =SUM(C45:C48) -> 0 | G49: =SUM(G45:G48) -> 0 | M49: =SUM(M45:M48) -> 0

Sheet Trial Balance-autofil (Unit 4)
A1: Students should complete this worksheet and submit the entire workbook in Unit 4. (Note: This worksheet should autofill if journals are completed correctly.)
B2: Farm Branch Rentals
B3: Trial Balance
B4: 2015
C5: Unadjusted trial balance | E5: Adjusting entries | G5: Adjusted trial balance
B6: Account | C6: Debit | D6: Credit | E6: Debit | F6: Credit | G6: Debit | H6: Credit
B7: Cash | C7: ='T-Accounts - autofill (Unit 4)'!B15 -> 0 | G7: =+C7+E7-F7 -> 0
B8: Prepaid Rent | C8: ='T-Accounts - autofill (Unit 4)'!L9 -> 0 | F8: ='Adjusting Entries (Unit 4)'!E9 -> 0 | G8: =C8-F8 -> 0
B9: Equipment | C9: ='T-Accounts - autofill (Unit 4)'!G19 -> 0 | G9: =+C9+E9-F9 -> 0
B10: Accumulated Depreciation | F10: ='Adjusting Entries (Unit 4)'!E15 -> 0 | H10: =F10 -> 0
B11: Office Supplies | C11: ='T-Accounts - autofill (Unit 4)'!L22 -> 0 | F11: ='Adjusting Entries (Unit 4)'!E18 -> 0 | G11: =+C11+E11-F11 -> 0
B12: Accounts Receivable | C12: ='T-Accounts - autofill (Unit 4)'!G10 -> 0 | G12: =+C12+E12-F12 -> 0
B13: Notes Payable | D13: ='T-Accounts - autofill (Unit 4)'!H31 -> 0 | H13: =D13 -> 0
B14: Salaries Payable | F14: ='Adjusting Entries (Unit 4)'!E27 -> 0 | H14: =F14 -> 0
B15: Dividends Payable | D15: ='T-Accounts - autofill (Unit 4)'!C45 -> 0 | H15: =D15 -> 0
B16: Interest Payable | F16: ='Adjusting Entries (Unit 4)'!E12 -> 0 | H16: =F16 -> 0
B17: Accounts Payable | D17: ='T-Accounts - autofill (Unit 4)'!C31 -> 0 | H17: =D17 -> 0
B18: Unearned Rental Fees | D18: ='T-Accounts - autofill (Unit 4)'!M31 -> 0 | E18: ='Adjusting Entries (Unit 4)'!D20+'Adjusting Entries (Unit 4)'!D23 -> 0 | H18: =D18-E18 -> 0
B19: Common Stock | D19: ='T-Accounts - autofill (Unit 4)'!M49 -> 0 | H19: =D19 -> 0
B20: Dividends | C20: ='T-Accounts - autofill (Unit 4)'!G49 -> 0 | G20: =+C20+E20-F20 -> 0
B21: Equipment Rental Revenue | D21: ='T-Accounts - autofill (Unit 4)'!C22 -> 0 | F21: ='Adjusting Entries (Unit 4)'!E21+'Adjusting Entries (Unit 4)'!E24 -> 0 | H21: =D21+F21 -> 0
B22: Rent Expense | E22: ='Adjusting Entries (Unit 4)'!D8 -> 0 | G22: =+C22+E22-F22 -> 0
B23: Interest Expense | E23: ='Adjusting Entries (Unit 4)'!D11 -> 0 | G23: =+C23+E23-F23 -> 0
B24: Utilities Expense | C24: ='T-Accounts - autofill (Unit 4)'!B38 -> 0 | G24: =+C24+E24-F24 -> 0
B25: Depreciation Expense | E25: ='Adjusting Entries (Unit 4)'!D14 -> 0 | G25: =+C25+E25-F25 -> 0
B26: Office Supplies Expense | E26: ='Adjusting Entries (Unit 4)'!D17 -> 0 | G26: =+C26+E26-F26 -> 0
B27: M&R Expense | C27: ='T-Accounts - autofill (Unit 4)'!L38 -> 0 | G27: =+C27+E27-F27 -> 0
B28: Salaries Expense | C28: ='T-Accounts - autofill (Unit 4)'!G38 -> 0 | E28: ='Adjusting Entries (Unit 4)'!D26 -> 0 | G28: =+C28+E28-F28 -> 0
B30: Total: | C30: =SUM(C7:C29) -> 0 | D30: =SUM(D7:D29) -> 0 | E30: =SUM(E7:E29) -> 0 | F30: =SUM(F7:F29) -> 0 | G30: =SUM(G7:G28) -> 0 | H30: =SUM(H7:H28) -> 0
D32: =C30-D30 -> 0 | H32: =G30-H30 -> 0

Sheet Adjusting Entries (Unit 4)
A1: Students should complete this worksheet and submit the entire workbook in Unit 4.
B3: Farm Branch Rentals
B4: Adjusting Journal Entries
B5: 2015
B7: Date | C7: Accounts | D7: Debit | E7: Credit
B8: 43830
B11: 43830
B14: 43830
B17: 43830
I18: Interest
K19: Loan Amount
B20: 43830 | K20: Annual interest rate
J21: =J19*J20 -> 0 | K21: Annual interest amount
B23: 43830 | K23: Monthly interest ($6000/12 months)
K24: Monthly interest X # months in period
B26: 43830 | I26: Depreciation
K27: Historical cost of equipment recorded on books
K28: Life of asset (in months)
D29: =SUM(D8:D28) -> 0 | E29: =SUM(E8:E28) -> 0 | J29: =J27/J28 -> #DIV/0! | K29: Monthly Depreciation Expense
K30: # of months expired in period
J31: =J29/J30 -> #DIV/0! | K31: Total Depreciation to be expensed for this period
B32: Write a summary of 2-3 paragraphs explaining how the tasks that you have completed previously (course objectives) impacted your ability to perform these entries.
I34: Office Supplies
K35: Balance in t-account at end of month
K36: Subtract actual amount on-hand
J37: =J35-J36 -> 0 | K37: Entry needed to make books equal amount on hand
I39: Back Hoe Rental Income
K40: Balance in t-account at end of month for back hoe rental
K41: # of days expected to be rented
J42: =J40/J41 -> #DIV/0! | K42: Proposed income revenue per day
K43: # days elapsed at 12/31/2015
J44: =J42*J43 -> #DIV/0! | K44: Total amount of rental revenue earned

Sheet Income Statement (Unit 5)
B1: Students should complete this worksheet and submit the entire workbook in Unit 5. (Note: This worksheet should autofill if journals and trial balance is correct.)
B3: Farm Branch Rentals
B4: Income Statement
B5: For Month Ending 12/31/2015
C8: Equipment Rental Revenue | E8: ='Trial Balance-autofil (Unit 4)'!H21 -> 0
C9: Total Revenues | E9: =SUM(E8:E8) -> 0
C11: Operating Expenses:
C12: Salaries Expense | E12: ='Trial Balance-autofil (Unit 4)'!G28 -> 0
C13: Rent Expense | E13: ='Trial Balance-autofil (Unit 4)'!G22 -> 0
C14: Depreciation Expense | E14: ='Trial Balance-autofil (Unit 4)'!G25 -> 0
C15: Utilities Expense | E15: ='Trial Balance-autofil (Unit 4)'!G24 -> 0
C16: M&R Expense | E16: ='Trial Balance-autofil (Unit 4)'!G27 -> 0
C17: Interest Expense | E17: ='Trial Balance-autofil (Unit 4)'!G23 -> 0
C18: Office Supplies Expense | E18: ='Trial Balance-autofil (Unit 4)'!G26 -> 0
C20: Total Operating Expenses: | E20: =SUM(E12:E19) -> 0
C22: Net Income (FIFO) | E22: =E9-E20 -> 0

Sheet Stmt of Retained Earnings (U5) 
A1: Students should complete this worksheet and submit the entire workbook in Unit 5. (Note: This worksheet should autofill if journals and trial balance is correct.)
B4: Farm Branch Rentals
B5: Statement of Retained Earnings
B6: For Month Ending 12/31/2015
C8: Beginning Balance: | E8: 0
C9: plus Net Income | E9: ='Income Statement (Unit 5)'!E22 -> 0
C10: less Dividends: | E10: =-'Trial Balance-autofil (Unit 4)'!H15 -> 0
C11: Ending Balance: | E11: =E9+E10 -> 0

Sheet Balance Sheet (Unit 5)
A1: Students should complete this worksheet and submit the entire workbook in Unit 5. (Note: This worksheet should autofill if journals and trial balance is correct.)
B3: Farm Branch Rentals
B4: Balance Sheet
B5: As of December 31, 2015
B7: Assets | G7: Liabilities and Owners' Equity
C8: Current Assets: | H8: Current Liabilities:
C9: Cash | D9: ='Trial Balance-autofil (Unit 4)'!G7 -> 0 | H9: Accounts Payable | I9: ='Trial Balance-autofil (Unit 4)'!H17 -> 0
C10: Prepaid Rent | D10: ='Trial Balance-autofil (Unit 4)'!G8 -> 0 | H10: Salaries Payable | I10: ='Trial Balance-autofil (Unit 4)'!H14 -> 0
C11: Office Supplies | D11: ='Trial Balance-autofil (Unit 4)'!G11 -> 0 | H11: Dividends Payable | I11: ='Trial Balance-autofil (Unit 4)'!H15 -> 0
C12: Accounts Receivable | D12: ='Trial Balance-autofil (Unit 4)'!G12 -> 0 | H12: Interest Payable | I12: ='Trial Balance-autofil (Unit 4)'!H16 -> 0
H13: Unearned Equipment Rental Fees | I13: ='Trial Balance-autofil (Unit 4)'!H18 -> 0
H14: Total Current Liabilities | I14: =SUM(I9:I13) -> 0
H16: Long Term Liabilities:
E17: =D9+D10+D11+D12 -> 0 | H17: Notes Payable | I17: ='Trial Balance-autofil (Unit 4)'!H13 -> 0
H18: Total Long Term Liabilities: | I18: =SUM(I17) -> 0
C20: Long Term/Fixed Assets: | H20: Total Liabilities: | I20: =+I14+I18 -> 0
C21: Equipment | D21: ='Trial Balance-autofil (Unit 4)'!G9 -> 0
C22: Accumulated Depreciation | D22: =-'Trial Balance-autofil (Unit 4)'!H10 -> 0 | E22: =+D21+D22 -> 0 | H22: Common Stock | I22: ='Trial Balance-autofil (Unit 4)'!H19 -> 0
H23: Retained Earnings (FIFO): | I23: ='Stmt of Retained Earnings (U5) '!E11 -> 0
H24: Total Equity | I24: =SUM(I22:I23) -> 0
C27: Total Assets: | E27: =E17+E22 -> 0 | H27: Total Liabilities & Equity FIFO | I27: =I20+I24 -> 0

Sheet Closing Entries (Unit 5)
A1: Students should complete this worksheet and submit the entire workbook in Unit 5. (Note: This worksheet should autofill if journals and trial balance is correct.)
B2: Farm Branch Rentals | G2: In the space below, discuss the closing process and explain why these accounts are closed and certain accounts remain open without posting transactions to Quickbooks. • Explain those accounts that remain open and why.
B3: Closing Entries
B4: Month ending 12/31/2015
B6: Date | C6: Accounts | D6: Debit | E6: Credit
B7: 42277 | C7: Equipment Rental Revenue | D7: ='Income Statement (Unit 5)'!E8 -> 0
C8: Income Summary | E8: =SUM(D7:D7) -> 0
B10: 42277 | C10: Income Summary | D10: =SUM(E11:E17) -> 0
C11: Salaries Expense | E11: ='Income Statement (Unit 5)'!E12 -> 0
C12: Rent Expense | E12: ='Income Statement (Unit 5)'!E13 -> 0
C13: Depreciation Expense | E13: ='Income Statement (Unit 5)'!E14 -> 0
C14: Utilities Expense | E14: ='Income Statement (Unit 5)'!E15 -> 0
C15: M&R Expense | E15: ='Income Statement (Unit 5)'!E16 -> 0
C16: Interest Expense | E16: ='Income Statement (Unit 5)'!E17 -> 0
C17: Office Supplies Expense | E17: ='Income Statement (Unit 5)'!E18 -> 0
B19: 42277 | C19: Income Summary | D19: =+E8-D10 -> 0
C20: Retained Earnings | E20: =D19 -> 0
B22: 42277 | C22: Retained Earnings | D22: =E23 -> 0
C23: Dividends | E23: ='Trial Balance-autofil (Unit 4)'!G20 -> 0
D25: =SUM(D7:D23) -> 0 | E25: =SUM(E7:E23) -> 0

Sheet Post Closing Trial Bal (Unit 5)
A1: Students should complete this worksheet and submit the entire workbook in Unit 5. (Note: This worksheet should autofill if journals and trial balance is correct.)
B2: Farm Branch Rentals
B3: Post Closing Trial Balance
B4: Month Ending 12/31/2015
C5: Unadjusted Trial Balance
B6: Account | C6: Debit | D6: Credit
B7: Cash | C7: ='Balance Sheet (Unit 5)'!D9 -> 0
B8: Prepaid Rent | C8: ='Balance Sheet (Unit 5)'!D10 -> 0
B9: Office Supplies | C9: ='Balance Sheet (Unit 5)'!D11 -> 0
B10: Accounts Receivable | C10: ='Balance Sheet (Unit 5)'!D12 -> 0
B11: Equipment | C11: ='Balance Sheet (Unit 5)'!D21 -> 0
B12: Accumulated Depreciation | C12: ='Balance Sheet (Unit 5)'!D22 -> 0
B13: Notes Payable | D13: ='Balance Sheet (Unit 5)'!I17 -> 0
B14: Salaries Payable | D14: ='Balance Sheet (Unit 5)'!I10 -> 0
B15: Dividends Payable | D15: ='Balance Sheet (Unit 5)'!I11 -> 0
B16: Interest Payable | D16: ='Balance Sheet (Unit 5)'!I12 -> 0
B17: Accounts Payable | D17: ='Balance Sheet (Unit 5)'!I9 -> 0
B18: Unearned Equipment Rental Fees | D18: ='Balance Sheet (Unit 5)'!I13 -> 0
B19: Common Stock | D19: ='Balance Sheet (Unit 5)'!I22 -> 0
B20: Retained Earnings | D20: ='Balance Sheet (Unit 5)'!I23 -> 0
C22: =SUM(C7,C8,C11,C12,C9,C10,C13,C14) -> 0 | D22: =SUM(D7:D20) -> 0 | E22: =C22-D22 -> 0

Sheet Financial Analysis (Unit 5)
A2: In the review of the financials, be sure that you include all of the journal entries, adjustments, and employees that have been set up. Discuss the 3 main financial statements and what information is revealed about the company's current position and other related financials that are used during financial analysis. Include at least 5 common financial ratios that help users of the financials understand the position of the company. Be sure to show your work on these ratios and explain why you are using specific numbers. Include disclosures to accompany the December 31, 2015 financial statements. Be sure to include a separate note addressing each of the following: Maturity dates of major liabilities Depreciation policy Several examples of calculations of each to provide a thorough understanding
