Workbook

Sheet Monday
A1: Kimo's Tips
A2: Monday Lunch
A4: Customer | B4: Food | C4: Drinks | D4: Subtotal | E4: Tip Left
A5: 1 | B5: 45 | C5: 6.5 | D5: =B5+C5 -> 51.5 | E5: 8.5
A6: 2 | B6: 62.5 | C6: 9.75 | D6: =B6+C6 -> 72.25 | E6: 15
A7: 3 | B7: 78.18 | C7: =3.25*4 -> 13 | D7: =B7+C7 -> 91.18 | E7: 18.82
A8: 4 | B8: 45.25 | C8: 6.5 | D8: =B8+C8 -> 51.75 | E8: 10
A9: 5 | B9: 66.8 | C9: 18 | D9: =B9+C9 -> 84.8 | E9: 15.2
A10: 6 | B10: 15.45 | C10: 5.25 | D10: =B10+C10 -> 20.7 | E10: 4.3
A11: 7 | B11: 27.38 | C11: 9.75 | D11: =B11+C11 -> 37.13 | E11: 7.5
A12: 8 | B12: 60 | C12: 9.75 | D12: =B12+C12 -> 69.75 | E12: 15
A13: 9 | B13: 125.82 | C13: 25.25 | D13: =B13+C13 -> 151.07 | E13: 40
A14: 10 | B14: 42.18 | C14: 9.75 | D14: =B14+C14 -> 51.93 | E14: 9
A15: 11 | B15: 55.92 | C15: 12.95 | D15: =B15+C15 -> 68.87 | E15: 14
B16: 0 | C16: 0 | D16: =B16+C16 -> 0
B17: 0 | C17: 0 | D17: =B17+C17 -> 0
B18: 0 | C18: 0 | D18: =B18+C18 -> 0
B19: 0 | C19: 0 | D19: =B19+C19 -> 0
B20: 0 | C20: 0 | D20: =B20+C20 -> 0
B21: 0 | C21: 0 | D21: =B21+C21 -> 0
B22: 0 | C22: 0 | D22: =B22+C22 -> 0
B23: 0 | C23: 0 | D23: =B23+C23 -> 0
B24: 0 | C24: 0 | D24: =B24+C24 -> 0
A25: Totals | B25: =SUM(B5:B24) -> 624.48 | C25: =SUM(C5:C24) -> 126.45 | D25: =SUM(D5:D24) -> 750.93 | E25: =SUM(E5:E24) -> 157.32

Sheet Tuesday
A1: Kimo's Tips
A2: Tuesday Lunch
A4: Customer | B4: Food | C4: Drinks | D4: Subtotal | E4: Tip Left
A5: 1 | B5: 63.42 | C5: 13 | D5: =B5+C5 -> 76.42 | E5: 16.58
A6: 2 | B6: 85 | C6: 25 | D6: =B6+C6 -> 110 | E6: 25
A7: 3 | B7: 135.45 | C7: 19.5 | D7: =B7+C7 -> 154.95 | E7: 40
A8: 4 | B8: 15.95 | C8: 3.25 | D8: =B8+C8 -> 19.2 | E8: 4
A9: 5 | B9: 65.32 | C9: 9.75 | D9: =B9+C9 -> 75.07 | E9: 18
A10: 6 | B10: 29.18 | C10: 6.5 | D10: =B10+C10 -> 35.68 | E10: 6
A11: 7 | B11: 18.45 | C11: 3.25 | D11: =B11+C11 -> 21.7 | E11: 4.3
A12: 8 | B12: 125.35 | C12: 40 | D12: =B12+C12 -> 165.35 | E12: 50
A13: 9 | B13: 15.25 | C13: 3.25 | D13: =B13+C13 -> 18.5 | E13: 4
A14: 10 | B14: 42.18 | C14: 6.5 | D14: =B14+C14 -> 48.68 | E14: 9
A15: 11 | B15: 75 | C15: 9.75 | D15: =B15+C15 -> 84.75 | E15: 14
A16: 12 | B16: 160.18 | C16: 35 | D16: =B16+C16 -> 195.18 | E16: 50
... A18: 14 | B18: 34.8 | C18: 6.5 | D18: =B18+C18 -> 41.3 | E18: 6.7
B19: 0 | C19: 0 | D19: =B19+C19 -> 0
B20: 0 | C20: 0 | D20: =B20+C20 -> 0
B21: 0 | C21: 0 | D21: =B21+C21 -> 0
B22: 0 | C22: 0 | D22: =B22+C22 -> 0
B23: 0 | C23: 0 | D23: =B23+C23 -> 0
B24: 0 | C24: 0 | D24: =B24+C24 -> 0
A25: Totals | B25: =SUM(B5:B24) -> 879.78 | C25: =SUM(C5:C24) -> 181.25 | D25: =SUM(D5:D24) -> 1061.03 | E25: =SUM(E5:E24) -> 250.58

Sheet Wednesday
A1: Kimo's Tips
A2: Wednesday Lunch
A4: Customer | B4: Food | C4: Drinks | D4: Subtotal | E4: Tip Left
A5: 1 | B5: 35 | C5: 6.75 | D5: =B5+C5 -> 41.75 | E5: 8.5
A6: 2 | B6: 42.5 | C6: 8.45 | D6: =B6+C6 -> 50.95 | E6: 10
A7: 3 | B7: 100.18 | C7: 10.25 | D7: =B7+C7 -> 110.43 | E7: 25
A8: 4 | B8: 38.75 | C8: 6.75 | D8: =B8+C8 -> 45.5 | E8: 7
A9: 5 | B9: 51.37 | C9: 8.45 | D9: =B9+C9 -> 59.82 | E9: 12
A10: 6 | B10: 16.25 | C10: 5.25 | D10: =B10+C10 -> 21.5 | E10: 3.5
A11: 7 | B11: 12.95 | C11: 6.75 | D11: =B11+C11 -> 19.7 | E11: 4
A12: 8 | B12: 65.81 | C12: 8.45 | D12: =B12+C12 -> 74.26 | E12: 14
A13: 9 | B13: 112.45 | C13: 25.25 | D13: =B13+C13 -> 137.7 | E13: 30
A14: 10 | B14: 35.13 | C14: 6.75 | D14: =B14+C14 -> 41.88 | E14: 9
A15: 11 | B15: 62.1 | C15: 12.95 | D15: =B15+C15 -> 75.05 | E15: 14
A16: 12 | B16: 84.34 | C16: 12.95 | D16: =B16+C16 -> 97.29 | E16: 20
... A20: 16 | B20: 40.44 | C20: 10.25 | D20: =B20+C20 -> 50.69 | E20: 8.85
B21: 0 | C21: 0 | D21: =B21+C21 -> 0
B22: 0 | C22: 0 | D22: =B22+C22 -> 0
B23: 0 | C23: 0 | D23: =B23+C23 -> 0
B24: 0 | C24: 0 | D24: =B24+C24 -> 0
A25: Totals | B25: =SUM(B5:B24) -> 810.09 | C25: =SUM(C5:C24) -> 149.5 | D25: =SUM(D5:D24) -> 959.59 | E25: =SUM(E5:E24) -> 193.35

Sheet Thursday
A1: Kimo's Tips
A2: Thursday Lunch
A4: Customer | B4: Food | C4: Drinks | D4: Subtotal | E4: Tip Left
A5: 1 | B5: 84.9 | C5: 27 | D5: =B5+C5 -> 111.9 | E5: 25
A6: 2 | B6: 15.75 | C6: 3.25 | D6: =B6+C6 -> 19 | E6: 4
A7: 3 | B7: 48.65 | C7: 6.5 | D7: =B7+C7 -> 55.15 | E7: 10
A8: 4 | B8: 105.32 | C8: 9.75 | D8: =B8+C8 -> 115.07 | E8: 25
A9: 5 | B9: 52 | C9: 6.5 | D9: =B9+C9 -> 58.5 | E9: 12.5
A10: 6 | B10: 35.82 | C10: 6.5 | D10: =B10+C10 -> 42.32 | E10: 10
A11: 7 | B11: 115.05 | C11: 13 | D11: =B11+C11 -> 128.05 | E11: 30
A12: 8 | B12: 25.9 | C12: 6.5 | D12: =B12+C12 -> 32.4 | E12: 7.6
A13: 9 | B13: 34.85 | C13: 6.5 | D13: =B13+C13 -> 41.35 | E13: 8
A14: 10 | B14: 70.25 | C14: 13 | D14: =B14+C14 -> 83.25 | E14: 17
A15: 11 | B15: 75.08 | C15: 13 | D15: =B15+C15 -> 88.08 | E15: 17
A16: 12 | B16: 135.82 | C16: 45 | D16: =B16+C16 -> 180.82 | E16: 40
... A24: 20 | B24: 18.88 | C24: 3.25 | D24: =B24+C24 -> 22.13 | E24: 5
A25: Totals | B25: =SUM(B5:B24) -> 1216.35 | C25: =SUM(C5:C24) -> 231.25 | D25: =SUM(D5:D24) -> 1447.6 | E25: =SUM(E5:E24) -> 313.1

Sheet Friday
A1: Kimo's Tips
A2: Friday Lunch
A4: Customer | B4: Food | C4: Drinks | D4: Subtotal | E4: Tip Left
A5: 1 | B5: 76.18 | C5: 6.75 | D5: =B5+C5 -> 82.93 | E5: 8.5
A6: 2 | B6: 42.5 | C6: 8.45 | D6: =B6+C6 -> 50.95 | E6: 10
A7: 3 | B7: 120.2 | C7: 10.25 | D7: =B7+C7 -> 130.45 | E7: 25
A8: 4 | B8: 45.92 | C8: 6.75 | D8: =B8+C8 -> 52.67 | E8: 7
A9: 5 | B9: 132.18 | C9: 8.45 | D9: =B9+C9 -> 140.63 | E9: 12
A10: 6 | B10: 34.5 | C10: 5.25 | D10: =B10+C10 -> 39.75 | E10: 3.5
A11: 7 | B11: 14.95 | C11: 6.75 | D11: =B11+C11 -> 21.7 | E11: 4
A12: 8 | B12: 84.31 | C12: 8.45 | D12: =B12+C12 -> 92.76 | E12: 14
A13: 9 | B13: 115.18 | C13: 25.25 | D13: =B13+C13 -> 140.43 | E13: 30
A14: 10 | B14: 42.88 | C14: 6.75 | D14: =B14+C14 -> 49.63 | E14: 9
A15: 11 | B15: 65 | C15: 12.95 | D15: =B15+C15 -> 77.95 | E15: 14
A16: 12 | B16: 50.45 | C16: 12.95 | D16: =B16+C16 -> 63.4 | E16: 20
... A24: 20 | B24: 133.92 | C24: 6.75 | D24: =B24+C24 -> 140.67 | E24: 12
A25: Totals | B25: =SUM(B5:B24) -> 1477.84 | C25: =SUM(C5:C24) -> 169.5 | D25: =SUM(D5:D24) -> 1647.34 | E25: =SUM(E5:E24) -> 228.35

Sheet Week
A1: Kimo's Tips
A2: Weekly Totals
A4: Day | B4: Food | C4: Drinks | D4: Subtotal | E4: Tip | F4: Beverage Worker Tip | G4: Assistant Tip | H4: Net Tip
A5: Monday’s Totals | B5: =Monday!B25 -> 624.48 | C5: =Monday!C25 -> 126.45 | D5: =Monday!D25 -> 750.93 | E5: =Monday!E25 -> 157.32 | F5: =[1]Tips!$C$4*C5 -> 16.4385 | G5: =[1]Tips!$C$5*Week!D5 -> 15.0186 | H5: =E5-F5-G5 -> 125.8629
A6: Tuesday’s Totals | B6: =Tuesday!B25 -> 879.78 | C6: =Tuesday!C25 -> 181.25 | D6: =Tuesday!D25 -> 1061.03 | E6: =Tuesday!E25 -> 250.58 | F6: =[1]Tips!$C$4*C6 -> 23.5625 | G6: =[1]Tips!$C$5*Week!D6 -> 21.2206 | H6: =E6-F6-G6 -> 205.7969
A7: Wednesday’s Totals | B7: =Wednesday!B25 -> 810.09 | C7: =Wednesday!C25 -> 149.5 | D7: =Wednesday!D25 -> 959.59 | E7: =Wednesday!E25 -> 193.35 | F7: =[1]Tips!$C$4*C7 -> 19.435 | G7: =[1]Tips!$C$5*Week!D7 -> 19.1918 | H7: =E7-F7-G7 -> 154.7232
A8: Thursday’s Totals | B8: =Thursday!B25 -> 1216.35 | C8: =Thursday!C25 -> 231.25 | D8: =Thursday!D25 -> 1447.6 | E8: =Thursday!E25 -> 313.1 | F8: =[1]Tips!$C$4*C8 -> 30.0625 | G8: =[1]Tips!$C$5*Week!D8 -> 28.952 | H8: =E8-F8-G8 -> 254.0855
A9: Friday’s Totals | B9: =Friday!B25 -> 1477.84 | C9: =Friday!C25 -> 169.5 | D9: =Friday!D25 -> 1647.34 | E9: =Friday!E25 -> 228.35 | F9: =[1]Tips!$C$4*C9 -> 22.035 | G9: =[1]Tips!$C$5*Week!D9 -> 32.9468 | H9: =E9-F9-G9 -> 173.3682
A10: Totals | B10: =SUM(Monday:Week!B5:B9) -> 6662.81 | C10: =SUM(Monday:Week!C5:C9) -> 1116.5 | D10: =SUM(Monday:Week!D5:D9) -> 7779.31 | E10: =SUM(Monday:Week!E5:E9) -> 1515.3 | F10: =SUM(F5:F9) -> 111.5335 | G10: =SUM(G5:G9) -> 117.3298 | H10: =SUM(H5:H9) -> 913.8367
