Workbook

Sheet CIEandPI
A1: Confidence Interval Estimate
A3: Data
A4: X Value | B4: 750
A5: Confidence Level | B5: 0.95
A7: Intermediate Calculations
A8: Sample Size | B8: =COUNT(SLRData2!$A$2:$A$21) -> 20
A9: Degrees of Freedom | B9: =B8 - 2 -> 18
A10: t Value | B10: =_xlfn.T.INV.2T(1 - B5, B9) -> 2.100922
A11: XBar, Sample Mean of X | B11: =AVERAGE(SLRData2!$A$2:$A$21) -> 711.4
A12: Sum of Squared Differences from XBar | B12: =DEVSQ(SLRData2!$A$2:$A$21) -> 140146.8
A13: Standard Error of the Estimate | B13: =COMPUTE2!$B$7 -> 8.7674728
A14: h Statistic | B14: =1/B8+(B4-B11)^2/B12 -> 0.060631424
A15: Predicted Y (YHat) | B15: =TREND(SLRData2!$B$2:$B$21,SLRData2!$A$2:$A$21, B4) -> 83.803664
A17: For Average Y
A18: Interval Half Width | B18: =B10 * B13 * SQRT(B14) -> 4.5355843
A19: Confidence Interval Lower Limit | B19: =B15 - B18 -> 79.268079
A20: Confidence Interval Upper Limit | B20: =B15 + B18 -> 88.339248
A22: For Individual Response Y
A23: Interval Half Width | B23: =B10 * B13 * SQRT(1 + B14) -> 18.969968
A24: Prediction Interval Lower Limit | B24: =B15 - B23 -> 64.833695
A25: Prediction Interval Upper Limit | B25: =B15 + B23 -> 102.77363

Sheet SLRData2
A1: Runs Scored (X) | B1: Wins (Y)
A2: 708 | B2: 69
A3: 875 | B3: 90
A4: 654 | B4: 79
A5: 704 | B5: 80
A6: 787 | B6: 95
A7: 730 | B7: 71
A8: 667 | B8: 86
A9: 619 | B9: 63
A10: 867 | B10: 97
A11: 645 | B11: 74
A12: 556 | B12: 67
A13: 707 | B13: 91
... A21: 615 | B21: 56

Sheet COMPUTE2
A1: Simple Linear Regression Analysis | K1: Calculations
K2: b1, b0 Coefficients | L2: {=LINEST(SLRData2!$B$2:$B$21, SLRData2!$A$2:$A$21,TRUE,TRUE)} -> 0.097245174 | M2: 10.869783
A3: Regression Statistics | K3: b1, b0 Standard Error | L3: 0.023419781 | M3: 16.775779
A4: Multiple R | B4: 0.699454 | K4: R Square, Standard Error | L4: 0.4892359 | M4: 8.7674728
A5: R Square | B5: 0.4892359 | K5: F, Residual df | L5: 17.241318 | M5: 18
A6: Adjusted R Square | B6: 0.46086011 | K6: Regression SS, Residual SS | L6: 1325.3156 | M6: 1383.6344
A7: Standard Error | B7: =M4 -> 8.7674728
A8: Observations | B8: =COUNT(SLRData2!$A:$A) -> 20 | K8: Confidence level | L8: 0.95
K9: t Critical Value | L9: 2.100922
K10: Half Width b0 | L10: 35.244604
K11: Half Width b1 | L11: 0.049203134

Sheet PlotData
B1: Runs Scored (X) | C1: Residuals
B2: 708 | C2: -10.719366
B3: 875 | C3: -5.9593105
B4: 654 | C4: 4.531873
B5: 704 | C5: 0.66961429
B6: 787 | C6: 7.5982648
B7: 730 | C7: -10.85876
B8: 667 | C8: 10.267686
B9: 619 | C9: -8.0645459
B10: 867 | C10: 1.8186509
B11: 645 | C11: 0.40707958
B12: 556 | C12: 2.0619001
B13: 707 | C13: 11.377879
... B21: 615 | C21: -14.675565

Sheet Plot
A1: Rank | B1: Proportion | C1: Z Value | D1: Residuals
A2: 1 | B2: =A2/21 -> 0.047619048 | C2: =_xlfn.NORM.S.INV(B2) -> -1.6683912 | D2: -63.344986
A3: 2 | B3: =A3/21 -> 0.095238095 | C3: =_xlfn.NORM.S.INV(B3) -> -1.3091717 | D3: -58.844986
A4: 3 | B4: =A4/21 -> 0.14285714 | C4: =_xlfn.NORM.S.INV(B4) -> -1.0675705 | D4: -56.175565
A5: 4 | B5: =A5/21 -> 0.19047619 | C5: =_xlfn.NORM.S.INV(B5) -> -0.87614285 | D5: -48.014407
A6: 5 | B6: =A6/21 -> 0.23809524 | C6: =_xlfn.NORM.S.INV(B6) -> -0.71244303 | D6: -46.468127
A7: 6 | B7: =A7/21 -> 0.28571429 | C7: =_xlfn.NORM.S.INV(B7) -> -0.56594882 | D7: -44.956005
A8: 7 | B8: =A8/21 -> 0.33333333 | C8: =_xlfn.NORM.S.INV(B8) -> -0.4307273 | D8: -41.622948
A9: 8 | B9: =A9/21 -> 0.38095238 | C9: =_xlfn.NORM.S.INV(B9) -> -0.30298045 | D9: -40.70394
A10: 9 | B10: =A10/21 -> 0.42857143 | C10: =_xlfn.NORM.S.INV(B10) -> -0.18001237 | D10: -31.181349
A11: 10 | B11: =A11/21 -> 0.47619048 | C11: =_xlfn.NORM.S.INV(B11) -> -0.0597171 | D11: -29.122121
A12: 11 | B12: =A12/21 -> 0.52380952 | C12: =_xlfn.NORM.S.INV(B12) -> 0.0597171 | D12: -14.09292
A13: 12 | B13: =A13/21 -> 0.57142857 | C13: =_xlfn.NORM.S.INV(B13) -> 0.18001237 | D13: -10.85876
... A21: 20 | B21: =A21/21 -> 0.95238095 | C21: =_xlfn.NORM.S.INV(B21) -> 1.6683912 | D21: 7.5982648

Sheet Residuals
A1: Observation | B1: Runs Scored (X) | C1: Predicted Y | D1: Wins (Y) | E1: Residuals
A2: 1 | B2: 708 | C2: =COMPUTE!L2 * B2 + COMPUTE!M2 -> 79.719366 | D2: 69 | E2: =D2 - C2 -> -10.719366
A3: 2 | B3: 875 | C3: =COMPUTE!L2 * B3 + COMPUTE!M2 -> 95.959311 | D3: 90 | E3: =D3 - C3 -> -5.9593105
A4: 3 | B4: 654 | C4: =COMPUTE!L2 * B4 + COMPUTE!M2 -> 74.468127 | D4: 79 | E4: =D4 - C4 -> 4.531873
A5: 4 | B5: 704 | C5: =COMPUTE!L2 * B5 + COMPUTE!M2 -> 79.330386 | D5: 80 | E5: =D5 - C5 -> 0.66961429
A6: 5 | B6: 787 | C6: =COMPUTE!L2 * B6 + COMPUTE!M2 -> 87.401735 | D6: 95 | E6: =D6 - C6 -> 7.5982648
A7: 6 | B7: 730 | C7: =COMPUTE!L2 * B7 + COMPUTE!M2 -> 81.85876 | D7: 71 | E7: =D7 - C7 -> -10.85876
A8: 7 | B8: 667 | C8: =COMPUTE!L2 * B8 + COMPUTE!M2 -> 75.732314 | D8: 73 | E8: =D8 - C8 -> -2.7323143
A9: 8 | B9: 619 | C9: =COMPUTE!L2 * B9 + COMPUTE!M2 -> 71.064546 | D9: 68.5 | E9: =D9 - C9 -> -2.5645459
A10: 9 | B10: 867 | C10: =COMPUTE!L2 * B10 + COMPUTE!M2 -> 95.181349 | D10: 64 | E10: =D10 - C10 -> -31.181349
A11: 10 | B11: 645 | C11: =COMPUTE!L2 * B11 + COMPUTE!M2 -> 73.59292 | D11: 59.5 | E11: =D11 - C11 -> -14.09292
A12: 11 | B12: 556 | C12: =COMPUTE!L2* B12 + COMPUTE!M2 -> 64.9381 | D12: 55 | E12: =D12 - C12 -> -9.9380999
A13: 12 | B13: 707 | C13: =COMPUTE!L2 * B13 + COMPUTE!M2 -> 79.622121 | D13: 50.5 | E13: =D13 - C13 -> -29.122121
A14: 13 | B14: 855 | C14: =COMPUTE!L2 * B14 + COMPUTE!M2 -> 94.014407 | D14: 46 | E14: =D14 - C14 -> -48.014407
A15: 14 | B15: 743 | C15: =COMPUTE!L2 * B15 + COMPUTE!M2 -> 83.122948 | D15: 41.5 | E15: =D15 - C15 -> -41.622948
A16: 15 | B16: 731 | C16: =COMPUTE!L2 * B16 + COMPUTE!M2 -> 81.956005 | D16: 37 | E16: =D16 - C16 -> -44.956005
A17: 16 | B17: 641 | C17: =COMPUTE!L2 * B17 + COMPUTE!M2 -> 73.20394 | D17: 32.5 | E17: =D17 - C17 -> -40.70394
A18: 17 | B18: 654 | C18: =COMPUTE!L2 * B18 + COMPUTE!M2 -> 74.468127 | D18: 28 | E18: =D18 - C18 -> -46.468127
A19: 18 | B19: 735 | C19: =COMPUTE!L2 * B19 + COMPUTE!M2 -> 82.344986 | D19: 23.5 | E19: =D19 - C19 -> -58.844986
A20: 19 | B20: 735 | C20: =COMPUTE!L2 * B20 + COMPUTE!M2 -> 82.344986 | D20: 19 | E20: =D20 - C20 -> -63.344986
A21: 20 | B21: 615 | C21: =COMPUTE!L2 * B21 + COMPUTE!M2 -> 70.675565 | D21: 14.5 | E21: =D21 - C21 -> -56.175565

Sheet SLRData
A1: Runs Scored (X) | B1: Wins (Y)
A2: 708 | B2: 69
A3: 875 | B3: 90
A4: 654 | B4: 79
A5: 704 | B5: 80
A6: 787 | B6: 95
A7: 730 | B7: 71
A8: 667 | B8: 86
A9: 619 | B9: 63
A10: 867 | B10: 97
A11: 645 | B11: 74
A12: 556 | B12: 67
A13: 707 | B13: 91
... A21: 615 | B21: 56

Sheet COMPUTE
A1: Simple Linear Regression Analysis | K1: Calculations
K2: b1, b0 Coefficients | L2: {=LINEST(SLRData!$B$2:$B$21, SLRData!$A$2:$A$21,TRUE,TRUE)} -> 0.097245174 | M2: 10.869783
A3: Regression Statistics | K3: b1, b0 Standard Error | L3: 0.023419781 | M3: 16.775779
A4: Multiple R | B4: 0.699454 | K4: R Square, Standard Error | L4: 0.4892359 | M4: 8.7674728
A5: R Square | B5: 0.4892359 | K5: F, Residual df | L5: 17.241318 | M5: 18
A6: Adjusted R Square | B6: 0.46086011 | K6: Regression SS, Residual SS | L6: 1325.3156 | M6: 1383.6344
A7: Standard Error | B7: =M4 -> 8.7674728
A8: Observations | B8: =COUNT(SLRData!$A:$A) -> 20 | K8: Confidence level | L8: 0.95
K9: t Critical Value | L9: 2.100922
K10: Half Width b0 | L10: 35.244604
K11: Half Width b1 | L11: 0.049203134

Sheet SampleSize2
A1: Sample Size Determination
A2: Data
A3: Estimate of True Proportion | B3: 0.45
A4: Sampling Error | B4: 0.1
A5: Confidence Level | B5: 0.95
A6: Intermediate Calculations
A7: Z Value | B7: =_xlfn.NORM.S.INV((1-B5)/2) -> -1.959964
A8: Calculated Sample Size | B8: =(B7^2*B3*(1-B3))/B4^2 -> 95.076106
A9: Result
A10: Sample Size Needed | B10: =ROUNDUP(B8, 0) -> 96

Sheet Confidence2
A1: Confidence Interval Estimate for the Proportion
A2: Data
A3: Sample Size | B3: 20
A4: Number of Successes | B4: 8
A5: Confidence Level | B5: 0.95
A6: Intermediate Calculations
A7: Sample Proportion | B7: =B4/B3 -> 0.4
A8: Z Value | B8: =_xlfn.NORM.S.INV((1-B5)/2) -> -1.959964
A9: Standard Error of the Proportion | B9: =SQRT(B7*(1-B7)/B3) -> 0.10954451
A10: Interval Half Width | B10: =ABS(B8*B9) -> 0.2147033
A11: Confidence Interval
A12: Interval Lower Limit | B12: =B7-B10 -> 0.1852967
A13: Interval Upper Limit | B13: =B7+B10 -> 0.6147033

Sheet Hypothesis2
A1: number of wins for all teams is more than 75
A3: Data
A4: Null Hypothesis m= | B4: 75
A5: Level of Significance | B5: 0.01
A6: Sample Size | B6: 20
A7: Sample Mean | B7: 80.05
A8: Sample Standard Deviation | B8: 11.9405
A10: Intermediate Calculations
A11: Standard Error of the Mean | B11: =B8/SQRT(B6) -> 2.669977
A12: Degrees of Freedom | B12: =B6-1 -> 19
A13: t Test Statistic | B13: =(B7-B4)/B11 -> 1.8914021
A15: Upper-Tail Test | D15: Calculations Area
A16: Upper Critical Value | B16: =(_xlfn.T.INV.2T(2*B5, B12)) -> 2.5394832 | D16: For one-tailed tests:
A17: p-Value | B17: =IF(B13<0, E18, E17) -> 0.03695797 | D17: T.DIST.RT value | E17: =_xlfn.T.DIST.RT(ABS(B13), B12) -> 0.03695797
A18: =IF(B17<$B$5, "Reject the null hypothesis", "Do not reject the null hypothesis") -> Do not reject the null hypothesis | D18: 1-T.DIST.RT value | E18: =1-E17 -> 0.96304203

Sheet Hypothesis
A1: number of wins for all teams is more than 75
A3: Data
A4: Null Hypothesis m= | B4: 75
A5: Level of Significance | B5: 0.05
A6: Sample Size | B6: 20
A7: Sample Mean | B7: 80.05
A8: Sample Standard Deviation | B8: 11.9405
A10: Intermediate Calculations
A11: Standard Error of the Mean | B11: =B8/SQRT(B6) -> 2.669977
A12: Degrees of Freedom | B12: =B6-1 -> 19
A13: t Test Statistic | B13: =(B7-B4)/B11 -> 1.8914021
A15: Upper-Tail Test | D15: Calculations Area
A16: Upper Critical Value | B16: =(_xlfn.T.INV.2T(2*B5, B12)) -> 1.7291328 | D16: For one-tailed tests:
A17: p-Value | B17: =IF(B13<0, E18, E17) -> 0.03695797 | D17: T.DIST.RT value | E17: =_xlfn.T.DIST.RT(ABS(B13), B12) -> 0.03695797
A18: =IF(B17<$B$5, "Reject the null hypothesis", "Do not reject the null hypothesis") -> Reject the null hypothesis | D18: 1-T.DIST.RT value | E18: =1-E17 -> 0.96304203

Sheet SampleSize
A1: Sample Size
A3: Data
A4: Population Standard Deviation | B4: 10
A5: Sampling Error | B5: 3
A6: Confidence Level | B6: 0.95
A8: Intemediate Calculations
A9: Z Value | B9: =_xlfn.NORM.S.INV((1-B6)/2) -> -1.959964
A10: Calculated Sample Size | B10: =((B9*B4)/B5)^2 -> 42.682876
A12: Result
A13: Sample Size Needed | B13: =ROUNDUP(B10, 0) -> 43

Sheet Confidence
A1: Confidence Interval for the true mean number of wins for all Major League teams
A3: Data
A4: Sample Standard Deviation | B4: 11.9405
A5: Sample Mean | B5: 80.05
A6: Sample Size | B6: 20
A7: Confidence Level | B7: 0.95
A9: Intermediate Calculations
A10: Standard Error of the Mean | B10: =B4/SQRT(B6) -> 2.669977
A11: Degrees of Freedom | B11: =B6-1 -> 19
A12: t Value | B12: =_xlfn.T.INV.2T(1-B7, B11) -> 2.0930241
A13: Interval Half Width | B13: =B12*B10 -> 5.588326
A15: Confidence Interval
A16: Interval Lower Limit | B16: =B5-B13 -> 74.461674
A17: Interval Upper Limit | B17: =B5+B13 -> 85.638326
A19: margin error of the CI | B19: =B5-B16 -> 5.588326
A20: margin error of the CI | B20: =B17-B5 -> 5.588326

Sheet Sheet1
B1: Runs Scored (X) | C1: Wins (Y) | F1: Q1 | G1: Sample Wins
B2: 708 | C2: 69 | G2: Mean | H2: =AVERAGE(C2:C21) -> 80.05 | I2: averageof the 20 entries
B3: 875 | C3: 90 | G3: Standard deviation | H3: =_xlfn.STDEV.S(C2:C21) -> 11.940532 | I3: std deviation of sample;stdev.s
B4: 654 | C4: 79
B5: 704 | C5: 80
B6: 787 | C6: 95
B7: 730 | C7: 71
B8: 667 | C8: 86
B9: 619 | C9: 63
B10: 867 | C10: 97
B11: 645 | C11: 74
B12: 556 | C12: 67
B13: 707 | C13: 91
B14: 855 | C14: 96
B15: 743 | C15: 81
... B21: 615 | C21: 56
