Workbook

Sheet Exhibit 1
A1: Sterling Household Products Company
A3: Exhibit 1 Income Statement for Sterling Household Products Company
A5: ($ in millions except per share amounts) | B5: 2010 | C5: 2011 | D5: 2012
A7: Net sales | B7: 3140 | C7: 3138 | D7: 3281
A8: Cost of goods sold | B8: 1742 | C8: 1751 | D8: 1860
A9: Gross profit | B9: =B7-B8 -> 1398 | C9: =C7-C8 -> 1387 | D9: =D7-D8 -> 1421
A11: General, selling & administrative expenses | B11: 726 | C11: 740 | D11: 769
A12: Research & development expenses | B12: 67 | C12: 72 | D12: 78
A13: Income before interest and income taxes | B13: =B9-B11-B12 -> 605 | C13: =C9-C11-C12 -> 575 | D13: =D9-D11-D12 -> 574
A15: Interest expenses | B15: 83 | C15: 70 | D15: 76
A16: Income before income taxes | B16: =B13-B15 -> 522 | C16: =C13-C15 -> 505 | D16: =D13-D15 -> 498
A18: Income taxes expenses | B18: 178 | C18: 171 | D18: 175
A19: Net income | B19: =B16-B18 -> 344 | C19: =C16-C18 -> 334 | D19: =D16-D18 -> 323
A21: Weighted number of shares outstanding (in thousands) | B21: 84160 | C21: 81520 | D21: 79508
A22: Earnings per share | B22: =(B19/B21)*1000 -> 4.0874525 | C22: =(C19/C21)*1000 -> 4.0971541 | D22: =(D19/D21)*1000 -> 4.0624843
A23: Dividends per share | B23: 2.44 | C23: 2.44 | D23: 2.44
A25: Stock price at end of year | B25: 58.79 | C25: 63.78 | D25: 65.46
A26: Price/Earnings ratio | B26: =B25/B22 -> 14.383042 | C26: =C25/C22 -> 15.566903 | D26: =D25/D22 -> 16.113293
A27: Equity beta coefficient | D27: 0.4

Sheet Exhibit 2
A1: Sterling Household Products Company
A3: Exhibit 2 Balance Sheet for Sterling Household Products Company
A5: ($ in millions except per share amounts) | B5: 2010 | C5: 2011 | D5: 2012
A6: Assets
A7: Current assets
A8: Cash and cash equivalents | B8: 202 | C8: 305 | D8: 346
A9: Accounts receivable, net | B9: 324 | C9: 315 | D9: 346
A10: Inventories, net | B10: 199 | C10: 229 | D10: 231
A11: Other current assets | B11: 318 | C11: 91 | D11: 96
A12: Total current assets | B12: =B11+B10+B9+B8 -> 1043 | C12: =C11+C10+C9+C8 -> 940 | D12: =D11+D10+D9+D8 -> 1019
A14: Property, plant & equipment, net | B14: 580 | C14: 653 | D14: 669
A15: Goodwill & trademarks | B15: 1019 | C15: 903 | D15: 912
A16: Other assets | B16: 86 | C16: 91 | D16: 86
A17: Total assets | B17: =B12+B14+B15+B16 -> 2728 | C17: =C12+C14+C15+C16 -> 2587 | D17: =D12+D14+D15+D16 -> 2686
A19: Liabilities & Shareholder's Equity
A20: Current liabilities
A21: Accounts payable | B21: 245 | C21: 254 | D21: 243
A22: Short-term bank notes payable | B22: 222 | C22: 275 | D22: 181
A23: Accrued liabilities | B23: 339 | C23: 290 | D23: 299
A24: Total current liabilities | B24: =B23+B22+B21 -> 806 | C24: =C23+C22+C21 -> 819 | D24: =D23+D22+D21 -> 723
A26: Long-term debt | B26: 1274 | C26: 1106 | D26: 1257
A27: Other long-term liabilities | B27: 418 | C27: 455 | D27: 497
A28: Total liabilities | B28: =B27+B26+B24 -> 2498 | C28: =C27+C26+C24 -> 2380 | D28: =D27+D26+D24 -> 2477
A30: Shareholders' equity
A31: Contributed capital | B31: 466 | C31: 474 | D31: 478
A32: Retained earnings | B32: 2552 | C32: 2687 | D32: 2816
A33: Treasury stock | B33: -2788 | C33: -2954 | D33: -3085
A34: Stockholders' equity | B34: =B31+B32+B33 -> 230 | C34: =C31+C32+C33 -> 207 | D34: =D31+D32+D33 -> 209
A36: Total liabilities & shareholders' equity | B36: =B34+B28 -> 2728 | C36: =C34+C28 -> 2587 | D36: =D34+D28 -> 2686

Sheet Exhibit 3
A1: Sterling Household Products Company
A3: Exhibit 3 Income Statement for Montagne Medical Instruments Company
A5: ($ in millions except per share amounts) | B5: 2010 | C5: 2011 | D5: 2012
A7: Net sales | B7: 1396 | C7: 1622 | D7: 1756
A8: Cost of goods sold | B8: 408 | C8: 481 | D8: 581
A9: Gross profit | B9: =B7-B8 -> 988 | C9: =C7-C8 -> 1141 | D9: =D7-D8 -> 1175
A11: General, selling & administrative expenses | B11: 534 | C11: 630 | D11: 671
A12: Research & development expenses | B12: 127 | C12: 144 | D12: 154
A13: Income before interest and income taxes | B13: =B9-B11-B12 -> 327 | C13: =C9-C11-C12 -> 367 | D13: =D9-D11-D12 -> 350
A15: Interest expenses | B15: 0 | C15: 0 | D15: 0
A16: Income before income taxes | B16: =B13-B15 -> 327 | C16: =C13-C15 -> 367 | D16: =D13-D15 -> 350
A18: Income tax expenses | B18: 91 | C18: 101 | D18: 93
A19: Net income | B19: =B16-B18 -> 236 | C19: =C16-C18 -> 266 | D19: =D16-D18 -> 257
A21: Weighted number of shares outstanding (in thousands) | B21: 113607 | C21: 117538 | D21: 118618
A22: Earnings per share | B22: =B19/(B21/1000) -> 2.0773368 | C22: =C19/(C21/1000) -> 2.2630979 | D22: =D19/(D21/1000) -> 2.1666189
A24: Stock price at end of year | B24: 31.37 | C24: 36.48 | D24: 35.24
A25: Price/Earnings ratio | B25: =B24/B22 -> 15.101066 | C25: =C24/C22 -> 16.119497 | D25: =D24/D22 -> 16.264974
A26: Equity beta coefficient | D26: 0.97

Sheet Exhibit 4
A1: Sterling Household Products Company
A3: Exhibit 4 Balance Sheet for Montagne Medical Instruments Company
A5: ($ in millions except per share amounts) | B5: 2010 | C5: 2011 | D5: 2012
A6: Assets
A7: Current assets
A8: Cash and cash equivalents | B8: 109 | C8: 306 | D8: 541
A9: Accounts receivable, net | B9: 202 | C9: 247 | D9: 256
A10: Inventories, net | B10: 126 | C10: 180 | D10: 184
A11: Other current assets | B11: 73 | C11: 86 | D11: 93
A12: Total current assets | B12: =SUM(B8:B11) -> 510 | C12: =SUM(C8:C11) -> 819 | D12: =SUM(D8:D11) -> 1074
A14: Property, plant & equipment, net | B14: 101 | C14: 187 | D14: 216
A15: Intangible assets, net | B15: 41 | C15: 44 | D15: 53
A16: Other assets | B16: 66 | C16: 71 | D16: 97
A17: Total assets | B17: =SUM(B12:B16) -> 718 | C17: =SUM(C12:C16) -> 1121 | D17: =SUM(D12:D16) -> 1440
A19: Liabilities & Shareholders' Equity
A20: Current liabilities
A21: Accounts payable | B21: 67 | C21: 89 | D21: 113
A22: Accrued liabilities | B22: 112 | C22: 137 | D22: 148
A23: Total current liabilities | B23: =B22+B21 -> 179 | C23: =C22+C21 -> 226 | D23: =D22+D21 -> 261
A25: Long-term debt | B25: 1 | C25: 1 | D25: 0
A26: Other long-term liabilities | B26: 27 | C26: 40 | D26: 46
A27: Total liabilities | B27: =B26+B25+B23 -> 207 | C27: =C26+C25+C23 -> 267 | D27: =D26+D25+D23 -> 307
A29: Shareholders' Equity
A30: Contributed capital | B30: 347 | C30: 424 | D30: 446
A31: Retained earnings | B31: 249 | C31: 515 | D31: 772
A32: Treasury stock | B32: -85 | C32: -85 | D32: -85
A33: Shareholders' equity | B33: =B32+B31+B30 -> 511 | C33: =C32+C31+C30 -> 854 | D33: =D32+D31+D30 -> 1133
A35: Total liabilities & shareholders' equity | B35: =B33+B27 -> 718 | C35: =C33+C27 -> 1121 | D35: =D33+D27 -> 1440

Sheet Exhibit 7
A1: Sterling Household Products Company
A3: Exhibit 7 Financial information for selected companies in S.I.C. 3841 (surgical and medical instruments & apparatus) with
A4: significant shares of the germicidal, sanitation, and antiseptic products market
C5: Teleological | G5: Labyrinth | K5: Stratus
B6: 2010 | C6: 2011 | D6: 2012 | F6: 2010 | G6: 2011 | H6: 2012 | J6: 2010 | K6: 2011 | L6: 2012
A7: Sales revenue ($ in millions) | B7: 683 | C7: 682 | D7: 728 | F7: 455 | G7: 488 | H7: 520 | J7: 224 | K7: 306 | L7: 338
A8: Net income ($ in millions) | B8: 144 | C8: 96 | D8: 154 | F8: 34 | G8: 44 | H8: 19 | J8: 23 | K8: 42 | L8: 58
A9: Earnings per share | B9: 7.63 | C9: 5.04 | D9: 7.98 | F9: 1.74 | G9: 2.17 | H9: 0.95 | J9: 0.5 | K9: 0.92 | L9: 1.21
A10: Dividends per share | B10: 1.36 | C10: 1.36 | D10: 1.36 | F10: 0 | G10: 0 | H10: 0 | J10: 0 | K10: 0 | L10: 0
A12: Year-end price/earnings ratio | B12: =B13/B9 -> 6.965924 | C12: =C13/C9 -> 10.77381 | D12: =D13/D9 -> 7.5639098 | F12: =F13/F9 -> 19.281609 | G12: =G13/G9 -> 18.778802 | H12: =H13/H9 -> 46.515789 | J12: =J13/J9 -> 53.12 | K12: =K13/K9 -> 33.695652 | L12: =L13/L9 -> 24.92562
A13: Year-end common stock price | B13: 53.15 | C13: 54.3 | D13: 60.36 | F13: 33.55 | G13: 40.75 | H13: 44.19 | J13: 26.56 | K13: 31 | L13: 30.16
A14: Market value of equity ($ in millions) | B14: =B12*B8 -> 1003.0931 | C14: =C12*C8 -> 1034.2857 | D14: =D12*D8 -> 1164.8421 | F14: =F12*F8 -> 655.57471 | G14: =G12*G8 -> 826.26728 | H14: =H12*H8 -> 883.8 | J14: =J12*J8 -> 1221.76 | K14: =K12*K8 -> 1415.2174 | L14: =L12*L8 -> 1445.686
A16: Balance sheet capitalization | B16: 1320 | C16: 1271 | D16: 1398 | F16: 503 | G16: 530 | H16: 683 | J16: 526 | K16: 608 | L16: 467
A17: % debt | B17: 0.43 | C17: 0.33 | D17: 0.32 | F17: 0.41 | G17: 0.37 | H17: 0.52 | J17: 0.2 | K17: 0.18 | L17: 0
A18: % common stock | B18: 0.57 | C18: 0.67 | D18: 0.68 | F18: 0.59 | G18: 0.63 | H18: 0.48 | J18: 0.8 | K18: 0.82 | L18: 1
A20: Equity beta coefficient | B20: --- | C20: --- | D20: 1.02 | F20: --- | G20: --- | H20: 1.04 | J20: --- | K20: --- | L20: 0.86
A21: Interest coverage | B21: 2.8 | C21: 2.9 | D21: 3.3 | F21: 4.2 | G21: 5.4 | H21: 2 | J21: 4.1 | K21: 8.2 | L21: 24.5
A22: MV of Debt | B22: =B17*(B14/B18) -> 756.71932 | C22: =C17*(C14/C18) -> 509.42431 | D22: =D17*(D14/D18) -> 548.16099 | F22: =F17*(F14/F18) -> 455.56887 | G22: =G17*(G14/G18) -> 485.26809 | H22: =H17*(H14/H18) -> 957.45 | J22: =J17*(J14/J18) -> 305.44 | K22: =K17*(K14/K18) -> 310.65748 | L22: =L17*(L14/L18) -> 0
A23: D/E Ratio | B23: =B22/B14 -> 0.75438596 | C23: =C22/C14 -> 0.49253731 | D23: =D22/D14 -> 0.47058824 | F23: =F22/F14 -> 0.69491525 | G23: =G22/G14 -> 0.58730159 | H23: =H22/H14 -> 1.0833333 | J23: =J22/J14 -> 0.25 | K23: =K22/K14 -> 0.2195122 | L23: =L22/L14 -> 0
C25: Chiron | G25: Vortex | K25: Pathogen
B26: 2010 | C26: 2011 | D26: 2012 | F26: 2010 | G26: 2011 | H26: 2012 | J26: 2010 | K26: 2011 | L26: 2012
A27: Sales revenue ($ in millions) | B27: 200 | C27: 192 | D27: 223 | F27: 144 | G27: 186 | H27: 218 | J27: 152 | K27: 179 | L27: 215
A28: Net income ($ in millions) | B28: 20 | C28: 8 | D28: 22 | F28: -18 | G28: 6 | H28: 24 | J28: 11 | K28: 11 | L28: 17
A29: Earnings per share | B29: 2.18 | C29: 0.86 | D29: 2.33 | F29: -0.6 | G29: 0.2 | H29: 0.73 | J29: 0.79 | K29: 0.8 | L29: 1.17
A30: Dividends per share | B30: 0.44 | C30: 0.56 | D30: 0.66 | F30: 0 | G30: 0 | H30: 0 | J30: 0.07 | K30: 0.08 | L30: 0.09
A32: Year-end price/earnings ratio | B32: =B33/B29 -> 13.825688 | C32: =C33/C29 -> 36.697674 | D32: =D33/D29 -> 13.23176 | F32: n/a | G32: =G33/G29 -> 126.7 | H32: =H33/H29 -> 34.479452 | J32: =J33/J29 -> 22.670886 | K32: =K33/K29 -> 21.175 | L32: =L33/L29 -> 21.188034
A33: Year-end common stock price | B33: 30.14 | C33: 31.56 | D33: 30.83 | F33: 16.24 | G33: 25.34 | H33: 25.17 | J33: 17.91 | K33: 16.94 | L33: 24.79
A34: Market value of equity ($ in millions) | B34: =B32*B28 -> 276.51376 | C34: =C32*C28 -> 293.5814 | D34: =D32*D28 -> 291.09871 | F34: 487.2 | G34: =G32*G28 -> 760.2 | H34: =H32*H28 -> 827.50685 | J34: =J32*J28 -> 249.37975 | K34: =K32*K28 -> 232.925 | L34: =L32*L28 -> 360.19658
A36: Balance sheet capitalization | B36: 153 | C36: 158 | D36: 164 | F36: 136 | G36: 232 | H36: 275 | J36: 122 | K36: 143 | L36: 201
A37: % debt | B37: 0.22 | C37: 0.21 | D37: 0.2 | F37: 0 | G37: 0.25 | H37: 0.22 | J37: 0.05 | K37: 0.09 | L37: 0.25
A38: % common stock | B38: 0.78 | C38: 0.79 | D38: 0.8 | F38: 1 | G38: 0.75 | H38: 0.78 | J38: 0.95 | K38: 0.91 | L38: 0.75
A40: Equity beta coefficient | B40: --- | C40: --- | D40: 0.85 | F40: --- | G40: --- | H40: 0.53 | J40: --- | K40: --- | L40: 0.9
A41: Interest coverage | B41: 15.5 | C41: 7.1 | D41: 18.4 | F41: n/a | G41: 4.5 | H41: 3.6 | J41: 27.9 | K41: 32.6 | L41: 14
A42: MV of Debt | B42: =B37*(B34/B38) -> 77.991061 | C42: =C37*(C34/C38) -> 78.040624 | D42: =D37*(D34/D38) -> 72.774678 | F42: =F37*(F34/F38) -> 0 | G42: =G37*(G34/G38) -> 253.4 | H42: =H37*(H34/H38) -> 233.39937 | J42: =J37*(J34/J38) -> 13.12525 | K42: =K37*(K34/K38) -> 23.036538 | L42: =L37*(L34/L38) -> 120.06553
A43: D/E Ratio | B43: =B42/B34 -> 0.28205128 | C43: =C42/C34 -> 0.26582278 | D43: =D42/D34 -> 0.25 | F43: =F42/F34 -> 0 | G43: =G42/G34 -> 0.33333333 | H43: =H42/H34 -> 0.28205128 | J43: =J42/J34 -> 0.052631579 | K43: =K42/K34 -> 0.098901099 | L43: =L42/L34 -> 0.33333333

Sheet WACC
A2: Unlevered Beta Calculation
A3: Avg. Beta of Comps | B3: =AVERAGE('Exhibit 7'!D40,'Exhibit 7'!L40,'Exhibit 7'!D20) -> 0.92333333
A4: Tax Rate | B4: 0.35
A5: Avg. D/E of Comps | B5: =AVERAGE('Exhibit 7'!D43,'Exhibit 7'!L43,'Exhibit 7'!D23) -> 0.35130719
A6: Avg. Unlevered Beta of Comps | B6: =B3/(1+((1-B5)*B4)) -> 0.75248685
A8: Levered Beta Calculation
A9: Sterling MV of Equity | B9: ='Exhibit 1'!D21*'Exhibit 1'!D25 -> 5204593.7
A10: Sterling MV of Debt | B10: =WACC!B19*(B9/WACC!B20) -> 2230540.1
A11: Sterling Household D/E | B11: =B10/B9 -> 0.42857143
A12: Levered Beta | B12: =B6*(1+(1-B4)*B11) -> 0.96210819
A14: WACC Calculation
A15: Risk Free Rate | B15: 0.031
A16: Market Risk Premium | B16: 0.05
A17: Cost of Debt | B17: 0.051
A18: Cost of Equity | B18: =B15+B22*B16 -> 0.079105409
A19: Weight of Debt | B19: 0.3
A20: Weight of Equity | B20: 0.7
A21: Tax Rate | B21: 0.35
A22: Beta | B22: =B12 -> 0.96210819
A23: WACC | B23: =((B18*B20)+(B19*B17))*(1-B21) -> 0.045937961

Sheet UFCF - Sterling
A1: Sterling Household Products Company
A3: Exhibit 5 Financial Information for Montagne Medical Instruments Company's
A4: germicidal, sanitation and antiseptic products unit
E5: 1 | F5: 2 | G5: 3 | H5: 4 | I5: 5 | J5: 6 | K5: 7 | L5: 8 | M5: 9 | N5: 10
A6: Income Statement | G6: Given | L6: Predicted off Sales
A7: ($ in thousands) | B7: 2010 | C7: 2011 | D7: 2012 | E7: 2013 | F7: 2014 | G7: 2015 | H7: 2016 | I7: 2017 | J7: 2018 | K7: =J7+1 -> 2019 | L7: =K7+1 -> 2020 | M7: =L7+1 -> 2021 | N7: =M7+1 -> 2022 | O7: Growth in 2017
A9: Net sales | B9: 128462 | C9: 135496 | D9: 142528 | E9: =142528*1.048 -> 149369.34 | F9: =E9*1.024 -> 152954.21 | G9: =F9*1.024 -> 156625.11 | H9: =G9*1.024 -> 160384.11 | I9: =H9*1.024 -> 164233.33 | J9: =I9*(1+$O$9) -> 168082.55 | K9: =J9*(1+$O$9) -> 172021.98 | L9: =K9*(1+$O$9) -> 176053.75 | M9: =L9*(1+$O$9) -> 180180.01 | N9: =M9*(1+$O$9) -> 184402.98 | O9: =(I9-H9)/I9 -> 0.0234375
A11: Manufacturing expenses | B11: =B9*0.5558 -> 71399.18 | C11: =C9*0.5573 -> 75511.921 | D11: =D9*0.5559 -> 79231.315 | E11: =E9*0.556 -> 83049.355 | F11: =F9*0.555 -> 84889.586 | G11: =G9*0.555 -> 86926.936 | H11: =H9*0.555 -> 89013.182 | I11: =I9*0.555 -> 91149.498 | J11: =J9*0.555 -> 93285.815 | K11: =K9*0.555 -> 95472.201 | L11: =L9*0.555 -> 97709.831 | M11: =M9*0.555 -> 99999.905 | N11: =N9*0.555 -> 102343.65
A12: Selling & administrative expenses | B12: =B9*0.2124 -> 27285.329 | C12: =C9*0.2119 -> 28711.602 | D12: =D9*0.2126 -> 30301.453 | E12: =E9*0.212 -> 31666.301 | F12: =F9*0.21 -> 32120.384 | G12: =G9*0.21 -> 32891.273 | H12: =H9*0.21 -> 33680.663 | I12: =I9*0.21 -> 34488.999 | J12: =J9*0.21 -> 35297.335 | K12: =K9*0.21 -> 36124.617 | L12: =L9*0.21 -> 36971.287 | M12: =M9*0.21 -> 37837.802 | N12: =N9*0.21 -> 38724.625
A13: Research & development expenses | B13: =B9*0.0258 -> 3314.3196 | C13: =C9*0.0267 -> 3617.7432 | D13: =D9*0.0253 -> 3605.9584 | E13: =E9*0.025 -> 3734.2336 | F13: =F9*0.025 -> 3823.8552 | G13: =G9*0.025 -> 3915.6277 | H13: =H9*0.025 -> 4009.6028 | I13: =I9*0.025 -> 4105.8333 | J13: =J9*0.025 -> 4202.0637 | K13: =K9*0.025 -> 4300.5496 | L13: =L9*0.025 -> 4401.3437 | ... N13: =N9*0.025 -> 4610.0744
A14: Depreciation expenses | B14: 2216 | C14: 2329 | D14: 2438 | E14: 2525 | F14: =((F25-E25)*0.05)+E14 -> 2600 | G14: =((G25-F25)*0.05)+F14 -> 2675 | H14: =((H25-G25)*0.05)+G14 -> 2750 | I14: =((I25-H25)*0.05)+H14 -> 2825 | J14: =((J25-I25)*0.05)+I14 -> 2900 | K14: =((K25-J25)*0.05)+J14 -> 2975 | L14: =((L25-K25)*0.05)+K14 -> 3050 | M14: =((M25-L25)*0.05)+L14 -> 3125 | N14: =((N25-M25)*0.05)+M14 -> 3200
A15: Total costs | B15: =SUM(B11:B14) -> 104214.83 | C15: =SUM(C11:C14) -> 110170.27 | D15: =SUM(D11:D14) -> 115576.73 | E15: =SUM(E11:E14) -> 120974.89 | F15: =SUM(F11:F14) -> 123433.82 | G15: =SUM(G11:G14) -> 126408.84 | H15: =SUM(H11:H14) -> 129453.45 | I15: =SUM(I11:I14) -> 132569.33 | ... N15: =SUM(N11:N14) -> 148878.35
A16: Operating income | B16: =B9-B15 -> 24247.172 | C16: =C9-C15 -> 25325.734 | D16: =D9-D15 -> 26951.274 | E16: =E9-E15 -> 28394.454 | F16: =F9-F15 -> 29520.384 | G16: =G9-G15 -> 30216.273 | H16: =H9-H15 -> 30930.663 | I16: =I9-I15 -> 31663.999 | ... N16: =N9-N15 -> 35524.625
A20: Balance sheet
A21: ($ in thousands) | B21: 2010 | C21: 2011 | D21: 2012 | E21: 2013 | F21: 2014 | G21: 2015 | H21: 2016 | I21: 2017 | J21: 2018 | K21: 2019 | L21: 2020 | M21: 2021 | N21: 2022
A22: Operating assets:
A23: Accounts receivable | B23: =B9/7.77 -> 16533.076 | C23: =C9/7.87 -> 17216.773 | D23: =D9/8.064 -> 17674.603 | E23: =E9*0.124 -> 18521.799 | F23: =F9*0.124 -> 18966.322 | G23: =G9*0.124 -> 19421.514 | H23: =H9*0.124 -> 19887.63 | I23: =I9*0.124 -> 20364.933 | J23: =J9*0.124 -> 20842.236 | K23: =K9*0.124 -> 21330.726 | L23: =L9*0.124 -> 21830.665 | ... N23: =N9*0.124 -> 22865.969
A24: Inventory | B24: =B9/6.1 -> 21059.344 | C24: =C9/5.95 -> 22772.437 | D24: =D9/5.988 -> 23802.271 | E24: =E9*0.167 -> 24944.68 | F24: =F9*0.167 -> 25543.353 | G24: =G9*0.167 -> 26156.393 | H24: =H9*0.167 -> 26784.147 | I24: =I9*0.167 -> 27426.966 | J24: =J9*0.167 -> 28069.786 | K24: =K9*0.167 -> 28727.671 | L24: =L9*0.167 -> 29400.976 | ... N24: =N9*0.167 -> 30795.297
A25: Property, plant & equipment, at cost | B25: 43840 | C25: 46172 | D25: 48454 | E25: 50192 | F25: =E25+1500 -> 51692 | G25: =F25+1500 -> 53192 | H25: =G25+1500 -> 54692 | I25: =H25+1500 -> 56192 | J25: =I25+1500 -> 57692 | K25: =J25+1500 -> 59192 | L25: =K25+1500 -> 60692 | M25: =L25+1500 -> 62192 | N25: =M25+1500 -> 63692
A26: - Accumulated depreciation | B26: 16366 | C26: 18695 | D26: 21133 | E26: 23658 | F26: =E26+F14 -> 26258 | G26: =F26+G14 -> 28933 | H26: =G26+H14 -> 31683 | I26: =H26+I14 -> 34508 | J26: =I26+J14 -> 37408 | K26: =J26+K14 -> 40383 | L26: =K26+L14 -> 43433 | M26: =L26+M14 -> 46558 | N26: =M26+N14 -> 49758
A27: Property, plant & equipment, net | B27: =B25-B26 -> 27474 | C27: =C25-C26 -> 27477 | D27: =D25-D26 -> 27321 | E27: =E25-E26 -> 26534 | F27: =F25-F26 -> 25434 | G27: =G25-G26 -> 24259 | H27: =H25-H26 -> 23009 | I27: =I25-I26 -> 21684 | ... N27: =N25-N26 -> 13934
A28: Total operating assets | B28: =B23+B24+B27 -> 65066.42 | C28: =C23+C24+C27 -> 67466.21 | D28: =D23+D24+D27 -> 68797.874 | E28: =E23+E24+E27 -> 70000.479 | F28: =F23+F24+F27 -> 69943.675 | G28: =G23+G24+G27 -> 69836.907 | H28: =H23+H24+H27 -> 69680.777 | I28: =I23+I24+I27 -> 69475.899 | ... N28: =N23+N24+N27 -> 67595.267
A30: Operating liabilities:
A31: Accounts payable | B31: =B9/12.15 -> 10573.004 | C31: =C9/12.16 -> 11142.763 | D31: =D9/12.193 -> 11689.33 | E31: =E9*0.082 -> 12248.286 | F31: =F9*0.082 -> 12542.245 | G31: =G9*0.082 -> 12843.259 | H31: =H9*0.082 -> 13151.497 | I31: =I9*0.082 -> 13467.133 | J31: =J9*0.082 -> 13782.769 | K31: =K9*0.082 -> 14105.803 | L31: =L9*0.082 -> 14436.407 | ... N31: =N9*0.082 -> 15121.044
A32: Net operating assets | B32: =B28-B31 -> 54493.416 | C32: =C28-C31 -> 56323.446 | D32: =D28-D31 -> 57108.544 | E32: =E28-E31 -> 57752.193 | F32: =F28-F31 -> 57401.43 | G32: =G28-G31 -> 56993.648 | H32: =H28-H31 -> 56529.279 | I32: =I28-I31 -> 56008.766 | ... N32: =N28-N31 -> 52474.222
A34: Percent of sales ratios: | B34: 2010 | C34: 2011 | D34: 2012 | E34: 2013 | F34: 2014 | G34: 2015 | H34: 2016 | I34: 2017 | J34: 2018 | K34: 2019 | L34: 2020 | M34: 2021 | N34: 2022
A35: Manufacturing expenses | B35: =B11/B9 -> 0.5558 | C35: =C11/C9 -> 0.5573 | D35: =D11/D9 -> 0.5559 | E35: =E11/E9 -> 0.556 | F35: =F11/F9 -> 0.555 | G35: =G11/G9 -> 0.555 | H35: =H11/H9 -> 0.555 | I35: =I11/I9 -> 0.555 | ... N35: =N11/N9 -> 0.555
A36: Selling & administrative expenses | B36: =B12/B9 -> 0.2124 | C36: =C12/C9 -> 0.2119 | D36: =D12/D9 -> 0.2126 | E36: =E12/E9 -> 0.212 | F36: =F12/F9 -> 0.21 | G36: =G12/G9 -> 0.21 | H36: =H12/H9 -> 0.21 | I36: =I12/I9 -> 0.21 | ... N36: =N12/N9 -> 0.21
A37: Research & development expenses | B37: =B13/B9 -> 0.0258 | C37: =C13/C9 -> 0.0267 | D37: =D13/D9 -> 0.0253 | E37: =E13/E9 -> 0.025 | F37: =F13/F9 -> 0.025 | G37: =G13/G9 -> 0.025 | H37: =H13/H9 -> 0.025 | I37: =I13/I9 -> 0.025 | ... N37: =N13/N9 -> 0.025
A38: Accounts receivable | B38: =B23/B9 -> 0.12870013 | C38: =C23/C9 -> 0.1270648 | D38: =D23/D9 -> 0.12400794 | E38: =E23/E9 -> 0.124 | F38: =F23/F9 -> 0.124 | G38: =G23/G9 -> 0.124 | H38: =H23/H9 -> 0.124 | I38: =I23/I9 -> 0.124 | ... N38: =N23/N9 -> 0.124
A39: Inventory | B39: =B24/B9 -> 0.16393443 | C39: =C24/C9 -> 0.16806723 | D39: =D24/D9 -> 0.16700067 | E39: =E24/E9 -> 0.167 | F39: =F24/F9 -> 0.167 | G39: =G24/G9 -> 0.167 | H39: =H24/H9 -> 0.167 | I39: =I24/I9 -> 0.167 | ... N39: =N24/N9 -> 0.167
A40: Property, plant & equipment, net | B40: =B27/B9 -> 0.21386869 | C40: =C27/C9 -> 0.20278827 | D40: =D27/D9 -> 0.19168865 | E40: =E27/E9 -> 0.1776402 | F40: =F27/F9 -> 0.16628506 | G40: =G27/G9 -> 0.15488577 | H40: =H27/H9 -> 0.14346184 | I40: =I27/I9 -> 0.13203166 | ... N40: =N27/N9 -> 0.075562771
A41: Accounts payable | B41: =B31/B9 -> 0.082304527 | C41: =C31/C9 -> 0.082236842 | D41: =D31/D9 -> 0.08201427 | E41: =E31/E9 -> 0.082 | F41: =F31/F9 -> 0.082 | G41: =G31/G9 -> 0.082 | H41: =H31/H9 -> 0.082 | I41: =I31/I9 -> 0.082 | ... N41: =N31/N9 -> 0.082
A43: Working Capital | B43: =(B23+B24)-(B31) -> 27019.416 | C43: =(C23+C24)-(C31) -> 28846.446 | D43: =(D23+D24)-(D31) -> 29787.544 | E43: =(E23+E24)-(E31) -> 31218.193 | F43: =(F23+F24)-(F31) -> 31967.43 | G43: =(G23+G24)-(G31) -> 32734.648 | H43: =(H23+H24)-(H31) -> 33520.279 | I43: =(I23+I24)-(I31) -> 34324.766 | ... N43: =(N23+N24)-(N31) -> 38540.222
A44: Net Working Capital | C44: =C43-B43 -> 1827.0303 | D44: =D43-C43 -> 941.09807 | E44: =E43-D43 -> 1430.6485 | F44: =F43-E43 -> 749.23663 | G44: =G43-F43 -> 767.21831 | H44: =H43-G43 -> 785.63155 | I44: =I43-H43 -> 804.48671 | J44: =J43-I43 -> 804.48671 | ... N44: =N43-M43 -> 882.60051
A46: Change in Net Working Capital Investment | E46: =E25-D25 -> 1738 | F46: =F25-E25 -> 1500 | G46: =G25-F25 -> 1500 | H46: =H25-G25 -> 1500 | I46: =I25-H25 -> 1500 | J46: =J25-I25 -> 1500 | K46: =K25-J25 -> 1500 | L46: =L25-K25 -> 1500 | ... N46: =N25-M25 -> 1500
E48: 2013 | F48: 2014 | G48: 2015 | H48: 2016 | I48: 2017 | J48: 2018 | K48: =J48+1 -> 2019 | L48: =K48+1 -> 2020 | M48: =L48+1 -> 2021 | N48: =M48+1 -> 2022
A49: Operating Cash Flow | E49: =E16 -> 28394.454 | F49: =F16 -> 29520.384 | G49: =G16 -> 30216.273 | H49: =H16 -> 30930.663 | I49: =I16 -> 31663.999 | J49: =J16 -> 32397.335 | K49: =K16 -> 33149.617 | L49: =L16 -> 33921.287 | ... N49: =N16 -> 35524.625
A50: Minus Capital Expenditures | E50: =E46 -> 1738 | F50: =F46 -> 1500 | G50: =G46 -> 1500 | H50: =H46 -> 1500 | I50: =I46 -> 1500 | J50: =J46 -> 1500 | K50: =K46 -> 1500 | L50: =L46 -> 1500 | ... N50: =N46 -> 1500
A51: Minus Net Working Capital Investment | E51: =E44 -> 1430.6485 | F51: =F44 -> 749.23663 | G51: =G44 -> 767.21831 | H51: =H44 -> 785.63155 | I51: =I44 -> 804.48671 | J51: =J44 -> 804.48671 | K51: =K44 -> 823.34186 | L51: =L44 -> 842.63894 | ... N51: =N44 -> 882.60051
...

Sheet UFCF - Sterling w Synergies
A1: Sterling Household Products Company
A3: Exhibit 5 Financial Information for Montagne Medical Instruments Company's
A4: germicidal, sanitation and antiseptic products unit
E5: 1 | F5: 2 | G5: 3 | H5: 4 | I5: 5 | J5: 6 | K5: 7 | L5: 8 | M5: 9 | N5: 10
A6: Income Statement | E6: Given
A7: ($ in thousands) | B7: 2010 | C7: 2011 | D7: 2012 | E7: 2013 | F7: 2014 | G7: 2015 | H7: 2016 | I7: 2017 | J7: 2018 | K7: =J7+1 -> 2019 | L7: =K7+1 -> 2020 | M7: =L7+1 -> 2021 | N7: =M7+1 -> 2022
A9: Net sales | B9: 128462 | C9: 135496 | D9: 142528 | E9: =142528*1.048 -> 149369.34 | F9: =E9*1.024+'UFCF - Sterling'!F9*0.2 -> 183545.05 | G9: =F9*1.024+'UFCF - Sterling'!G9*0.3 -> 234937.66 | H9: =G9*1.024+'UFCF - Sterling'!G9*0.4 -> 303226.21 | I9: =H9*1.024+'UFCF - Sterling'!H9*0.4 -> 374657.29 | J9: =I9*1.024+'UFCF - Sterling'!I9*0.4 -> 449342.39 | K9: =J9*1.024+'UFCF - Sterling'!J9*0.4 -> 527359.63 | L9: =K9*1.024+'UFCF - Sterling'!K9*0.4 -> 608825.05 | M9: =L9*1.024+'UFCF - Sterling'!L9*0.4 -> 693858.36 | N9: =M9*1.024+'UFCF - Sterling'!M9*0.4 -> 782582.96
A11: Manufacturing expenses | B11: =B9*0.5558 -> 71399.18 | C11: =C9*0.5573 -> 75511.921 | D11: =D9*0.5559 -> 79231.315 | E11: =E9*0.556 -> 83049.355 | F11: =F9*0.555 -> 101867.5 | G11: =G9*0.555 -> 130390.4 | H11: =H9*0.555 -> 168290.55 | I11: =I9*0.555 -> 207934.79 | J11: =J9*0.555 -> 249385.03 | K11: =K9*0.555 -> 292684.59 | L11: =L9*0.555 -> 337897.91 | M11: =M9*0.555 -> 385091.39 | N11: =N9*0.555 -> 434333.54
A12: Selling & administrative expenses | B12: =B9*0.2124 -> 27285.329 | C12: =C9*0.2119 -> 28711.602 | D12: =D9*0.2126 -> 30301.453 | E12: =E9*0.212 -> 31666.301 | F12: =F9*0.21 -> 38544.46 | G12: =G9*0.21 -> 49336.909 | H12: =H9*0.21 -> 63677.504 | I12: =I9*0.21 -> 78678.03 | J12: =J9*0.21 -> 94361.902 | K12: =K9*0.21 -> 110745.52 | L12: =L9*0.21 -> 127853.26 | M12: =M9*0.21 -> 145710.25 | N12: =N9*0.21 -> 164342.42
A13: Research & development expenses | B13: =B9*0.0258 -> 3314.3196 | C13: =C9*0.0267 -> 3617.7432 | D13: =D9*0.0253 -> 3605.9584 | E13: ='UFCF - Sterling'!E13 -> 3734.2336 | F13: ='UFCF - Sterling'!F13 -> 3823.8552 | G13: ='UFCF - Sterling'!G13 -> 3915.6277 | H13: ='UFCF - Sterling'!H13 -> 4009.6028 | I13: ='UFCF - Sterling'!I13 -> 4105.8333 | J13: ='UFCF - Sterling'!J13 -> 4202.0637 | K13: ='UFCF - Sterling'!K13 -> 4300.5496 | L13: ='UFCF - Sterling'!L13 -> 4401.3437 | ... N13: ='UFCF - Sterling'!N13 -> 4610.0744
A14: Depreciation expenses | B14: 2216 | C14: 2329 | D14: 2438 | E14: =E27-D27 -> 2525 | F14: =F27-E27 -> 5600 | G14: =G27-F27 -> 2675 | H14: =H27-G27 -> 2750 | I14: =I27-H27 -> 2825 | J14: =J27-I27 -> 2900 | K14: =K27-J27 -> 2975 | L14: =L27-K27 -> 3050 | ... N14: =N27-M27 -> 3200
A15: Total costs | B15: =SUM(B11:B14) -> 104214.83 | C15: =SUM(C11:C14) -> 110170.27 | D15: =SUM(D11:D14) -> 115576.73 | E15: =SUM(E11:E14) -> 120974.89 | F15: =SUM(F11:F14) -> 149835.82 | G15: =SUM(G11:G14) -> 186317.94 | H15: =SUM(H11:H14) -> 238727.65 | I15: =SUM(I11:I14) -> 293543.66 | ... N15: =SUM(N11:N14) -> 606486.04
A17: Operating income | B17: =B9-B15 -> 24247.172 | C17: =C9-C15 -> 25325.734 | D17: =D9-D15 -> 26951.274 | E17: =E9-E15 -> 28394.454 | F17: =F9-F15 -> 33709.232 | G17: =G9-G15 -> 48619.723 | H17: =H9-H15 -> 64498.557 | I17: =I9-I15 -> 81113.629 | ... N17: =N9-N15 -> 176096.92
A19: Balance sheet
A20: ($ in thousands) | B20: 2010 | C20: 2011 | D20: 2012 | E20: 2013 | F20: 2014 | G20: 2015 | H20: 2016 | I20: 2017 | J20: 2018 | K20: 2019 | L20: 2020 | M20: 2021 | N20: 2022
A21: Operating assets:
A22: Accounts receivable | B22: =B9/7.77 -> 16533.076 | C22: =C9/7.87 -> 17216.773 | D22: =D9/8.064 -> 17674.603 | E22: =E9*0.124 -> 18521.799 | F22: =F9*0.124 -> 22759.586 | G22: =G9*0.124 -> 29132.27 | H22: =H9*0.124 -> 37600.05 | I22: =I9*0.124 -> 46457.503 | J22: =J9*0.124 -> 55718.457 | K22: =K9*0.124 -> 65392.594 | L22: =L9*0.124 -> 75494.307 | ... N22: =N9*0.124 -> 97040.287
A23: Inventory | B23: =B9/6.1 -> 21059.344 | C23: =C9/5.95 -> 22772.437 | D23: =D9/5.988 -> 23802.271 | E23: =E9*0.167 -> 24944.68 | F23: =F9*0.167 -> 30652.023 | G23: =G9*0.167 -> 39234.59 | H23: =H9*0.167 -> 50638.777 | I23: =I9*0.167 -> 62567.767 | J23: =J9*0.167 -> 75040.18 | K23: =K9*0.167 -> 88069.058 | L23: =L9*0.167 -> 101673.78 | ... N23: =N9*0.167 -> 130691.35
A24: Property, plant & equipment of Sterling | B24: 43840 | C24: 46172 | D24: 48454 | E24: 50192 | F24: =SUM(E24:E25)+1500 -> 111692 | G24: =SUM(F24:F25)+1500 -> 113792 | H24: =SUM(G24:G25)+1500 -> 115892 | I24: =SUM(H24:H25)+1500 -> 117992 | J24: =SUM(I24:I25)+1500 -> 120092 | K24: =SUM(J24:J25)+1500 -> 122192 | L24: =SUM(K24:K25)+1500 -> 124292 | M24: =SUM(L24:L25)+1500 -> 126392 | N24: =SUM(M24:M25)+1500 -> 128492
A25: Capital Expenditures from Expansion | E25: 60000 | F25: 600 | G25: =F25 -> 600 | H25: =G25 -> 600 | I25: =H25 -> 600 | J25: =I25 -> 600 | K25: =J25 -> 600 | L25: =K25 -> 600 | M25: =L25 -> 600 | N25: =M25 -> 600
A26: Straightline Depreciation (Realized in 2014) | E26: 0 | F26: =E25/20 -> 3000 | G26: =F26 -> 3000 | H26: =G26 -> 3000 | I26: =H26 -> 3000 | J26: =I26 -> 3000 | K26: =J26 -> 3000 | L26: =K26 -> 3000 | M26: =L26 -> 3000 | N26: =M26 -> 3000
A27: - Accumulated depreciation | B27: 16366 | C27: 18695 | D27: 21133 | E27: ='UFCF - Sterling'!E26+'UFCF - Sterling w Synergies'!E26 -> 23658 | F27: ='UFCF - Sterling'!F26+'UFCF - Sterling w Synergies'!F26 -> 29258 | G27: ='UFCF - Sterling'!G26+'UFCF - Sterling w Synergies'!G26 -> 31933 | H27: ='UFCF - Sterling'!H26+'UFCF - Sterling w Synergies'!H26 -> 34683 | I27: ='UFCF - Sterling'!I26+'UFCF - Sterling w Synergies'!I26 -> 37508 | J27: ='UFCF - Sterling'!J26+'UFCF - Sterling w Synergies'!J26 -> 40408 | K27: ='UFCF - Sterling'!K26+'UFCF - Sterling w Synergies'!K26 -> 43383 | L27: ='UFCF - Sterling'!L26+'UFCF - Sterling w Synergies'!L26 -> 46433 | ... N27: ='UFCF - Sterling'!N26+'UFCF - Sterling w Synergies'!N26 -> 52758
A28: Property, plant & equipment, net | B28: =B24-B27 -> 27474 | C28: =C24-C27 -> 27477 | D28: =D24-D27 -> 27321 | E28: =SUM(E24:E25)-E27 -> 86534 | F28: =SUM(F24:F25)-F27 -> 83034 | G28: =SUM(G24:G25)-G27 -> 82459 | H28: =SUM(H24:H25)-H27 -> 81809 | I28: =SUM(I24:I25)-I27 -> 81084 | J28: =SUM(J24:J25)-J27 -> 80284 | K28: =SUM(K24:K25)-K27 -> 79409 | L28: =SUM(L24:L25)-L27 -> 78459 | ... N28: =SUM(N24:N25)-N27 -> 76334
A29: Total operating assets | B29: =B22+B23+B28 -> 65066.42 | C29: =C22+C23+C28 -> 67466.21 | D29: =D22+D23+D28 -> 68797.874 | E29: =E22+E23+E28 -> 130000.48 | F29: =F22+F23+F28 -> 136445.61 | G29: =G22+G23+G28 -> 150825.86 | H29: =H22+H23+H28 -> 170047.83 | I29: =I22+I23+I28 -> 190109.27 | ... N29: =N22+N23+N28 -> 304065.64
A31: Operating liabilities:
A32: Accounts payable | B32: =B9/12.15 -> 10573.004 | C32: =C9/12.16 -> 11142.763 | D32: =D9/12.193 -> 11689.33 | E32: =E9*0.082 -> 12248.286 | F32: =F9*0.082 -> 15050.694 | G32: =G9*0.082 -> 19264.888 | H32: =H9*0.082 -> 24864.549 | I32: =I9*0.082 -> 30721.897 | J32: =J9*0.082 -> 36846.076 | K32: =K9*0.082 -> 43243.49 | L32: =L9*0.082 -> 49923.654 | ... N32: =N9*0.082 -> 64171.803
A33: Net operating assets | B33: =B29-B32 -> 54493.416 | C33: =C29-C32 -> 56323.446 | D33: =D29-D32 -> 57108.544 | E33: =E29-E32 -> 117752.19 | F33: =F29-F32 -> 121394.92 | G33: =G29-G32 -> 131560.97 | H33: =H29-H32 -> 145183.28 | I33: =I29-I32 -> 159387.37 | ... N33: =N29-N32 -> 239893.84
A36: Percent of sales ratios: | B36: 2010 | C36: 2011 | D36: 2012 | E36: 2013 | F36: 2014 | G36: 2015 | H36: 2016 | I36: 2017 | J36: 2018 | K36: 2019 | L36: 2020 | M36: 2021 | N36: 2022
A37: Manufacturing expenses | B37: =B11/B9 -> 0.5558 | C37: =C11/C9 -> 0.5573 | D37: =D11/D9 -> 0.5559 | E37: =E11/E9 -> 0.556 | F37: =F11/F9 -> 0.555 | G37: =G11/G9 -> 0.555 | H37: =H11/H9 -> 0.555 | I37: =I11/I9 -> 0.555 | ... N37: =N11/N9 -> 0.555
A38: Selling & administrative expenses | B38: =B12/B9 -> 0.2124 | C38: =C12/C9 -> 0.2119 | D38: =D12/D9 -> 0.2126 | E38: =E12/E9 -> 0.212 | F38: =F12/F9 -> 0.21 | G38: =G12/G9 -> 0.21 | H38: =H12/H9 -> 0.21 | I38: =I12/I9 -> 0.21 | ... N38: =N12/N9 -> 0.21
A39: Research & development expenses | B39: =B13/B9 -> 0.0258 | C39: =C13/C9 -> 0.0267 | D39: =D13/D9 -> 0.0253 | E39: =E13/E9 -> 0.025 | F39: =F13/F9 -> 0.020833333 | G39: =G13/G9 -> 0.016666667 | H39: =H13/H9 -> 0.01322314 | I39: =I13/I9 -> 0.010958904 | ... N39: =N13/N9 -> 0.0058908444
A40: Accounts receivable | B40: =B22/B9 -> 0.12870013 | C40: =C22/C9 -> 0.1270648 | D40: =D22/D9 -> 0.12400794 | E40: =E22/E9 -> 0.124 | F40: =F22/F9 -> 0.124 | G40: =G22/G9 -> 0.124 | H40: =H22/H9 -> 0.124 | I40: =I22/I9 -> 0.124 | ... N40: =N22/N9 -> 0.124
A41: Inventory | B41: =B23/B9 -> 0.16393443 | C41: =C23/C9 -> 0.16806723 | D41: =D23/D9 -> 0.16700067 | E41: =E23/E9 -> 0.167 | F41: =F23/F9 -> 0.167 | G41: =G23/G9 -> 0.167 | H41: =H23/H9 -> 0.167 | I41: =I23/I9 -> 0.167 | ... N41: =N23/N9 -> 0.167
A42: Property, plant & equipment, net | B42: =B28/B9 -> 0.21386869 | C42: =C28/C9 -> 0.20278827 | D42: =D28/D9 -> 0.19168865 | E42: =E28/E9 -> 0.57932905 | F42: =F28/F9 -> 0.4523903 | G42: =G28/G9 -> 0.35098246 | H42: =H28/H9 -> 0.26979528 | I42: =I28/I9 -> 0.21642179 | ... N42: =N28/N9 -> 0.097541097
A43: Accounts payable | B43: =B32/B9 -> 0.082304527 | C43: =C32/C9 -> 0.082236842 | D43: =D32/D9 -> 0.08201427 | E43: =E32/E9 -> 0.082 | F43: =F32/F9 -> 0.082 | G43: =G32/G9 -> 0.082 | H43: =H32/H9 -> 0.082 | I43: =I32/I9 -> 0.082 | ... N43: =N32/N9 -> 0.082
A45: Working Capital | B45: =(B22+B23)-(B32) -> 27019.416 | C45: =(C22+C23)-(C32) -> 28846.446 | D45: =(D22+D23)-(D32) -> 29787.544 | E45: =(E22+E23)-(E32) -> 31218.193 | F45: =(F22+F23)-(F32) -> 38360.915 | G45: =(G22+G23)-(G32) -> 49101.972 | H45: =(H22+H23)-(H32) -> 63374.278 | I45: =(I22+I23)-(I32) -> 78303.373 | ... N45: =(N22+N23)-(N32) -> 163559.84
A46: Net Working Capital | C46: =C45-B45 -> 1827.0303 | D46: =D45-C45 -> 941.09807 | E46: =E45-D45 -> 1430.6485 | F46: =F45-E45 -> 7142.7225 | G46: =G45-F45 -> 10741.056 | H46: =H45-G45 -> 14272.306 | I46: =I45-H45 -> 14929.094 | J46: =J45-I45 -> 15609.187 | ... N46: =N45-M45 -> 18543.442
A48: Change in Net Working Capital Investment | E48: =(E24+E25)-D24 -> 61738 | F48: =F24-E24 -> 61500 | G48: =G24-F24 -> 2100 | H48: =H24-G24 -> 2100 | I48: =I24-H24 -> 2100 | J48: =J24-I24 -> 2100 | K48: =K24-J24 -> 2100 | L48: =L24-K24 -> 2100 | M48: =M24-L24 -> 2100 | N48: =N24-M24 -> 2100
E50: 2013 | F50: 2014 | G50: 2015 | H50: 2016 | I50: 2017 | J50: 2018 | K50: =J50+1 -> 2019 | L50: =K50+1 -> 2020 | M50: =L50+1 -> 2021 | N50: =M50+1 -> 2022
A51: Operating Cash Flow | E51: =E17 -> 28394.454 | F51: =F17 -> 33709.232 | G51: =G17 -> 48619.723 | H51: =H17 -> 64498.557 | I51: =I17 -> 81113.629 | J51: =J17 -> 98493.398 | K51: =K17 -> 116653.96 | L51: =L17 -> 135622.54 | ... N51: =N17 -> 176096.92
...
