Workbook

Sheet 1 - Data
A1: PK Village Convenience Store
A2: Engine Coolant Replenishment Policy
A3: Monte Carlo Simulation Model
A5: Order Quantity - q | C5: 250 | D5: units
A6: Reorder Point - r | C6: 75 | D6: units
A7: Profit | C7: 10 | D7: USD/unit
A8: Order Cost | C8: 50 | D8: USD/order
A9: Inventory Holding | C9: 0.25 | D9: USD/unit-day

Sheet Order Q=250
A1: PK Village Convenience Store
A2: Engine Coolant Replenishment Policy
A3: Deterministic Simulation Model
A5: Day | B5: Opening Inventory | C5: Demand | D5: Sales | E5: Deliveries | F5: Closing Inventory | G5: Order Placed | H5: Pending Orders | I5: Profit from Sales | J5: Order Cost | K5: Inventory Cost | L5: Net Profit
A6: 1 | B6: 125 | C6: 20 | D6: =MIN(B6,C6) -> 20 | E6: 0 | F6: =B6-D6+E6 -> 105 | G6: =IF(F6<=75,IF(H5<>0,0,250),0) -> 0 | H6: 0 | I6: =D6*'1 - Data'!C$7 -> 200 | J6: =IF(G6<>0,'1 - Data'!$C$8,0) -> 0 | K6: =F6*'1 - Data'!$C$9 -> 26.25 | L6: =I6-J6-K6 -> 173.75
A7: =A6+1 -> 2 | B7: =F6 -> 105 | C7: 20 | D7: =MIN(B7,C7) -> 20 | E7: 0 | F7: =B7-D7+E7 -> 85 | G7: =IF(F7<=75,IF(H6<>0,0,250),0) -> 0 | H7: =ROUND(H6+G7-E7,0) -> 0 | I7: =D7*'1 - Data'!C$7 -> 200 | J7: =IF(G7<>0,'1 - Data'!$C$8,0) -> 0 | K7: =F7*'1 - Data'!$C$9 -> 21.25 | L7: =I7-J7-K7 -> 178.75
A8: =A7+1 -> 3 | B8: =F7 -> 85 | C8: 20 | D8: =MIN(B8,C8) -> 20 | E8: 0 | F8: =B8-D8+E8 -> 65 | G8: =IF(F8<=75,IF(H7<>0,0,250),0) -> 250 | H8: =ROUND(H7+G8-E8,0) -> 250 | I8: =D8*'1 - Data'!C$7 -> 200 | J8: =IF(G8<>0,'1 - Data'!$C$8,0) -> 50 | K8: =F8*'1 - Data'!$C$9 -> 16.25 | L8: =I8-J8-K8 -> 133.75
A9: =A8+1 -> 4 | B9: =F8 -> 65 | C9: 20 | D9: =MIN(B9,C9) -> 20 | E9: 0 | F9: =B9-D9+E9 -> 45 | G9: =IF(F9<=75,IF(H8<>0,0,250),0) -> 0 | H9: =ROUND(H8+G9-E9,0) -> 250 | I9: =D9*'1 - Data'!C$7 -> 200 | J9: =IF(G9<>0,'1 - Data'!$C$8,0) -> 0 | K9: =F9*'1 - Data'!$C$9 -> 11.25 | L9: =I9-J9-K9 -> 188.75
A10: =A9+1 -> 5 | B10: =F9 -> 45 | C10: 20 | D10: =MIN(B10,C10) -> 20 | E10: 0 | F10: =B10-D10+E10 -> 25 | G10: =IF(F10<=75,IF(H9<>0,0,250),0) -> 0 | H10: =ROUND(H9+G10-E10,0) -> 250 | I10: =D10*'1 - Data'!C$7 -> 200 | J10: =IF(G10<>0,'1 - Data'!$C$8,0) -> 0 | K10: =F10*'1 - Data'!$C$9 -> 6.25 | L10: =I10-J10-K10 -> 193.75
A11: =A10+1 -> 6 | B11: =F10 -> 25 | C11: 20 | D11: =MIN(B11,C11) -> 20 | E11: 0 | F11: =B11-D11+E11 -> 5 | G11: =IF(F11<=75,IF(H10<>0,0,250),0) -> 0 | H11: =ROUND(H10+G11-E11,0) -> 250 | I11: =D11*'1 - Data'!C$7 -> 200 | J11: =IF(G11<>0,'1 - Data'!$C$8,0) -> 0 | K11: =F11*'1 - Data'!$C$9 -> 1.25 | L11: =I11-J11-K11 -> 198.75
A12: =A11+1 -> 7 | B12: =F11 -> 5 | C12: 20 | D12: =MIN(B12,C12) -> 5 | E12: =G7 -> 0 | F12: =B12-D12+E12 -> 0 | G12: =IF(F12<=75,IF(H11<>0,0,250),0) -> 0 | H12: =ROUND(H11+G12-E12,0) -> 250 | I12: =D12*'1 - Data'!C$7 -> 50 | J12: =IF(G12<>0,'1 - Data'!$C$8,0) -> 0 | K12: =F12*'1 - Data'!$C$9 -> 0 | L12: =I12-J12-K12 -> 50
A13: =A12+1 -> 8 | B13: =F12 -> 0 | C13: 20 | D13: =MIN(B13,C13) -> 0 | E13: =G8 -> 250 | F13: =B13-D13+E13 -> 250 | G13: =IF(F13<=75,IF(H12<>0,0,250),0) -> 0 | H13: =ROUND(H12+G13-E13,0) -> 0 | I13: =D13*'1 - Data'!C$7 -> 0 | J13: =IF(G13<>0,'1 - Data'!$C$8,0) -> 0 | K13: =F13*'1 - Data'!$C$9 -> 62.5 | L13: =I13-J13-K13 -> -62.5
A14: =A13+1 -> 9 | B14: =F13 -> 250 | C14: 20 | D14: =MIN(B14,C14) -> 20 | E14: =G9 -> 0 | F14: =B14-D14+E14 -> 230 | G14: =IF(F14<=75,IF(H13<>0,0,250),0) -> 0 | H14: =ROUND(H13+G14-E14,0) -> 0 | I14: =D14*'1 - Data'!C$7 -> 200 | J14: =IF(G14<>0,'1 - Data'!$C$8,0) -> 0 | K14: =F14*'1 - Data'!$C$9 -> 57.5 | L14: =I14-J14-K14 -> 142.5
A15: =A14+1 -> 10 | B15: =F14 -> 230 | C15: 20 | D15: =MIN(B15,C15) -> 20 | E15: =G10 -> 0 | F15: =B15-D15+E15 -> 210 | G15: =IF(F15<=75,IF(H14<>0,0,250),0) -> 0 | H15: =ROUND(H14+G15-E15,0) -> 0 | I15: =D15*'1 - Data'!C$7 -> 200 | J15: =IF(G15<>0,'1 - Data'!$C$8,0) -> 0 | K15: =F15*'1 - Data'!$C$9 -> 52.5 | L15: =I15-J15-K15 -> 147.5
A16: =A15+1 -> 11 | B16: =F15 -> 210 | C16: 20 | D16: =MIN(B16,C16) -> 20 | E16: =G11 -> 0 | F16: =B16-D16+E16 -> 190 | G16: =IF(F16<=75,IF(H15<>0,0,250),0) -> 0 | H16: =ROUND(H15+G16-E16,0) -> 0 | I16: =D16*'1 - Data'!C$7 -> 200 | J16: =IF(G16<>0,'1 - Data'!$C$8,0) -> 0 | K16: =F16*'1 - Data'!$C$9 -> 47.5 | L16: =I16-J16-K16 -> 152.5
A17: =A16+1 -> 12 | B17: =F16 -> 190 | C17: 20 | D17: =MIN(B17,C17) -> 20 | E17: =G12 -> 0 | F17: =B17-D17+E17 -> 170 | G17: =IF(F17<=75,IF(H16<>0,0,250),0) -> 0 | H17: =ROUND(H16+G17-E17,0) -> 0 | I17: =D17*'1 - Data'!C$7 -> 200 | J17: =IF(G17<>0,'1 - Data'!$C$8,0) -> 0 | K17: =F17*'1 - Data'!$C$9 -> 42.5 | L17: =I17-J17-K17 -> 157.5
A18: =A17+1 -> 13 | B18: =F17 -> 170 | C18: 20 | D18: =MIN(B18,C18) -> 20 | E18: =G13 -> 0 | F18: =B18-D18+E18 -> 150 | G18: =IF(F18<=75,IF(H17<>0,0,250),0) -> 0 | H18: =ROUND(H17+G18-E18,0) -> 0 | I18: =D18*'1 - Data'!C$7 -> 200 | J18: =IF(G18<>0,'1 - Data'!$C$8,0) -> 0 | K18: =F18*'1 - Data'!$C$9 -> 37.5 | L18: =I18-J18-K18 -> 162.5
A19: =A18+1 -> 14 | B19: =F18 -> 150 | C19: 20 | D19: =MIN(B19,C19) -> 20 | E19: =G14 -> 0 | F19: =B19-D19+E19 -> 130 | G19: =IF(F19<=75,IF(H18<>0,0,250),0) -> 0 | H19: =ROUND(H18+G19-E19,0) -> 0 | I19: =D19*'1 - Data'!C$7 -> 200 | J19: =IF(G19<>0,'1 - Data'!$C$8,0) -> 0 | K19: =F19*'1 - Data'!$C$9 -> 32.5 | L19: =I19-J19-K19 -> 167.5
A20: =A19+1 -> 15 | B20: =F19 -> 130 | C20: 20 | D20: =MIN(B20,C20) -> 20 | E20: =G15 -> 0 | F20: =B20-D20+E20 -> 110 | G20: =IF(F20<=75,IF(H19<>0,0,250),0) -> 0 | H20: =ROUND(H19+G20-E20,0) -> 0 | I20: =D20*'1 - Data'!C$7 -> 200 | J20: =IF(G20<>0,'1 - Data'!$C$8,0) -> 0 | K20: =F20*'1 - Data'!$C$9 -> 27.5 | L20: =I20-J20-K20 -> 172.5
A21: =A20+1 -> 16 | B21: =F20 -> 110 | C21: 20 | D21: =MIN(B21,C21) -> 20 | E21: =G16 -> 0 | F21: =B21-D21+E21 -> 90 | G21: =IF(F21<=75,IF(H20<>0,0,250),0) -> 0 | H21: =ROUND(H20+G21-E21,0) -> 0 | I21: =D21*'1 - Data'!C$7 -> 200 | J21: =IF(G21<>0,'1 - Data'!$C$8,0) -> 0 | K21: =F21*'1 - Data'!$C$9 -> 22.5 | L21: =I21-J21-K21 -> 177.5
A22: =A21+1 -> 17 | B22: =F21 -> 90 | C22: 20 | D22: =MIN(B22,C22) -> 20 | E22: =G17 -> 0 | F22: =B22-D22+E22 -> 70 | G22: =IF(F22<=75,IF(H21<>0,0,250),0) -> 250 | H22: =ROUND(H21+G22-E22,0) -> 250 | I22: =D22*'1 - Data'!C$7 -> 200 | J22: =IF(G22<>0,'1 - Data'!$C$8,0) -> 50 | K22: =F22*'1 - Data'!$C$9 -> 17.5 | L22: =I22-J22-K22 -> 132.5
A23: =A22+1 -> 18 | B23: =F22 -> 70 | C23: 20 | D23: =MIN(B23,C23) -> 20 | E23: =G18 -> 0 | F23: =B23-D23+E23 -> 50 | G23: =IF(F23<=75,IF(H22<>0,0,250),0) -> 0 | H23: =H22+G23-E23 -> 250 | I23: =D23*'1 - Data'!C$7 -> 200 | J23: =IF(G23<>0,'1 - Data'!$C$8,0) -> 0 | K23: =F23*'1 - Data'!$C$9 -> 12.5 | L23: =I23-J23-K23 -> 187.5
A24: =A23+1 -> 19 | B24: =F23 -> 50 | C24: 20 | D24: =MIN(B24,C24) -> 20 | E24: =G19 -> 0 | F24: =B24-D24+E24 -> 30 | G24: =IF(F24<=75,IF(H23<>0,0,250),0) -> 0 | H24: =H23+G24-E24 -> 250 | I24: =D24*'1 - Data'!C$7 -> 200 | J24: =IF(G24<>0,'1 - Data'!$C$8,0) -> 0 | K24: =F24*'1 - Data'!$C$9 -> 7.5 | L24: =I24-J24-K24 -> 192.5
A25: =A24+1 -> 20 | B25: =F24 -> 30 | C25: 20 | D25: =MIN(B25,C25) -> 20 | E25: =G20 -> 0 | F25: =B25-D25+E25 -> 10 | G25: =IF(F25<=75,IF(H24<>0,0,250),0) -> 0 | H25: =H24+G25-E25 -> 250 | I25: =D25*'1 - Data'!C$7 -> 200 | J25: =IF(G25<>0,'1 - Data'!$C$8,0) -> 0 | K25: =F25*'1 - Data'!$C$9 -> 2.5 | L25: =I25-J25-K25 -> 197.5
A26: =A25+1 -> 21 | B26: =F25 -> 10 | C26: 20 | D26: =MIN(B26,C26) -> 10 | E26: =G21 -> 0 | F26: =B26-D26+E26 -> 0 | G26: =IF(F26<=75,IF(H25<>0,0,250),0) -> 0 | H26: =H25+G26-E26 -> 250 | I26: =D26*'1 - Data'!C$7 -> 100 | J26: =IF(G26<>0,'1 - Data'!$C$8,0) -> 0 | K26: =F26*'1 - Data'!$C$9 -> 0 | L26: =I26-J26-K26 -> 100
A27: =A26+1 -> 22 | B27: =F26 -> 0 | C27: 20 | D27: =MIN(B27,C27) -> 0 | E27: =G22 -> 250 | F27: =B27-D27+E27 -> 250 | G27: =IF(F27<=75,IF(H26<>0,0,250),0) -> 0 | H27: =H26+G27-E27 -> 0 | I27: =D27*'1 - Data'!C$7 -> 0 | J27: =IF(G27<>0,'1 - Data'!$C$8,0) -> 0 | K27: =F27*'1 - Data'!$C$9 -> 62.5 | L27: =I27-J27-K27 -> -62.5
A28: =A27+1 -> 23 | B28: =F27 -> 250 | C28: 20 | D28: =MIN(B28,C28) -> 20 | E28: =G23 -> 0 | F28: =B28-D28+E28 -> 230 | G28: =IF(F28<=75,IF(H27<>0,0,250),0) -> 0 | H28: =H27+G28-E28 -> 0 | I28: =D28*'1 - Data'!C$7 -> 200 | J28: =IF(G28<>0,'1 - Data'!$C$8,0) -> 0 | K28: =F28*'1 - Data'!$C$9 -> 57.5 | L28: =I28-J28-K28 -> 142.5
A29: =A28+1 -> 24 | B29: =F28 -> 230 | C29: 20 | D29: =MIN(B29,C29) -> 20 | E29: =G24 -> 0 | F29: =B29-D29+E29 -> 210 | G29: =IF(F29<=75,IF(H28<>0,0,250),0) -> 0 | H29: =H28+G29-E29 -> 0 | I29: =D29*'1 - Data'!C$7 -> 200 | J29: =IF(G29<>0,'1 - Data'!$C$8,0) -> 0 | K29: =F29*'1 - Data'!$C$9 -> 52.5 | L29: =I29-J29-K29 -> 147.5
A30: =A29+1 -> 25 | B30: =F29 -> 210 | C30: 20 | D30: =MIN(B30,C30) -> 20 | E30: =G25 -> 0 | F30: =B30-D30+E30 -> 190 | G30: =IF(F30<=75,IF(H29<>0,0,250),0) -> 0 | H30: =H29+G30-E30 -> 0 | I30: =D30*'1 - Data'!C$7 -> 200 | J30: =IF(G30<>0,'1 - Data'!$C$8,0) -> 0 | K30: =F30*'1 - Data'!$C$9 -> 47.5 | L30: =I30-J30-K30 -> 152.5
A31: =A30+1 -> 26 | B31: =F30 -> 190 | C31: 20 | D31: =MIN(B31,C31) -> 20 | E31: =G26 -> 0 | F31: =B31-D31+E31 -> 170 | G31: =IF(F31<=75,IF(H30<>0,0,250),0) -> 0 | H31: =H30+G31-E31 -> 0 | I31: =D31*'1 - Data'!C$7 -> 200 | J31: =IF(G31<>0,'1 - Data'!$C$8,0) -> 0 | K31: =F31*'1 - Data'!$C$9 -> 42.5 | L31: =I31-J31-K31 -> 157.5
A32: =A31+1 -> 27 | B32: =F31 -> 170 | C32: 20 | D32: =MIN(B32,C32) -> 20 | E32: =G27 -> 0 | F32: =B32-D32+E32 -> 150 | G32: =IF(F32<=75,IF(H31<>0,0,250),0) -> 0 | H32: =H31+G32-E32 -> 0 | I32: =D32*'1 - Data'!C$7 -> 200 | J32: =IF(G32<>0,'1 - Data'!$C$8,0) -> 0 | K32: =F32*'1 - Data'!$C$9 -> 37.5 | L32: =I32-J32-K32 -> 162.5
A33: =A32+1 -> 28 | B33: =F32 -> 150 | C33: 20 | D33: =MIN(B33,C33) -> 20 | E33: =G28 -> 0 | F33: =B33-D33+E33 -> 130 | G33: =IF(F33<=75,IF(H32<>0,0,250),0) -> 0 | H33: =H32+G33-E33 -> 0 | I33: =D33*'1 - Data'!C$7 -> 200 | J33: =IF(G33<>0,'1 - Data'!$C$8,0) -> 0 | K33: =F33*'1 - Data'!$C$9 -> 32.5 | L33: =I33-J33-K33 -> 167.5
A34: =A33+1 -> 29 | B34: =F33 -> 130 | C34: 20 | D34: =MIN(B34,C34) -> 20 | E34: =G29 -> 0 | F34: =B34-D34+E34 -> 110 | G34: =IF(F34<=75,IF(H33<>0,0,250),0) -> 0 | H34: =H33+G34-E34 -> 0 | I34: =D34*'1 - Data'!C$7 -> 200 | J34: =IF(G34<>0,'1 - Data'!$C$8,0) -> 0 | K34: =F34*'1 - Data'!$C$9 -> 27.5 | L34: =I34-J34-K34 -> 172.5
... A370: =A369+1 -> 365 | B370: =F369 -> 130 | C370: 20 | D370: =MIN(B370,C370) -> 20 | E370: =G365 -> 0 | F370: =B370-D370+E370 -> 110 | G370: =IF(F370<=75,IF(H369<>0,0,250),0) -> 0 | H370: =H369+G370-E370 -> 0 | I370: =D370*'1 - Data'!C$7 -> 200 | J370: =IF(G370<>0,'1 - Data'!$C$8,0) -> 0 | K370: =F370*'1 - Data'!$C$9 -> 27.5 | L370: =I370-J370-K370 -> 172.5
I371: =SUM(I6:I370) -> 65150 | J371: =SUM(J6:J370) -> 1300 | K371: =SUM(K6:K370) -> 11005 | L371: =SUM(L6:L370) -> 52845

Sheet Order Q=350
A1: PK Village Convenience Store
A2: Engine Coolant Replenishment Policy
A3: Deterministic Simulation Model
A5: Day | B5: Opening Inventory | C5: Demand | D5: Sales | E5: Deliveries | F5: Closing Inventory | G5: Order Placed | H5: Pending Orders | I5: Profit from Sales | J5: Order Cost | K5: Inventory Cost | L5: Net Profit
A6: 1 | B6: 125 | C6: 20 | D6: =MIN(B6,C6) -> 20 | E6: 0 | F6: =B6-D6+E6 -> 105 | G6: =IF(F6<=75,IF(H5<>0,0,350),0) -> 0 | H6: 0 | I6: =D6*'1 - Data'!C$7 -> 200 | J6: =IF(G6<>0,'1 - Data'!$C$8,0) -> 0 | K6: =F6*'1 - Data'!$C$9 -> 26.25 | L6: =I6-J6-K6 -> 173.75
A7: =A6+1 -> 2 | B7: =F6 -> 105 | C7: 20 | D7: =MIN(B7,C7) -> 20 | E7: 0 | F7: =B7-D7+E7 -> 85 | G7: =IF(F7<=75,IF(H6<>0,0,350),0) -> 0 | H7: =ROUND(H6+G7-E7,0) -> 0 | I7: =D7*'1 - Data'!C$7 -> 200 | J7: =IF(G7<>0,'1 - Data'!$C$8,0) -> 0 | K7: =F7*'1 - Data'!$C$9 -> 21.25 | L7: =I7-J7-K7 -> 178.75
A8: =A7+1 -> 3 | B8: =F7 -> 85 | C8: 20 | D8: =MIN(B8,C8) -> 20 | E8: 0 | F8: =B8-D8+E8 -> 65 | G8: =IF(F8<=75,IF(H7<>0,0,350),0) -> 350 | H8: =ROUND(H7+G8-E8,0) -> 350 | I8: =D8*'1 - Data'!C$7 -> 200 | J8: =IF(G8<>0,'1 - Data'!$C$8,0) -> 50 | K8: =F8*'1 - Data'!$C$9 -> 16.25 | L8: =I8-J8-K8 -> 133.75
A9: =A8+1 -> 4 | B9: =F8 -> 65 | C9: 20 | D9: =MIN(B9,C9) -> 20 | E9: 0 | F9: =B9-D9+E9 -> 45 | G9: =IF(F9<=75,IF(H8<>0,0,350),0) -> 0 | H9: =ROUND(H8+G9-E9,0) -> 350 | I9: =D9*'1 - Data'!C$7 -> 200 | J9: =IF(G9<>0,'1 - Data'!$C$8,0) -> 0 | K9: =F9*'1 - Data'!$C$9 -> 11.25 | L9: =I9-J9-K9 -> 188.75
A10: =A9+1 -> 5 | B10: =F9 -> 45 | C10: 20 | D10: =MIN(B10,C10) -> 20 | E10: 0 | F10: =B10-D10+E10 -> 25 | G10: =IF(F10<=75,IF(H9<>0,0,350),0) -> 0 | H10: =ROUND(H9+G10-E10,0) -> 350 | I10: =D10*'1 - Data'!C$7 -> 200 | J10: =IF(G10<>0,'1 - Data'!$C$8,0) -> 0 | K10: =F10*'1 - Data'!$C$9 -> 6.25 | L10: =I10-J10-K10 -> 193.75
A11: =A10+1 -> 6 | B11: =F10 -> 25 | C11: 20 | D11: =MIN(B11,C11) -> 20 | E11: 0 | F11: =B11-D11+E11 -> 5 | G11: =IF(F11<=75,IF(H10<>0,0,350),0) -> 0 | H11: =ROUND(H10+G11-E11,0) -> 350 | I11: =D11*'1 - Data'!C$7 -> 200 | J11: =IF(G11<>0,'1 - Data'!$C$8,0) -> 0 | K11: =F11*'1 - Data'!$C$9 -> 1.25 | L11: =I11-J11-K11 -> 198.75
A12: =A11+1 -> 7 | B12: =F11 -> 5 | C12: 20 | D12: =MIN(B12,C12) -> 5 | E12: =G7 -> 0 | F12: =B12-D12+E12 -> 0 | G12: =IF(F12<=75,IF(H11<>0,0,350),0) -> 0 | H12: =ROUND(H11+G12-E12,0) -> 350 | I12: =D12*'1 - Data'!C$7 -> 50 | J12: =IF(G12<>0,'1 - Data'!$C$8,0) -> 0 | K12: =F12*'1 - Data'!$C$9 -> 0 | L12: =I12-J12-K12 -> 50
A13: =A12+1 -> 8 | B13: =F12 -> 0 | C13: 20 | D13: =MIN(B13,C13) -> 0 | E13: =G8 -> 350 | F13: =B13-D13+E13 -> 350 | G13: =IF(F13<=75,IF(H12<>0,0,350),0) -> 0 | H13: =ROUND(H12+G13-E13,0) -> 0 | I13: =D13*'1 - Data'!C$7 -> 0 | J13: =IF(G13<>0,'1 - Data'!$C$8,0) -> 0 | K13: =F13*'1 - Data'!$C$9 -> 87.5 | L13: =I13-J13-K13 -> -87.5
A14: =A13+1 -> 9 | B14: =F13 -> 350 | C14: 20 | D14: =MIN(B14,C14) -> 20 | E14: =G9 -> 0 | F14: =B14-D14+E14 -> 330 | G14: =IF(F14<=75,IF(H13<>0,0,350),0) -> 0 | H14: =ROUND(H13+G14-E14,0) -> 0 | I14: =D14*'1 - Data'!C$7 -> 200 | J14: =IF(G14<>0,'1 - Data'!$C$8,0) -> 0 | K14: =F14*'1 - Data'!$C$9 -> 82.5 | L14: =I14-J14-K14 -> 117.5
A15: =A14+1 -> 10 | B15: =F14 -> 330 | C15: 20 | D15: =MIN(B15,C15) -> 20 | E15: =G10 -> 0 | F15: =B15-D15+E15 -> 310 | G15: =IF(F15<=75,IF(H14<>0,0,350),0) -> 0 | H15: =ROUND(H14+G15-E15,0) -> 0 | I15: =D15*'1 - Data'!C$7 -> 200 | J15: =IF(G15<>0,'1 - Data'!$C$8,0) -> 0 | K15: =F15*'1 - Data'!$C$9 -> 77.5 | L15: =I15-J15-K15 -> 122.5
A16: =A15+1 -> 11 | B16: =F15 -> 310 | C16: 20 | D16: =MIN(B16,C16) -> 20 | E16: =G11 -> 0 | F16: =B16-D16+E16 -> 290 | G16: =IF(F16<=75,IF(H15<>0,0,350),0) -> 0 | H16: =ROUND(H15+G16-E16,0) -> 0 | I16: =D16*'1 - Data'!C$7 -> 200 | J16: =IF(G16<>0,'1 - Data'!$C$8,0) -> 0 | K16: =F16*'1 - Data'!$C$9 -> 72.5 | L16: =I16-J16-K16 -> 127.5
A17: =A16+1 -> 12 | B17: =F16 -> 290 | C17: 20 | D17: =MIN(B17,C17) -> 20 | E17: =G12 -> 0 | F17: =B17-D17+E17 -> 270 | G17: =IF(F17<=75,IF(H16<>0,0,350),0) -> 0 | H17: =ROUND(H16+G17-E17,0) -> 0 | I17: =D17*'1 - Data'!C$7 -> 200 | J17: =IF(G17<>0,'1 - Data'!$C$8,0) -> 0 | K17: =F17*'1 - Data'!$C$9 -> 67.5 | L17: =I17-J17-K17 -> 132.5
A18: =A17+1 -> 13 | B18: =F17 -> 270 | C18: 20 | D18: =MIN(B18,C18) -> 20 | E18: =G13 -> 0 | F18: =B18-D18+E18 -> 250 | G18: =IF(F18<=75,IF(H17<>0,0,350),0) -> 0 | H18: =ROUND(H17+G18-E18,0) -> 0 | I18: =D18*'1 - Data'!C$7 -> 200 | J18: =IF(G18<>0,'1 - Data'!$C$8,0) -> 0 | K18: =F18*'1 - Data'!$C$9 -> 62.5 | L18: =I18-J18-K18 -> 137.5
A19: =A18+1 -> 14 | B19: =F18 -> 250 | C19: 20 | D19: =MIN(B19,C19) -> 20 | E19: =G14 -> 0 | F19: =B19-D19+E19 -> 230 | G19: =IF(F19<=75,IF(H18<>0,0,350),0) -> 0 | H19: =ROUND(H18+G19-E19,0) -> 0 | I19: =D19*'1 - Data'!C$7 -> 200 | J19: =IF(G19<>0,'1 - Data'!$C$8,0) -> 0 | K19: =F19*'1 - Data'!$C$9 -> 57.5 | L19: =I19-J19-K19 -> 142.5
A20: =A19+1 -> 15 | B20: =F19 -> 230 | C20: 20 | D20: =MIN(B20,C20) -> 20 | E20: =G15 -> 0 | F20: =B20-D20+E20 -> 210 | G20: =IF(F20<=75,IF(H19<>0,0,350),0) -> 0 | H20: =ROUND(H19+G20-E20,0) -> 0 | I20: =D20*'1 - Data'!C$7 -> 200 | J20: =IF(G20<>0,'1 - Data'!$C$8,0) -> 0 | K20: =F20*'1 - Data'!$C$9 -> 52.5 | L20: =I20-J20-K20 -> 147.5
A21: =A20+1 -> 16 | B21: =F20 -> 210 | C21: 20 | D21: =MIN(B21,C21) -> 20 | E21: =G16 -> 0 | F21: =B21-D21+E21 -> 190 | G21: =IF(F21<=75,IF(H20<>0,0,350),0) -> 0 | H21: =ROUND(H20+G21-E21,0) -> 0 | I21: =D21*'1 - Data'!C$7 -> 200 | J21: =IF(G21<>0,'1 - Data'!$C$8,0) -> 0 | K21: =F21*'1 - Data'!$C$9 -> 47.5 | L21: =I21-J21-K21 -> 152.5
A22: =A21+1 -> 17 | B22: =F21 -> 190 | C22: 20 | D22: =MIN(B22,C22) -> 20 | E22: =G17 -> 0 | F22: =B22-D22+E22 -> 170 | G22: =IF(F22<=75,IF(H21<>0,0,350),0) -> 0 | H22: =ROUND(H21+G22-E22,0) -> 0 | I22: =D22*'1 - Data'!C$7 -> 200 | J22: =IF(G22<>0,'1 - Data'!$C$8,0) -> 0 | K22: =F22*'1 - Data'!$C$9 -> 42.5 | L22: =I22-J22-K22 -> 157.5
A23: =A22+1 -> 18 | B23: =F22 -> 170 | C23: 20 | D23: =MIN(B23,C23) -> 20 | E23: =G18 -> 0 | F23: =B23-D23+E23 -> 150 | G23: =IF(F23<=75,IF(H22<>0,0,350),0) -> 0 | H23: =H22+G23-E23 -> 0 | I23: =D23*'1 - Data'!C$7 -> 200 | J23: =IF(G23<>0,'1 - Data'!$C$8,0) -> 0 | K23: =F23*'1 - Data'!$C$9 -> 37.5 | L23: =I23-J23-K23 -> 162.5
A24: =A23+1 -> 19 | B24: =F23 -> 150 | C24: 20 | D24: =MIN(B24,C24) -> 20 | E24: =G19 -> 0 | F24: =B24-D24+E24 -> 130 | G24: =IF(F24<=75,IF(H23<>0,0,350),0) -> 0 | H24: =H23+G24-E24 -> 0 | I24: =D24*'1 - Data'!C$7 -> 200 | J24: =IF(G24<>0,'1 - Data'!$C$8,0) -> 0 | K24: =F24*'1 - Data'!$C$9 -> 32.5 | L24: =I24-J24-K24 -> 167.5
A25: =A24+1 -> 20 | B25: =F24 -> 130 | C25: 20 | D25: =MIN(B25,C25) -> 20 | E25: =G20 -> 0 | F25: =B25-D25+E25 -> 110 | G25: =IF(F25<=75,IF(H24<>0,0,350),0) -> 0 | H25: =H24+G25-E25 -> 0 | I25: =D25*'1 - Data'!C$7 -> 200 | J25: =IF(G25<>0,'1 - Data'!$C$8,0) -> 0 | K25: =F25*'1 - Data'!$C$9 -> 27.5 | L25: =I25-J25-K25 -> 172.5
A26: =A25+1 -> 21 | B26: =F25 -> 110 | C26: 20 | D26: =MIN(B26,C26) -> 20 | E26: =G21 -> 0 | F26: =B26-D26+E26 -> 90 | G26: =IF(F26<=75,IF(H25<>0,0,350),0) -> 0 | H26: =H25+G26-E26 -> 0 | I26: =D26*'1 - Data'!C$7 -> 200 | J26: =IF(G26<>0,'1 - Data'!$C$8,0) -> 0 | K26: =F26*'1 - Data'!$C$9 -> 22.5 | L26: =I26-J26-K26 -> 177.5
A27: =A26+1 -> 22 | B27: =F26 -> 90 | C27: 20 | D27: =MIN(B27,C27) -> 20 | E27: =G22 -> 0 | F27: =B27-D27+E27 -> 70 | G27: =IF(F27<=75,IF(H26<>0,0,350),0) -> 350 | H27: =H26+G27-E27 -> 350 | I27: =D27*'1 - Data'!C$7 -> 200 | J27: =IF(G27<>0,'1 - Data'!$C$8,0) -> 50 | K27: =F27*'1 - Data'!$C$9 -> 17.5 | L27: =I27-J27-K27 -> 132.5
A28: =A27+1 -> 23 | B28: =F27 -> 70 | C28: 20 | D28: =MIN(B28,C28) -> 20 | E28: =G23 -> 0 | F28: =B28-D28+E28 -> 50 | G28: =IF(F28<=75,IF(H27<>0,0,350),0) -> 0 | H28: =H27+G28-E28 -> 350 | I28: =D28*'1 - Data'!C$7 -> 200 | J28: =IF(G28<>0,'1 - Data'!$C$8,0) -> 0 | K28: =F28*'1 - Data'!$C$9 -> 12.5 | L28: =I28-J28-K28 -> 187.5
A29: =A28+1 -> 24 | B29: =F28 -> 50 | C29: 20 | D29: =MIN(B29,C29) -> 20 | E29: =G24 -> 0 | F29: =B29-D29+E29 -> 30 | G29: =IF(F29<=75,IF(H28<>0,0,350),0) -> 0 | H29: =H28+G29-E29 -> 350 | I29: =D29*'1 - Data'!C$7 -> 200 | J29: =IF(G29<>0,'1 - Data'!$C$8,0) -> 0 | K29: =F29*'1 - Data'!$C$9 -> 7.5 | L29: =I29-J29-K29 -> 192.5
A30: =A29+1 -> 25 | B30: =F29 -> 30 | C30: 20 | D30: =MIN(B30,C30) -> 20 | E30: =G25 -> 0 | F30: =B30-D30+E30 -> 10 | G30: =IF(F30<=75,IF(H29<>0,0,350),0) -> 0 | H30: =H29+G30-E30 -> 350 | I30: =D30*'1 - Data'!C$7 -> 200 | J30: =IF(G30<>0,'1 - Data'!$C$8,0) -> 0 | K30: =F30*'1 - Data'!$C$9 -> 2.5 | L30: =I30-J30-K30 -> 197.5
A31: =A30+1 -> 26 | B31: =F30 -> 10 | C31: 20 | D31: =MIN(B31,C31) -> 10 | E31: =G26 -> 0 | F31: =B31-D31+E31 -> 0 | G31: =IF(F31<=75,IF(H30<>0,0,350),0) -> 0 | H31: =H30+G31-E31 -> 350 | I31: =D31*'1 - Data'!C$7 -> 100 | J31: =IF(G31<>0,'1 - Data'!$C$8,0) -> 0 | K31: =F31*'1 - Data'!$C$9 -> 0 | L31: =I31-J31-K31 -> 100
A32: =A31+1 -> 27 | B32: =F31 -> 0 | C32: 20 | D32: =MIN(B32,C32) -> 0 | E32: =G27 -> 350 | F32: =B32-D32+E32 -> 350 | G32: =IF(F32<=75,IF(H31<>0,0,350),0) -> 0 | H32: =H31+G32-E32 -> 0 | I32: =D32*'1 - Data'!C$7 -> 0 | J32: =IF(G32<>0,'1 - Data'!$C$8,0) -> 0 | K32: =F32*'1 - Data'!$C$9 -> 87.5 | L32: =I32-J32-K32 -> -87.5
A33: =A32+1 -> 28 | B33: =F32 -> 350 | C33: 20 | D33: =MIN(B33,C33) -> 20 | E33: =G28 -> 0 | F33: =B33-D33+E33 -> 330 | G33: =IF(F33<=75,IF(H32<>0,0,350),0) -> 0 | H33: =H32+G33-E33 -> 0 | I33: =D33*'1 - Data'!C$7 -> 200 | J33: =IF(G33<>0,'1 - Data'!$C$8,0) -> 0 | K33: =F33*'1 - Data'!$C$9 -> 82.5 | L33: =I33-J33-K33 -> 117.5
A34: =A33+1 -> 29 | B34: =F33 -> 330 | C34: 20 | D34: =MIN(B34,C34) -> 20 | E34: =G29 -> 0 | F34: =B34-D34+E34 -> 310 | G34: =IF(F34<=75,IF(H33<>0,0,350),0) -> 0 | H34: =H33+G34-E34 -> 0 | I34: =D34*'1 - Data'!C$7 -> 200 | J34: =IF(G34<>0,'1 - Data'!$C$8,0) -> 0 | K34: =F34*'1 - Data'!$C$9 -> 77.5 | L34: =I34-J34-K34 -> 122.5
... A370: =A369+1 -> 365 | B370: =F369 -> 70 | C370: 20 | D370: =MIN(B370,C370) -> 20 | E370: =G365 -> 0 | F370: =B370-D370+E370 -> 50 | G370: =IF(F370<=75,IF(H369<>0,0,350),0) -> 0 | H370: =H369+G370-E370 -> 350 | I370: =D370*'1 - Data'!C$7 -> 200 | J370: =IF(G370<>0,'1 - Data'!$C$8,0) -> 0 | K370: =F370*'1 - Data'!$C$9 -> 12.5 | L370: =I370-J370-K370 -> 187.5
I371: =SUM(I6:I370) -> 67250 | J371: =SUM(J6:J370) -> 1000 | K371: =SUM(K6:K370) -> 15462.5 | L371: =SUM(L6:L370) -> 50787.5

Sheet Order Q=450
A1: PK Village Convenience Store
A2: Engine Coolant Replenishment Policy
A3: Deterministic Simulation Model
A5: Day | B5: Opening Inventory | C5: Demand | D5: Sales | E5: Deliveries | F5: Closing Inventory | G5: Order Placed | H5: Pending Orders | I5: Profit from Sales | J5: Order Cost | K5: Inventory Cost | L5: Net Profit
A6: 1 | B6: 125 | C6: 20 | D6: =MIN(B6,C6) -> 20 | E6: 0 | F6: =B6-D6+E6 -> 105 | G6: =IF(F6<=75,IF(H5<>0,0,450),0) -> 0 | H6: 0 | I6: =D6*'1 - Data'!C$7 -> 200 | J6: =IF(G6<>0,'1 - Data'!$C$8,0) -> 0 | K6: =F6*'1 - Data'!$C$9 -> 26.25 | L6: =I6-J6-K6 -> 173.75
A7: =A6+1 -> 2 | B7: =F6 -> 105 | C7: 20 | D7: =MIN(B7,C7) -> 20 | E7: 0 | F7: =B7-D7+E7 -> 85 | G7: =IF(F7<=75,IF(H6<>0,0,450),0) -> 0 | H7: =ROUND(H6+G7-E7,0) -> 0 | I7: =D7*'1 - Data'!C$7 -> 200 | J7: =IF(G7<>0,'1 - Data'!$C$8,0) -> 0 | K7: =F7*'1 - Data'!$C$9 -> 21.25 | L7: =I7-J7-K7 -> 178.75
A8: =A7+1 -> 3 | B8: =F7 -> 85 | C8: 20 | D8: =MIN(B8,C8) -> 20 | E8: 0 | F8: =B8-D8+E8 -> 65 | G8: =IF(F8<=75,IF(H7<>0,0,450),0) -> 450 | H8: =ROUND(H7+G8-E8,0) -> 450 | I8: =D8*'1 - Data'!C$7 -> 200 | J8: =IF(G8<>0,'1 - Data'!$C$8,0) -> 50 | K8: =F8*'1 - Data'!$C$9 -> 16.25 | L8: =I8-J8-K8 -> 133.75
A9: =A8+1 -> 4 | B9: =F8 -> 65 | C9: 20 | D9: =MIN(B9,C9) -> 20 | E9: 0 | F9: =B9-D9+E9 -> 45 | G9: =IF(F9<=75,IF(H8<>0,0,450),0) -> 0 | H9: =ROUND(H8+G9-E9,0) -> 450 | I9: =D9*'1 - Data'!C$7 -> 200 | J9: =IF(G9<>0,'1 - Data'!$C$8,0) -> 0 | K9: =F9*'1 - Data'!$C$9 -> 11.25 | L9: =I9-J9-K9 -> 188.75
A10: =A9+1 -> 5 | B10: =F9 -> 45 | C10: 20 | D10: =MIN(B10,C10) -> 20 | E10: 0 | F10: =B10-D10+E10 -> 25 | G10: =IF(F10<=75,IF(H9<>0,0,450),0) -> 0 | H10: =ROUND(H9+G10-E10,0) -> 450 | I10: =D10*'1 - Data'!C$7 -> 200 | J10: =IF(G10<>0,'1 - Data'!$C$8,0) -> 0 | K10: =F10*'1 - Data'!$C$9 -> 6.25 | L10: =I10-J10-K10 -> 193.75
A11: =A10+1 -> 6 | B11: =F10 -> 25 | C11: 20 | D11: =MIN(B11,C11) -> 20 | E11: 0 | F11: =B11-D11+E11 -> 5 | G11: =IF(F11<=75,IF(H10<>0,0,450),0) -> 0 | H11: =ROUND(H10+G11-E11,0) -> 450 | I11: =D11*'1 - Data'!C$7 -> 200 | J11: =IF(G11<>0,'1 - Data'!$C$8,0) -> 0 | K11: =F11*'1 - Data'!$C$9 -> 1.25 | L11: =I11-J11-K11 -> 198.75
A12: =A11+1 -> 7 | B12: =F11 -> 5 | C12: 20 | D12: =MIN(B12,C12) -> 5 | E12: =G7 -> 0 | F12: =B12-D12+E12 -> 0 | G12: =IF(F12<=75,IF(H11<>0,0,450),0) -> 0 | H12: =ROUND(H11+G12-E12,0) -> 450 | I12: =D12*'1 - Data'!C$7 -> 50 | J12: =IF(G12<>0,'1 - Data'!$C$8,0) -> 0 | K12: =F12*'1 - Data'!$C$9 -> 0 | L12: =I12-J12-K12 -> 50
A13: =A12+1 -> 8 | B13: =F12 -> 0 | C13: 20 | D13: =MIN(B13,C13) -> 0 | E13: =G8 -> 450 | F13: =B13-D13+E13 -> 450 | G13: =IF(F13<=75,IF(H12<>0,0,450),0) -> 0 | H13: =ROUND(H12+G13-E13,0) -> 0 | I13: =D13*'1 - Data'!C$7 -> 0 | J13: =IF(G13<>0,'1 - Data'!$C$8,0) -> 0 | K13: =F13*'1 - Data'!$C$9 -> 112.5 | L13: =I13-J13-K13 -> -112.5
A14: =A13+1 -> 9 | B14: =F13 -> 450 | C14: 20 | D14: =MIN(B14,C14) -> 20 | E14: =G9 -> 0 | F14: =B14-D14+E14 -> 430 | G14: =IF(F14<=75,IF(H13<>0,0,450),0) -> 0 | H14: =ROUND(H13+G14-E14,0) -> 0 | I14: =D14*'1 - Data'!C$7 -> 200 | J14: =IF(G14<>0,'1 - Data'!$C$8,0) -> 0 | K14: =F14*'1 - Data'!$C$9 -> 107.5 | L14: =I14-J14-K14 -> 92.5
A15: =A14+1 -> 10 | B15: =F14 -> 430 | C15: 20 | D15: =MIN(B15,C15) -> 20 | E15: =G10 -> 0 | F15: =B15-D15+E15 -> 410 | G15: =IF(F15<=75,IF(H14<>0,0,450),0) -> 0 | H15: =ROUND(H14+G15-E15,0) -> 0 | I15: =D15*'1 - Data'!C$7 -> 200 | J15: =IF(G15<>0,'1 - Data'!$C$8,0) -> 0 | K15: =F15*'1 - Data'!$C$9 -> 102.5 | L15: =I15-J15-K15 -> 97.5
A16: =A15+1 -> 11 | B16: =F15 -> 410 | C16: 20 | D16: =MIN(B16,C16) -> 20 | E16: =G11 -> 0 | F16: =B16-D16+E16 -> 390 | G16: =IF(F16<=75,IF(H15<>0,0,450),0) -> 0 | H16: =ROUND(H15+G16-E16,0) -> 0 | I16: =D16*'1 - Data'!C$7 -> 200 | J16: =IF(G16<>0,'1 - Data'!$C$8,0) -> 0 | K16: =F16*'1 - Data'!$C$9 -> 97.5 | L16: =I16-J16-K16 -> 102.5
A17: =A16+1 -> 12 | B17: =F16 -> 390 | C17: 20 | D17: =MIN(B17,C17) -> 20 | E17: =G12 -> 0 | F17: =B17-D17+E17 -> 370 | G17: =IF(F17<=75,IF(H16<>0,0,450),0) -> 0 | H17: =ROUND(H16+G17-E17,0) -> 0 | I17: =D17*'1 - Data'!C$7 -> 200 | J17: =IF(G17<>0,'1 - Data'!$C$8,0) -> 0 | K17: =F17*'1 - Data'!$C$9 -> 92.5 | L17: =I17-J17-K17 -> 107.5
A18: =A17+1 -> 13 | B18: =F17 -> 370 | C18: 20 | D18: =MIN(B18,C18) -> 20 | E18: =G13 -> 0 | F18: =B18-D18+E18 -> 350 | G18: =IF(F18<=75,IF(H17<>0,0,450),0) -> 0 | H18: =ROUND(H17+G18-E18,0) -> 0 | I18: =D18*'1 - Data'!C$7 -> 200 | J18: =IF(G18<>0,'1 - Data'!$C$8,0) -> 0 | K18: =F18*'1 - Data'!$C$9 -> 87.5 | L18: =I18-J18-K18 -> 112.5
A19: =A18+1 -> 14 | B19: =F18 -> 350 | C19: 20 | D19: =MIN(B19,C19) -> 20 | E19: =G14 -> 0 | F19: =B19-D19+E19 -> 330 | G19: =IF(F19<=75,IF(H18<>0,0,450),0) -> 0 | H19: =ROUND(H18+G19-E19,0) -> 0 | I19: =D19*'1 - Data'!C$7 -> 200 | J19: =IF(G19<>0,'1 - Data'!$C$8,0) -> 0 | K19: =F19*'1 - Data'!$C$9 -> 82.5 | L19: =I19-J19-K19 -> 117.5
A20: =A19+1 -> 15 | B20: =F19 -> 330 | C20: 20 | D20: =MIN(B20,C20) -> 20 | E20: =G15 -> 0 | F20: =B20-D20+E20 -> 310 | G20: =IF(F20<=75,IF(H19<>0,0,450),0) -> 0 | H20: =ROUND(H19+G20-E20,0) -> 0 | I20: =D20*'1 - Data'!C$7 -> 200 | J20: =IF(G20<>0,'1 - Data'!$C$8,0) -> 0 | K20: =F20*'1 - Data'!$C$9 -> 77.5 | L20: =I20-J20-K20 -> 122.5
A21: =A20+1 -> 16 | B21: =F20 -> 310 | C21: 20 | D21: =MIN(B21,C21) -> 20 | E21: =G16 -> 0 | F21: =B21-D21+E21 -> 290 | G21: =IF(F21<=75,IF(H20<>0,0,450),0) -> 0 | H21: =ROUND(H20+G21-E21,0) -> 0 | I21: =D21*'1 - Data'!C$7 -> 200 | J21: =IF(G21<>0,'1 - Data'!$C$8,0) -> 0 | K21: =F21*'1 - Data'!$C$9 -> 72.5 | L21: =I21-J21-K21 -> 127.5
A22: =A21+1 -> 17 | B22: =F21 -> 290 | C22: 20 | D22: =MIN(B22,C22) -> 20 | E22: =G17 -> 0 | F22: =B22-D22+E22 -> 270 | G22: =IF(F22<=75,IF(H21<>0,0,450),0) -> 0 | H22: =ROUND(H21+G22-E22,0) -> 0 | I22: =D22*'1 - Data'!C$7 -> 200 | J22: =IF(G22<>0,'1 - Data'!$C$8,0) -> 0 | K22: =F22*'1 - Data'!$C$9 -> 67.5 | L22: =I22-J22-K22 -> 132.5
A23: =A22+1 -> 18 | B23: =F22 -> 270 | C23: 20 | D23: =MIN(B23,C23) -> 20 | E23: =G18 -> 0 | F23: =B23-D23+E23 -> 250 | G23: =IF(F23<=75,IF(H22<>0,0,450),0) -> 0 | H23: =H22+G23-E23 -> 0 | I23: =D23*'1 - Data'!C$7 -> 200 | J23: =IF(G23<>0,'1 - Data'!$C$8,0) -> 0 | K23: =F23*'1 - Data'!$C$9 -> 62.5 | L23: =I23-J23-K23 -> 137.5
A24: =A23+1 -> 19 | B24: =F23 -> 250 | C24: 20 | D24: =MIN(B24,C24) -> 20 | E24: =G19 -> 0 | F24: =B24-D24+E24 -> 230 | G24: =IF(F24<=75,IF(H23<>0,0,450),0) -> 0 | H24: =H23+G24-E24 -> 0 | I24: =D24*'1 - Data'!C$7 -> 200 | J24: =IF(G24<>0,'1 - Data'!$C$8,0) -> 0 | K24: =F24*'1 - Data'!$C$9 -> 57.5 | L24: =I24-J24-K24 -> 142.5
A25: =A24+1 -> 20 | B25: =F24 -> 230 | C25: 20 | D25: =MIN(B25,C25) -> 20 | E25: =G20 -> 0 | F25: =B25-D25+E25 -> 210 | G25: =IF(F25<=75,IF(H24<>0,0,450),0) -> 0 | H25: =H24+G25-E25 -> 0 | I25: =D25*'1 - Data'!C$7 -> 200 | J25: =IF(G25<>0,'1 - Data'!$C$8,0) -> 0 | K25: =F25*'1 - Data'!$C$9 -> 52.5 | L25: =I25-J25-K25 -> 147.5
A26: =A25+1 -> 21 | B26: =F25 -> 210 | C26: 20 | D26: =MIN(B26,C26) -> 20 | E26: =G21 -> 0 | F26: =B26-D26+E26 -> 190 | G26: =IF(F26<=75,IF(H25<>0,0,450),0) -> 0 | H26: =H25+G26-E26 -> 0 | I26: =D26*'1 - Data'!C$7 -> 200 | J26: =IF(G26<>0,'1 - Data'!$C$8,0) -> 0 | K26: =F26*'1 - Data'!$C$9 -> 47.5 | L26: =I26-J26-K26 -> 152.5
A27: =A26+1 -> 22 | B27: =F26 -> 190 | C27: 20 | D27: =MIN(B27,C27) -> 20 | E27: =G22 -> 0 | F27: =B27-D27+E27 -> 170 | G27: =IF(F27<=75,IF(H26<>0,0,450),0) -> 0 | H27: =H26+G27-E27 -> 0 | I27: =D27*'1 - Data'!C$7 -> 200 | J27: =IF(G27<>0,'1 - Data'!$C$8,0) -> 0 | K27: =F27*'1 - Data'!$C$9 -> 42.5 | L27: =I27-J27-K27 -> 157.5
A28: =A27+1 -> 23 | B28: =F27 -> 170 | C28: 20 | D28: =MIN(B28,C28) -> 20 | E28: =G23 -> 0 | F28: =B28-D28+E28 -> 150 | G28: =IF(F28<=75,IF(H27<>0,0,450),0) -> 0 | H28: =H27+G28-E28 -> 0 | I28: =D28*'1 - Data'!C$7 -> 200 | J28: =IF(G28<>0,'1 - Data'!$C$8,0) -> 0 | K28: =F28*'1 - Data'!$C$9 -> 37.5 | L28: =I28-J28-K28 -> 162.5
A29: =A28+1 -> 24 | B29: =F28 -> 150 | C29: 20 | D29: =MIN(B29,C29) -> 20 | E29: =G24 -> 0 | F29: =B29-D29+E29 -> 130 | G29: =IF(F29<=75,IF(H28<>0,0,450),0) -> 0 | H29: =H28+G29-E29 -> 0 | I29: =D29*'1 - Data'!C$7 -> 200 | J29: =IF(G29<>0,'1 - Data'!$C$8,0) -> 0 | K29: =F29*'1 - Data'!$C$9 -> 32.5 | L29: =I29-J29-K29 -> 167.5
A30: =A29+1 -> 25 | B30: =F29 -> 130 | C30: 20 | D30: =MIN(B30,C30) -> 20 | E30: =G25 -> 0 | F30: =B30-D30+E30 -> 110 | G30: =IF(F30<=75,IF(H29<>0,0,450),0) -> 0 | H30: =H29+G30-E30 -> 0 | I30: =D30*'1 - Data'!C$7 -> 200 | J30: =IF(G30<>0,'1 - Data'!$C$8,0) -> 0 | K30: =F30*'1 - Data'!$C$9 -> 27.5 | L30: =I30-J30-K30 -> 172.5
A31: =A30+1 -> 26 | B31: =F30 -> 110 | C31: 20 | D31: =MIN(B31,C31) -> 20 | E31: =G26 -> 0 | F31: =B31-D31+E31 -> 90 | G31: =IF(F31<=75,IF(H30<>0,0,450),0) -> 0 | H31: =H30+G31-E31 -> 0 | I31: =D31*'1 - Data'!C$7 -> 200 | J31: =IF(G31<>0,'1 - Data'!$C$8,0) -> 0 | K31: =F31*'1 - Data'!$C$9 -> 22.5 | L31: =I31-J31-K31 -> 177.5
A32: =A31+1 -> 27 | B32: =F31 -> 90 | C32: 20 | D32: =MIN(B32,C32) -> 20 | E32: =G27 -> 0 | F32: =B32-D32+E32 -> 70 | G32: =IF(F32<=75,IF(H31<>0,0,450),0) -> 450 | H32: =H31+G32-E32 -> 450 | I32: =D32*'1 - Data'!C$7 -> 200 | J32: =IF(G32<>0,'1 - Data'!$C$8,0) -> 50 | K32: =F32*'1 - Data'!$C$9 -> 17.5 | L32: =I32-J32-K32 -> 132.5
A33: =A32+1 -> 28 | B33: =F32 -> 70 | C33: 20 | D33: =MIN(B33,C33) -> 20 | E33: =G28 -> 0 | F33: =B33-D33+E33 -> 50 | G33: =IF(F33<=75,IF(H32<>0,0,450),0) -> 0 | H33: =H32+G33-E33 -> 450 | I33: =D33*'1 - Data'!C$7 -> 200 | J33: =IF(G33<>0,'1 - Data'!$C$8,0) -> 0 | K33: =F33*'1 - Data'!$C$9 -> 12.5 | L33: =I33-J33-K33 -> 187.5
A34: =A33+1 -> 29 | B34: =F33 -> 50 | C34: 20 | D34: =MIN(B34,C34) -> 20 | E34: =G29 -> 0 | F34: =B34-D34+E34 -> 30 | G34: =IF(F34<=75,IF(H33<>0,0,450),0) -> 0 | H34: =H33+G34-E34 -> 450 | I34: =D34*'1 - Data'!C$7 -> 200 | J34: =IF(G34<>0,'1 - Data'!$C$8,0) -> 0 | K34: =F34*'1 - Data'!$C$9 -> 7.5 | L34: =I34-J34-K34 -> 192.5
... A370: =A369+1 -> 365 | B370: =F369 -> 50 | C370: 20 | D370: =MIN(B370,C370) -> 20 | E370: =G365 -> 0 | F370: =B370-D370+E370 -> 30 | G370: =IF(F370<=75,IF(H369<>0,0,450),0) -> 0 | H370: =H369+G370-E370 -> 450 | I370: =D370*'1 - Data'!C$7 -> 200 | J370: =IF(G370<>0,'1 - Data'!$C$8,0) -> 0 | K370: =F370*'1 - Data'!$C$9 -> 7.5 | L370: =I370-J370-K370 -> 192.5
I371: =SUM(I6:I370) -> 68450 | J371: =SUM(J6:J370) -> 800 | K371: =SUM(K6:K370) -> 19917.5 | L371: =SUM(L6:L370) -> 47732.5

Sheet Expected Demand
B3: Demand | C3: Probability | D3: Weighted demand
B4: 12 | C4: 0 | D4: =B4*C4 -> 0
B5: 13 | C5: =(((2*(B5-12)/((25-12)*(5))))) -> 0.030769231 | D5: =B5*C5 -> 0.4
B6: 14 | C6: =(((2*(B6-12)/((25-12)*(5))))) -> 0.061538462 | D6: =B6*C6 -> 0.86153846
B7: 15 | C7: =(((2*(B7-12)/((25-12)*(5))))) -> 0.092307692 | D7: =B7*C7 -> 1.3846154
B8: 16 | C8: =(((2*(B8-12)/((25-12)*(5))))) -> 0.12307692 | D8: =B8*C8 -> 1.9692308
B9: 17 | C9: =(((2*(B9-12)/((25-12)*(5))))) -> 0.15384615 | D9: =B9*C9 -> 2.6153846
B10: 18 | C10: =(((2*(B10-12)/((25-12)*(5))))) -> 0.18461538 | D10: =B10*C10 -> 3.3230769
B11: 19 | C11: =(((2*(B11-12)/((25-12)*(5))))) -> 0.21538462 | D11: =B11*C11 -> 4.0923077
B12: 20 | C12: 0.15 | D12: =B12*C12 -> 3
B13: 21 | C13: =((2*(25-B13))/65) -> 0.12307692 | D13: =B13*C13 -> 2.5846154
B14: 22 | C14: =((2*(25-B14))/65) -> 0.092307692 | D14: =B14*C14 -> 2.0307692
B15: 23 | C15: =((2*(25-B15))/65) -> 0.061538462 | D15: =B15*C15 -> 1.4153846
B16: 24 | C16: =((2*(25-B16))/65) -> 0.030769231 | D16: =B16*C16 -> 0.73846154
B17: 25 | C17: =((2*(25-B17))/65) -> 0 | D17: =B17*C17 -> 0
C19: Expected demand | D19: =ROUND(SUM(D4:D18),0) -> 24

Sheet 3 - Probabilistic
A1: PK Village Convenience Store
A2: Engine Coolant Replenishment Policy
A3: Deterministic Simulation Model
A5: Day | B5: Opening Inventory | C5: Demand | D5: Sales | E5: Deliveries | F5: Closing Inventory | G5: Order Placed | H5: Pending Orders | I5: Profit from Sales | J5: Order Cost | K5: Inventory Cost | L5: Net Profit
A6: 1 | B6: 125 | C6: 24 | D6: =MIN(B6,C6) -> 24 | E6: 0 | F6: =B6-D6+E6 -> 101 | G6: =IF(F6<='1 - Data'!$C$6,IF(H5<>0,0,'1 - Data'!$C$5),0) -> 0 | H6: 0 | I6: =D6*'1 - Data'!C$7 -> 240 | J6: =IF(G6<>0,'1 - Data'!$C$8,0) -> 0 | K6: =F6*'1 - Data'!$C$9 -> 25.25 | L6: =I6-J6-K6 -> 214.75
A7: =A6+1 -> 2 | B7: =F6 -> 101 | C7: 24 | D7: =MIN(B7,C7) -> 24 | E7: 0 | F7: =B7-D7+E7 -> 77 | G7: =IF(F7<='1 - Data'!$C$6,IF(H6<>0,0,'1 - Data'!$C$5),0) -> 0 | H7: =ROUND(H6+G7-E7,0) -> 0 | I7: =D7*'1 - Data'!C$7 -> 240 | J7: =IF(G7<>0,'1 - Data'!$C$8,0) -> 0 | K7: =F7*'1 - Data'!$C$9 -> 19.25 | L7: =I7-J7-K7 -> 220.75
A8: =A7+1 -> 3 | B8: =F7 -> 77 | C8: 24 | D8: =MIN(B8,C8) -> 24 | E8: 0 | F8: =B8-D8+E8 -> 53 | G8: =IF(F8<='1 - Data'!$C$6,IF(H7<>0,0,'1 - Data'!$C$5),0) -> 250 | H8: =ROUND(H7+G8-E8,0) -> 250 | I8: =D8*'1 - Data'!C$7 -> 240 | J8: =IF(G8<>0,'1 - Data'!$C$8,0) -> 50 | K8: =F8*'1 - Data'!$C$9 -> 13.25 | L8: =I8-J8-K8 -> 176.75
A9: =A8+1 -> 4 | B9: =F8 -> 53 | C9: 24 | D9: =MIN(B9,C9) -> 24 | E9: 0 | F9: =B9-D9+E9 -> 29 | G9: =IF(F9<='1 - Data'!$C$6,IF(H8<>0,0,'1 - Data'!$C$5),0) -> 0 | H9: =ROUND(H8+G9-E9,0) -> 250 | I9: =D9*'1 - Data'!C$7 -> 240 | J9: =IF(G9<>0,'1 - Data'!$C$8,0) -> 0 | K9: =F9*'1 - Data'!$C$9 -> 7.25 | L9: =I9-J9-K9 -> 232.75
A10: =A9+1 -> 5 | B10: =F9 -> 29 | C10: 24 | D10: =MIN(B10,C10) -> 24 | E10: 0 | F10: =B10-D10+E10 -> 5 | G10: =IF(F10<='1 - Data'!$C$6,IF(H9<>0,0,'1 - Data'!$C$5),0) -> 0 | H10: =ROUND(H9+G10-E10,0) -> 250 | I10: =D10*'1 - Data'!C$7 -> 240 | J10: =IF(G10<>0,'1 - Data'!$C$8,0) -> 0 | K10: =F10*'1 - Data'!$C$9 -> 1.25 | L10: =I10-J10-K10 -> 238.75
A11: =A10+1 -> 6 | B11: =F10 -> 5 | C11: 24 | D11: =MIN(B11,C11) -> 5 | E11: 0 | F11: =B11-D11+E11 -> 0 | G11: =IF(F11<='1 - Data'!$C$6,IF(H10<>0,0,'1 - Data'!$C$5),0) -> 0 | H11: =ROUND(H10+G11-E11,0) -> 250 | I11: =D11*'1 - Data'!C$7 -> 50 | J11: =IF(G11<>0,'1 - Data'!$C$8,0) -> 0 | K11: =F11*'1 - Data'!$C$9 -> 0 | L11: =I11-J11-K11 -> 50
A12: =A11+1 -> 7 | B12: =F11 -> 0 | C12: 24 | D12: =MIN(B12,C12) -> 0 | E12: =G7 -> 0 | F12: =B12-D12+E12 -> 0 | G12: =IF(F12<='1 - Data'!$C$6,IF(H11<>0,0,'1 - Data'!$C$5),0) -> 0 | H12: =ROUND(H11+G12-E12,0) -> 250 | I12: =D12*'1 - Data'!C$7 -> 0 | J12: =IF(G12<>0,'1 - Data'!$C$8,0) -> 0 | K12: =F12*'1 - Data'!$C$9 -> 0 | L12: =I12-J12-K12 -> 0
A13: =A12+1 -> 8 | B13: =F12 -> 0 | C13: 24 | D13: =MIN(B13,C13) -> 0 | E13: =G8 -> 250 | F13: =B13-D13+E13 -> 250 | G13: =IF(F13<='1 - Data'!$C$6,IF(H12<>0,0,'1 - Data'!$C$5),0) -> 0 | H13: =ROUND(H12+G13-E13,0) -> 0 | I13: =D13*'1 - Data'!C$7 -> 0 | J13: =IF(G13<>0,'1 - Data'!$C$8,0) -> 0 | K13: =F13*'1 - Data'!$C$9 -> 62.5 | L13: =I13-J13-K13 -> -62.5
A14: =A13+1 -> 9 | B14: =F13 -> 250 | C14: 24 | D14: =MIN(B14,C14) -> 24 | E14: =G9 -> 0 | F14: =B14-D14+E14 -> 226 | G14: =IF(F14<='1 - Data'!$C$6,IF(H13<>0,0,'1 - Data'!$C$5),0) -> 0 | H14: =ROUND(H13+G14-E14,0) -> 0 | I14: =D14*'1 - Data'!C$7 -> 240 | J14: =IF(G14<>0,'1 - Data'!$C$8,0) -> 0 | K14: =F14*'1 - Data'!$C$9 -> 56.5 | L14: =I14-J14-K14 -> 183.5
A15: =A14+1 -> 10 | B15: =F14 -> 226 | C15: 24 | D15: =MIN(B15,C15) -> 24 | E15: =G10 -> 0 | F15: =B15-D15+E15 -> 202 | G15: =IF(F15<='1 - Data'!$C$6,IF(H14<>0,0,'1 - Data'!$C$5),0) -> 0 | H15: =ROUND(H14+G15-E15,0) -> 0 | I15: =D15*'1 - Data'!C$7 -> 240 | J15: =IF(G15<>0,'1 - Data'!$C$8,0) -> 0 | K15: =F15*'1 - Data'!$C$9 -> 50.5 | L15: =I15-J15-K15 -> 189.5
A16: =A15+1 -> 11 | B16: =F15 -> 202 | C16: 24 | D16: =MIN(B16,C16) -> 24 | E16: =G11 -> 0 | F16: =B16-D16+E16 -> 178 | G16: =IF(F16<='1 - Data'!$C$6,IF(H15<>0,0,'1 - Data'!$C$5),0) -> 0 | H16: =ROUND(H15+G16-E16,0) -> 0 | I16: =D16*'1 - Data'!C$7 -> 240 | J16: =IF(G16<>0,'1 - Data'!$C$8,0) -> 0 | K16: =F16*'1 - Data'!$C$9 -> 44.5 | L16: =I16-J16-K16 -> 195.5
A17: =A16+1 -> 12 | B17: =F16 -> 178 | C17: 24 | D17: =MIN(B17,C17) -> 24 | E17: =G12 -> 0 | F17: =B17-D17+E17 -> 154 | G17: =IF(F17<='1 - Data'!$C$6,IF(H16<>0,0,'1 - Data'!$C$5),0) -> 0 | H17: =ROUND(H16+G17-E17,0) -> 0 | I17: =D17*'1 - Data'!C$7 -> 240 | J17: =IF(G17<>0,'1 - Data'!$C$8,0) -> 0 | K17: =F17*'1 - Data'!$C$9 -> 38.5 | L17: =I17-J17-K17 -> 201.5
A18: =A17+1 -> 13 | B18: =F17 -> 154 | C18: 24 | D18: =MIN(B18,C18) -> 24 | E18: =G13 -> 0 | F18: =B18-D18+E18 -> 130 | G18: =IF(F18<='1 - Data'!$C$6,IF(H17<>0,0,'1 - Data'!$C$5),0) -> 0 | H18: =ROUND(H17+G18-E18,0) -> 0 | I18: =D18*'1 - Data'!C$7 -> 240 | J18: =IF(G18<>0,'1 - Data'!$C$8,0) -> 0 | K18: =F18*'1 - Data'!$C$9 -> 32.5 | L18: =I18-J18-K18 -> 207.5
A19: =A18+1 -> 14 | B19: =F18 -> 130 | C19: 24 | D19: =MIN(B19,C19) -> 24 | E19: =G14 -> 0 | F19: =B19-D19+E19 -> 106 | G19: =IF(F19<='1 - Data'!$C$6,IF(H18<>0,0,'1 - Data'!$C$5),0) -> 0 | H19: =ROUND(H18+G19-E19,0) -> 0 | I19: =D19*'1 - Data'!C$7 -> 240 | J19: =IF(G19<>0,'1 - Data'!$C$8,0) -> 0 | K19: =F19*'1 - Data'!$C$9 -> 26.5 | L19: =I19-J19-K19 -> 213.5
A20: =A19+1 -> 15 | B20: =F19 -> 106 | C20: 24 | D20: =MIN(B20,C20) -> 24 | E20: =G15 -> 0 | F20: =B20-D20+E20 -> 82 | G20: =IF(F20<='1 - Data'!$C$6,IF(H19<>0,0,'1 - Data'!$C$5),0) -> 0 | H20: =ROUND(H19+G20-E20,0) -> 0 | I20: =D20*'1 - Data'!C$7 -> 240 | J20: =IF(G20<>0,'1 - Data'!$C$8,0) -> 0 | K20: =F20*'1 - Data'!$C$9 -> 20.5 | L20: =I20-J20-K20 -> 219.5
A21: =A20+1 -> 16 | B21: =F20 -> 82 | C21: 24 | D21: =MIN(B21,C21) -> 24 | E21: =G16 -> 0 | F21: =B21-D21+E21 -> 58 | G21: =IF(F21<='1 - Data'!$C$6,IF(H20<>0,0,'1 - Data'!$C$5),0) -> 250 | H21: =ROUND(H20+G21-E21,0) -> 250 | I21: =D21*'1 - Data'!C$7 -> 240 | J21: =IF(G21<>0,'1 - Data'!$C$8,0) -> 50 | K21: =F21*'1 - Data'!$C$9 -> 14.5 | L21: =I21-J21-K21 -> 175.5
A22: =A21+1 -> 17 | B22: =F21 -> 58 | C22: 24 | D22: =MIN(B22,C22) -> 24 | E22: =G17 -> 0 | F22: =B22-D22+E22 -> 34 | G22: =IF(F22<='1 - Data'!$C$6,IF(H21<>0,0,'1 - Data'!$C$5),0) -> 0 | H22: =ROUND(H21+G22-E22,0) -> 250 | I22: =D22*'1 - Data'!C$7 -> 240 | J22: =IF(G22<>0,'1 - Data'!$C$8,0) -> 0 | K22: =F22*'1 - Data'!$C$9 -> 8.5 | L22: =I22-J22-K22 -> 231.5
A23: =A22+1 -> 18 | B23: =F22 -> 34 | C23: 24 | D23: =MIN(B23,C23) -> 24 | E23: =G18 -> 0 | F23: =B23-D23+E23 -> 10 | G23: =IF(F23<='1 - Data'!$C$6,IF(H22<>0,0,'1 - Data'!$C$5),0) -> 0 | H23: =H22+G23-E23 -> 250 | I23: =D23*'1 - Data'!C$7 -> 240 | J23: =IF(G23<>0,'1 - Data'!$C$8,0) -> 0 | K23: =F23*'1 - Data'!$C$9 -> 2.5 | L23: =I23-J23-K23 -> 237.5
A24: =A23+1 -> 19 | B24: =F23 -> 10 | C24: 24 | D24: =MIN(B24,C24) -> 10 | E24: =G19 -> 0 | F24: =B24-D24+E24 -> 0 | G24: =IF(F24<='1 - Data'!$C$6,IF(H23<>0,0,'1 - Data'!$C$5),0) -> 0 | H24: =H23+G24-E24 -> 250 | I24: =D24*'1 - Data'!C$7 -> 100 | J24: =IF(G24<>0,'1 - Data'!$C$8,0) -> 0 | K24: =F24*'1 - Data'!$C$9 -> 0 | L24: =I24-J24-K24 -> 100
A25: =A24+1 -> 20 | B25: =F24 -> 0 | C25: 24 | D25: =MIN(B25,C25) -> 0 | E25: =G20 -> 0 | F25: =B25-D25+E25 -> 0 | G25: =IF(F25<='1 - Data'!$C$6,IF(H24<>0,0,'1 - Data'!$C$5),0) -> 0 | H25: =H24+G25-E25 -> 250 | I25: =D25*'1 - Data'!C$7 -> 0 | J25: =IF(G25<>0,'1 - Data'!$C$8,0) -> 0 | K25: =F25*'1 - Data'!$C$9 -> 0 | L25: =I25-J25-K25 -> 0
A26: =A25+1 -> 21 | B26: =F25 -> 0 | C26: 24 | D26: =MIN(B26,C26) -> 0 | E26: =G21 -> 250 | F26: =B26-D26+E26 -> 250 | G26: =IF(F26<='1 - Data'!$C$6,IF(H25<>0,0,'1 - Data'!$C$5),0) -> 0 | H26: =H25+G26-E26 -> 0 | I26: =D26*'1 - Data'!C$7 -> 0 | J26: =IF(G26<>0,'1 - Data'!$C$8,0) -> 0 | K26: =F26*'1 - Data'!$C$9 -> 62.5 | L26: =I26-J26-K26 -> -62.5
A27: =A26+1 -> 22 | B27: =F26 -> 250 | C27: 24 | D27: =MIN(B27,C27) -> 24 | E27: =G22 -> 0 | F27: =B27-D27+E27 -> 226 | G27: =IF(F27<='1 - Data'!$C$6,IF(H26<>0,0,'1 - Data'!$C$5),0) -> 0 | H27: =H26+G27-E27 -> 0 | I27: =D27*'1 - Data'!C$7 -> 240 | J27: =IF(G27<>0,'1 - Data'!$C$8,0) -> 0 | K27: =F27*'1 - Data'!$C$9 -> 56.5 | L27: =I27-J27-K27 -> 183.5
A28: =A27+1 -> 23 | B28: =F27 -> 226 | C28: 24 | D28: =MIN(B28,C28) -> 24 | E28: =G23 -> 0 | F28: =B28-D28+E28 -> 202 | G28: =IF(F28<='1 - Data'!$C$6,IF(H27<>0,0,'1 - Data'!$C$5),0) -> 0 | H28: =H27+G28-E28 -> 0 | I28: =D28*'1 - Data'!C$7 -> 240 | J28: =IF(G28<>0,'1 - Data'!$C$8,0) -> 0 | K28: =F28*'1 - Data'!$C$9 -> 50.5 | L28: =I28-J28-K28 -> 189.5
A29: =A28+1 -> 24 | B29: =F28 -> 202 | C29: 24 | D29: =MIN(B29,C29) -> 24 | E29: =G24 -> 0 | F29: =B29-D29+E29 -> 178 | G29: =IF(F29<='1 - Data'!$C$6,IF(H28<>0,0,'1 - Data'!$C$5),0) -> 0 | H29: =H28+G29-E29 -> 0 | I29: =D29*'1 - Data'!C$7 -> 240 | J29: =IF(G29<>0,'1 - Data'!$C$8,0) -> 0 | K29: =F29*'1 - Data'!$C$9 -> 44.5 | L29: =I29-J29-K29 -> 195.5
A30: =A29+1 -> 25 | B30: =F29 -> 178 | C30: 24 | D30: =MIN(B30,C30) -> 24 | E30: =G25 -> 0 | F30: =B30-D30+E30 -> 154 | G30: =IF(F30<='1 - Data'!$C$6,IF(H29<>0,0,'1 - Data'!$C$5),0) -> 0 | H30: =H29+G30-E30 -> 0 | I30: =D30*'1 - Data'!C$7 -> 240 | J30: =IF(G30<>0,'1 - Data'!$C$8,0) -> 0 | K30: =F30*'1 - Data'!$C$9 -> 38.5 | L30: =I30-J30-K30 -> 201.5
A31: =A30+1 -> 26 | B31: =F30 -> 154 | C31: 24 | D31: =MIN(B31,C31) -> 24 | E31: =G26 -> 0 | F31: =B31-D31+E31 -> 130 | G31: =IF(F31<='1 - Data'!$C$6,IF(H30<>0,0,'1 - Data'!$C$5),0) -> 0 | H31: =H30+G31-E31 -> 0 | I31: =D31*'1 - Data'!C$7 -> 240 | J31: =IF(G31<>0,'1 - Data'!$C$8,0) -> 0 | K31: =F31*'1 - Data'!$C$9 -> 32.5 | L31: =I31-J31-K31 -> 207.5
A32: =A31+1 -> 27 | B32: =F31 -> 130 | C32: 24 | D32: =MIN(B32,C32) -> 24 | E32: =G27 -> 0 | F32: =B32-D32+E32 -> 106 | G32: =IF(F32<='1 - Data'!$C$6,IF(H31<>0,0,'1 - Data'!$C$5),0) -> 0 | H32: =H31+G32-E32 -> 0 | I32: =D32*'1 - Data'!C$7 -> 240 | J32: =IF(G32<>0,'1 - Data'!$C$8,0) -> 0 | K32: =F32*'1 - Data'!$C$9 -> 26.5 | L32: =I32-J32-K32 -> 213.5
A33: =A32+1 -> 28 | B33: =F32 -> 106 | C33: 24 | D33: =MIN(B33,C33) -> 24 | E33: =G28 -> 0 | F33: =B33-D33+E33 -> 82 | G33: =IF(F33<='1 - Data'!$C$6,IF(H32<>0,0,'1 - Data'!$C$5),0) -> 0 | H33: =H32+G33-E33 -> 0 | I33: =D33*'1 - Data'!C$7 -> 240 | J33: =IF(G33<>0,'1 - Data'!$C$8,0) -> 0 | K33: =F33*'1 - Data'!$C$9 -> 20.5 | L33: =I33-J33-K33 -> 219.5
A34: =A33+1 -> 29 | B34: =F33 -> 82 | C34: 24 | D34: =MIN(B34,C34) -> 24 | E34: =G29 -> 0 | F34: =B34-D34+E34 -> 58 | G34: =IF(F34<='1 - Data'!$C$6,IF(H33<>0,0,'1 - Data'!$C$5),0) -> 250 | H34: =H33+G34-E34 -> 250 | I34: =D34*'1 - Data'!C$7 -> 240 | J34: =IF(G34<>0,'1 - Data'!$C$8,0) -> 50 | K34: =F34*'1 - Data'!$C$9 -> 14.5 | L34: =I34-J34-K34 -> 175.5
... A370: =A369+1 -> 365 | B370: =F369 -> 130 | C370: 24 | D370: =MIN(B370,C370) -> 24 | E370: =G365 -> 0 | F370: =B370-D370+E370 -> 106 | G370: =IF(F370<='1 - Data'!$C$6,IF(H369<>0,0,'1 - Data'!$C$5),0) -> 0 | H370: =H369+G370-E370 -> 0 | I370: =D370*'1 - Data'!C$7 -> 240 | J370: =IF(G370<>0,'1 - Data'!$C$8,0) -> 0 | K370: =F370*'1 - Data'!$C$9 -> 26.5 | L370: =I370-J370-K370 -> 213.5
L371: =SUM(L6:L370) -> 58759.75

Sheet 3 - Probabilistic Model
A1: PK Village Convenience Store
A2: Engine Coolant Replenishment Policy
A3: Monte Carlo Simulation Model
A5: Day | B5: Opening Inventory | C5: Raw Demand | D5: Rounded Demand | E5: Sales | F5: Deliveries | G5: Closing Inventory | H5: Order Placed | I5: Pending Orders | J5: Profit from Sales | K5: Order Cost | L5: Inventory Cost | M5: Net Profit
A6: 1 | B6: 125 | C6: =RiskNormal(20,6.2) -> #NAME? | D6: =ROUND(C6,0) -> #NAME? | E6: =MIN(B6,D6) -> #NAME? | F6: 0 | G6: =B6-E6+F6 -> #NAME? | I6: 0 | J6: =E6*'1 - Data'!C$7 -> #NAME? | K6: =IF(H6<>0,'1 - Data'!$C$8,0) -> 0 | L6: =G6*'1 - Data'!$C$9 -> #NAME? | M6: =J6-K6-L6 -> #NAME?
A7: =A6+1 -> 2 | B7: =G6 -> #NAME? | C7: =_xll.RiskNormal(20,6.2) -> #NAME? | D7: =ROUND(C7,0) -> #NAME? | E7: =MIN(B7,D7) -> #NAME? | F7: 0 | G7: =B7-E7+F7 -> #NAME? | H7: =IF(G7<='1 - Data'!$C$6,IF(I6<>0,0,'1 - Data'!$C$5),0) -> #NAME? | I7: =ROUND(I6+H7-F7,0) -> #NAME? | J7: =E7*'1 - Data'!C$7 -> #NAME? | K7: =IF(H7<>0,'1 - Data'!$C$8,0) -> #NAME? | L7: =G7*'1 - Data'!$C$9 -> #NAME? | M7: =J7-K7-L7 -> #NAME?
A8: =A7+1 -> 3 | B8: =G7 -> #NAME? | C8: =_xll.RiskNormal(20,6.2) -> #NAME? | D8: =ROUND(C8,0) -> #NAME? | E8: =MIN(B8,D8) -> #NAME? | F8: 0 | G8: =B8-E8+F8 -> #NAME? | H8: =IF(G8<='1 - Data'!$C$6,IF(I7<>0,0,'1 - Data'!$C$5),0) -> #NAME? | I8: =ROUND(I7+H8-F8,0) -> #NAME? | J8: =E8*'1 - Data'!C$7 -> #NAME? | K8: =IF(H8<>0,'1 - Data'!$C$8,0) -> #NAME? | L8: =G8*'1 - Data'!$C$9 -> #NAME? | M8: =J8-K8-L8 -> #NAME?
A9: =A8+1 -> 4 | B9: =G8 -> #NAME? | C9: =nor(20,6.2) -> #NAME? | D9: =ROUND(C9,0) -> #NAME? | E9: =MIN(B9,D9) -> #NAME? | F9: 0 | G9: =B9-E9+F9 -> #NAME? | H9: =IF(G9<='1 - Data'!$C$6,IF(I8<>0,0,'1 - Data'!$C$5),0) -> #NAME? | I9: =ROUND(I8+H9-F9,0) -> #NAME? | J9: =E9*'1 - Data'!C$7 -> #NAME? | K9: =IF(H9<>0,'1 - Data'!$C$8,0) -> #NAME? | L9: =G9*'1 - Data'!$C$9 -> #NAME? | M9: =J9-K9-L9 -> #NAME?
A10: =A9+1 -> 5 | B10: =G9 -> #NAME? | C10: =RiskNormal(20,6.2) -> #NAME? | D10: =ROUND(C10,0) -> #NAME? | E10: =MIN(B10,D10) -> #NAME? | F10: 0 | G10: =B10-E10+F10 -> #NAME? | H10: =IF(G10<='1 - Data'!$C$6,IF(I9<>0,0,'1 - Data'!$C$5),0) -> #NAME? | I10: =ROUND(I9+H10-F10,0) -> #NAME? | J10: =E10*'1 - Data'!C$7 -> #NAME? | K10: =IF(H10<>0,'1 - Data'!$C$8,0) -> #NAME? | L10: =G10*'1 - Data'!$C$9 -> #NAME? | M10: =J10-K10-L10 -> #NAME?
A11: =A10+1 -> 6 | B11: =G10 -> #NAME? | C11: =_xll.RiskNormal(20,6.2) -> #NAME? | D11: =ROUND(C11,0) -> #NAME? | E11: =MIN(B11,D11) -> #NAME? | F11: 0 | G11: =B11-E11+F11 -> #NAME? | H11: =IF(G11<='1 - Data'!$C$6,IF(I10<>0,0,'1 - Data'!$C$5),0) -> #NAME? | I11: =ROUND(I10+H11-F11,0) -> #NAME? | J11: =E11*'1 - Data'!C$7 -> #NAME? | K11: =IF(H11<>0,'1 - Data'!$C$8,0) -> #NAME? | L11: =G11*'1 - Data'!$C$9 -> #NAME? | M11: =J11-K11-L11 -> #NAME?
A12: =A11+1 -> 7 | B12: =G11 -> #NAME? | C12: =_xll.RiskNormal(20,6.2) -> #NAME? | D12: =ROUND(C12,0) -> #NAME? | E12: =MIN(B12,D12) -> #NAME? | F12: =H7 -> #NAME? | G12: =B12-E12+F12 -> #NAME? | H12: =IF(G12<='1 - Data'!$C$6,IF(I11<>0,0,'1 - Data'!$C$5),0) -> #NAME? | I12: =ROUND(I11+H12-F12,0) -> #NAME? | J12: =E12*'1 - Data'!C$7 -> #NAME? | K12: =IF(H12<>0,'1 - Data'!$C$8,0) -> #NAME? | L12: =G12*'1 - Data'!$C$9 -> #NAME? | M12: =J12-K12-L12 -> #NAME?
A13: =A12+1 -> 8 | B13: =G12 -> #NAME? | C13: =_xll.RiskNormal(20,6.2) -> #NAME? | D13: =ROUND(C13,0) -> #NAME? | E13: =MIN(B13,D13) -> #NAME? | F13: =H8 -> #NAME? | G13: =B13-E13+F13 -> #NAME? | H13: =IF(G13<='1 - Data'!$C$6,IF(I12<>0,0,'1 - Data'!$C$5),0) -> #NAME? | I13: =ROUND(I12+H13-F13,0) -> #NAME? | J13: =E13*'1 - Data'!C$7 -> #NAME? | K13: =IF(H13<>0,'1 - Data'!$C$8,0) -> #NAME? | L13: =G13*'1 - Data'!$C$9 -> #NAME? | M13: =J13-K13-L13 -> #NAME?
A14: =A13+1 -> 9 | B14: =G13 -> #NAME? | C14: =_xll.RiskNormal(20,6.2) -> #NAME? | D14: =ROUND(C14,0) -> #NAME? | E14: =MIN(B14,D14) -> #NAME? | F14: =H9 -> #NAME? | G14: =B14-E14+F14 -> #NAME? | H14: =IF(G14<='1 - Data'!$C$6,IF(I13<>0,0,'1 - Data'!$C$5),0) -> #NAME? | I14: =ROUND(I13+H14-F14,0) -> #NAME? | J14: =E14*'1 - Data'!C$7 -> #NAME? | K14: =IF(H14<>0,'1 - Data'!$C$8,0) -> #NAME? | L14: =G14*'1 - Data'!$C$9 -> #NAME? | M14: =J14-K14-L14 -> #NAME?
A15: =A14+1 -> 10 | B15: =G14 -> #NAME? | C15: =_xll.RiskNormal(20,6.2) -> #NAME? | D15: =ROUND(C15,0) -> #NAME? | E15: =MIN(B15,D15) -> #NAME? | F15: =H10 -> #NAME? | G15: =B15-E15+F15 -> #NAME? | H15: =IF(G15<='1 - Data'!$C$6,IF(I14<>0,0,'1 - Data'!$C$5),0) -> #NAME? | I15: =ROUND(I14+H15-F15,0) -> #NAME? | J15: =E15*'1 - Data'!C$7 -> #NAME? | K15: =IF(H15<>0,'1 - Data'!$C$8,0) -> #NAME? | L15: =G15*'1 - Data'!$C$9 -> #NAME? | M15: =J15-K15-L15 -> #NAME?
A16: =A15+1 -> 11 | B16: =G15 -> #NAME? | C16: =_xll.RiskNormal(20,6.2) -> #NAME? | D16: =ROUND(C16,0) -> #NAME? | E16: =MIN(B16,D16) -> #NAME? | F16: =H11 -> #NAME? | G16: =B16-E16+F16 -> #NAME? | H16: =IF(G16<='1 - Data'!$C$6,IF(I15<>0,0,'1 - Data'!$C$5),0) -> #NAME? | I16: =ROUND(I15+H16-F16,0) -> #NAME? | J16: =E16*'1 - Data'!C$7 -> #NAME? | K16: =IF(H16<>0,'1 - Data'!$C$8,0) -> #NAME? | L16: =G16*'1 - Data'!$C$9 -> #NAME? | M16: =J16-K16-L16 -> #NAME?
A17: =A16+1 -> 12 | B17: =G16 -> #NAME? | C17: =_xll.RiskNormal(20,6.2) -> #NAME? | D17: =ROUND(C17,0) -> #NAME? | E17: =MIN(B17,D17) -> #NAME? | F17: =H12 -> #NAME? | G17: =B17-E17+F17 -> #NAME? | H17: =IF(G17<='1 - Data'!$C$6,IF(I16<>0,0,'1 - Data'!$C$5),0) -> #NAME? | I17: =ROUND(I16+H17-F17,0) -> #NAME? | J17: =E17*'1 - Data'!C$7 -> #NAME? | K17: =IF(H17<>0,'1 - Data'!$C$8,0) -> #NAME? | L17: =G17*'1 - Data'!$C$9 -> #NAME? | M17: =J17-K17-L17 -> #NAME?
A18: =A17+1 -> 13 | B18: =G17 -> #NAME? | C18: =_xll.RiskNormal(20,6.2) -> #NAME? | D18: =ROUND(C18,0) -> #NAME? | E18: =MIN(B18,D18) -> #NAME? | F18: =H13 -> #NAME? | G18: =B18-E18+F18 -> #NAME? | H18: =IF(G18<='1 - Data'!$C$6,IF(I17<>0,0,'1 - Data'!$C$5),0) -> #NAME? | I18: =ROUND(I17+H18-F18,0) -> #NAME? | J18: =E18*'1 - Data'!C$7 -> #NAME? | K18: =IF(H18<>0,'1 - Data'!$C$8,0) -> #NAME? | L18: =G18*'1 - Data'!$C$9 -> #NAME? | M18: =J18-K18-L18 -> #NAME?
A19: =A18+1 -> 14 | B19: =G18 -> #NAME? | C19: =_xll.RiskNormal(20,6.2) -> #NAME? | D19: =ROUND(C19,0) -> #NAME? | E19: =MIN(B19,D19) -> #NAME? | F19: =H14 -> #NAME? | G19: =B19-E19+F19 -> #NAME? | H19: =IF(G19<='1 - Data'!$C$6,IF(I18<>0,0,'1 - Data'!$C$5),0) -> #NAME? | I19: =ROUND(I18+H19-F19,0) -> #NAME? | J19: =E19*'1 - Data'!C$7 -> #NAME? | K19: =IF(H19<>0,'1 - Data'!$C$8,0) -> #NAME? | L19: =G19*'1 - Data'!$C$9 -> #NAME? | M19: =J19-K19-L19 -> #NAME?
A20: =A19+1 -> 15 | B20: =G19 -> #NAME? | C20: =_xll.RiskNormal(20,6.2) -> #NAME? | D20: =ROUND(C20,0) -> #NAME? | E20: =MIN(B20,D20) -> #NAME? | F20: =H15 -> #NAME? | G20: =B20-E20+F20 -> #NAME? | H20: =IF(G20<='1 - Data'!$C$6,IF(I19<>0,0,'1 - Data'!$C$5),0) -> #NAME? | I20: =ROUND(I19+H20-F20,0) -> #NAME? | J20: =E20*'1 - Data'!C$7 -> #NAME? | K20: =IF(H20<>0,'1 - Data'!$C$8,0) -> #NAME? | L20: =G20*'1 - Data'!$C$9 -> #NAME? | M20: =J20-K20-L20 -> #NAME?
A21: =A20+1 -> 16 | B21: =G20 -> #NAME? | C21: =_xll.RiskNormal(20,6.2) -> #NAME? | D21: =ROUND(C21,0) -> #NAME? | E21: =MIN(B21,D21) -> #NAME? | F21: =H16 -> #NAME? | G21: =B21-E21+F21 -> #NAME? | H21: =IF(G21<='1 - Data'!$C$6,IF(I20<>0,0,'1 - Data'!$C$5),0) -> #NAME? | I21: =ROUND(I20+H21-F21,0) -> #NAME? | J21: =E21*'1 - Data'!C$7 -> #NAME? | K21: =IF(H21<>0,'1 - Data'!$C$8,0) -> #NAME? | L21: =G21*'1 - Data'!$C$9 -> #NAME? | M21: =J21-K21-L21 -> #NAME?
A22: =A21+1 -> 17 | B22: =G21 -> #NAME? | C22: =_xll.RiskNormal(20,6.2) -> #NAME? | D22: =ROUND(C22,0) -> #NAME? | E22: =MIN(B22,D22) -> #NAME? | F22: =H17 -> #NAME? | G22: =B22-E22+F22 -> #NAME? | H22: =IF(G22<='1 - Data'!$C$6,IF(I21<>0,0,'1 - Data'!$C$5),0) -> #NAME? | I22: =ROUND(I21+H22-F22,0) -> #NAME? | J22: =E22*'1 - Data'!C$7 -> #NAME? | K22: =IF(H22<>0,'1 - Data'!$C$8,0) -> #NAME? | L22: =G22*'1 - Data'!$C$9 -> #NAME? | M22: =J22-K22-L22 -> #NAME?
A23: =A22+1 -> 18 | B23: =G22 -> #NAME? | C23: =_xll.RiskNormal(20,6.2) -> #NAME? | D23: =ROUND(C23,0) -> #NAME? | E23: =MIN(B23,D23) -> #NAME? | F23: =H18 -> #NAME? | G23: =B23-E23+F23 -> #NAME? | H23: =IF(G23<='1 - Data'!$C$6,IF(I22<>0,0,'1 - Data'!$C$5),0) -> #NAME? | I23: =I22+H23-F23 -> #NAME? | J23: =E23*'1 - Data'!C$7 -> #NAME? | K23: =IF(H23<>0,'1 - Data'!$C$8,0) -> #NAME? | L23: =G23*'1 - Data'!$C$9 -> #NAME? | M23: =J23-K23-L23 -> #NAME?
A24: =A23+1 -> 19 | B24: =G23 -> #NAME? | C24: =_xll.RiskNormal(20,6.2) -> #NAME? | D24: =ROUND(C24,0) -> #NAME? | E24: =MIN(B24,D24) -> #NAME? | F24: =H19 -> #NAME? | G24: =B24-E24+F24 -> #NAME? | H24: =IF(G24<='1 - Data'!$C$6,IF(I23<>0,0,'1 - Data'!$C$5),0) -> #NAME? | I24: =I23+H24-F24 -> #NAME? | J24: =E24*'1 - Data'!C$7 -> #NAME? | K24: =IF(H24<>0,'1 - Data'!$C$8,0) -> #NAME? | L24: =G24*'1 - Data'!$C$9 -> #NAME? | M24: =J24-K24-L24 -> #NAME?
A25: =A24+1 -> 20 | B25: =G24 -> #NAME? | C25: =_xll.RiskNormal(20,6.2) -> #NAME? | D25: =ROUND(C25,0) -> #NAME? | E25: =MIN(B25,D25) -> #NAME? | F25: =H20 -> #NAME? | G25: =B25-E25+F25 -> #NAME? | H25: =IF(G25<='1 - Data'!$C$6,IF(I24<>0,0,'1 - Data'!$C$5),0) -> #NAME? | I25: =I24+H25-F25 -> #NAME? | J25: =E25*'1 - Data'!C$7 -> #NAME? | K25: =IF(H25<>0,'1 - Data'!$C$8,0) -> #NAME? | L25: =G25*'1 - Data'!$C$9 -> #NAME? | M25: =J25-K25-L25 -> #NAME?
A26: =A25+1 -> 21 | B26: =G25 -> #NAME? | C26: =_xll.RiskNormal(20,6.2) -> #NAME? | D26: =ROUND(C26,0) -> #NAME? | E26: =MIN(B26,D26) -> #NAME? | F26: =H21 -> #NAME? | G26: =B26-E26+F26 -> #NAME? | H26: =IF(G26<='1 - Data'!$C$6,IF(I25<>0,0,'1 - Data'!$C$5),0) -> #NAME? | I26: =I25+H26-F26 -> #NAME? | J26: =E26*'1 - Data'!C$7 -> #NAME? | K26: =IF(H26<>0,'1 - Data'!$C$8,0) -> #NAME? | L26: =G26*'1 - Data'!$C$9 -> #NAME? | M26: =J26-K26-L26 -> #NAME?
A27: =A26+1 -> 22 | B27: =G26 -> #NAME? | C27: =_xll.RiskNormal(20,6.2) -> #NAME? | D27: =ROUND(C27,0) -> #NAME? | E27: =MIN(B27,D27) -> #NAME? | F27: =H22 -> #NAME? | G27: =B27-E27+F27 -> #NAME? | H27: =IF(G27<='1 - Data'!$C$6,IF(I26<>0,0,'1 - Data'!$C$5),0) -> #NAME? | I27: =I26+H27-F27 -> #NAME? | J27: =E27*'1 - Data'!C$7 -> #NAME? | K27: =IF(H27<>0,'1 - Data'!$C$8,0) -> #NAME? | L27: =G27*'1 - Data'!$C$9 -> #NAME? | M27: =J27-K27-L27 -> #NAME?
A28: =A27+1 -> 23 | B28: =G27 -> #NAME? | C28: =_xll.RiskNormal(20,6.2) -> #NAME? | D28: =ROUND(C28,0) -> #NAME? | E28: =MIN(B28,D28) -> #NAME? | F28: =H23 -> #NAME? | G28: =B28-E28+F28 -> #NAME? | H28: =IF(G28<='1 - Data'!$C$6,IF(I27<>0,0,'1 - Data'!$C$5),0) -> #NAME? | I28: =I27+H28-F28 -> #NAME? | J28: =E28*'1 - Data'!C$7 -> #NAME? | K28: =IF(H28<>0,'1 - Data'!$C$8,0) -> #NAME? | L28: =G28*'1 - Data'!$C$9 -> #NAME? | M28: =J28-K28-L28 -> #NAME?
A29: =A28+1 -> 24 | B29: =G28 -> #NAME? | C29: =_xll.RiskNormal(20,6.2) -> #NAME? | D29: =ROUND(C29,0) -> #NAME? | E29: =MIN(B29,D29) -> #NAME? | F29: =H24 -> #NAME? | G29: =B29-E29+F29 -> #NAME? | H29: =IF(G29<='1 - Data'!$C$6,IF(I28<>0,0,'1 - Data'!$C$5),0) -> #NAME? | I29: =I28+H29-F29 -> #NAME? | J29: =E29*'1 - Data'!C$7 -> #NAME? | K29: =IF(H29<>0,'1 - Data'!$C$8,0) -> #NAME? | L29: =G29*'1 - Data'!$C$9 -> #NAME? | M29: =J29-K29-L29 -> #NAME?
A30: =A29+1 -> 25 | B30: =G29 -> #NAME? | C30: =_xll.RiskNormal(20,6.2) -> #NAME? | D30: =ROUND(C30,0) -> #NAME? | E30: =MIN(B30,D30) -> #NAME? | F30: =H25 -> #NAME? | G30: =B30-E30+F30 -> #NAME? | H30: =IF(G30<='1 - Data'!$C$6,IF(I29<>0,0,'1 - Data'!$C$5),0) -> #NAME? | I30: =I29+H30-F30 -> #NAME? | J30: =E30*'1 - Data'!C$7 -> #NAME? | K30: =IF(H30<>0,'1 - Data'!$C$8,0) -> #NAME? | L30: =G30*'1 - Data'!$C$9 -> #NAME? | M30: =J30-K30-L30 -> #NAME?
A31: =A30+1 -> 26 | B31: =G30 -> #NAME? | C31: =_xll.RiskNormal(20,6.2) -> #NAME? | D31: =ROUND(C31,0) -> #NAME? | E31: =MIN(B31,D31) -> #NAME? | F31: =H26 -> #NAME? | G31: =B31-E31+F31 -> #NAME? | H31: =IF(G31<='1 - Data'!$C$6,IF(I30<>0,0,'1 - Data'!$C$5),0) -> #NAME? | I31: =I30+H31-F31 -> #NAME? | J31: =E31*'1 - Data'!C$7 -> #NAME? | K31: =IF(H31<>0,'1 - Data'!$C$8,0) -> #NAME? | L31: =G31*'1 - Data'!$C$9 -> #NAME? | M31: =J31-K31-L31 -> #NAME?
A32: =A31+1 -> 27 | B32: =G31 -> #NAME? | C32: =_xll.RiskNormal(20,6.2) -> #NAME? | D32: =ROUND(C32,0) -> #NAME? | E32: =MIN(B32,D32) -> #NAME? | F32: =H27 -> #NAME? | G32: =B32-E32+F32 -> #NAME? | H32: =IF(G32<='1 - Data'!$C$6,IF(I31<>0,0,'1 - Data'!$C$5),0) -> #NAME? | I32: =I31+H32-F32 -> #NAME? | J32: =E32*'1 - Data'!C$7 -> #NAME? | K32: =IF(H32<>0,'1 - Data'!$C$8,0) -> #NAME? | L32: =G32*'1 - Data'!$C$9 -> #NAME? | M32: =J32-K32-L32 -> #NAME?
A33: =A32+1 -> 28 | B33: =G32 -> #NAME? | C33: =_xll.RiskNormal(20,6.2) -> #NAME? | D33: =ROUND(C33,0) -> #NAME? | E33: =MIN(B33,D33) -> #NAME? | F33: =H28 -> #NAME? | G33: =B33-E33+F33 -> #NAME? | H33: =IF(G33<='1 - Data'!$C$6,IF(I32<>0,0,'1 - Data'!$C$5),0) -> #NAME? | I33: =I32+H33-F33 -> #NAME? | J33: =E33*'1 - Data'!C$7 -> #NAME? | K33: =IF(H33<>0,'1 - Data'!$C$8,0) -> #NAME? | L33: =G33*'1 - Data'!$C$9 -> #NAME? | M33: =J33-K33-L33 -> #NAME?
A34: =A33+1 -> 29 | B34: =G33 -> #NAME? | C34: =_xll.RiskNormal(20,6.2) -> #NAME? | D34: =ROUND(C34,0) -> #NAME? | E34: =MIN(B34,D34) -> #NAME? | F34: =H29 -> #NAME? | G34: =B34-E34+F34 -> #NAME? | H34: =IF(G34<='1 - Data'!$C$6,IF(I33<>0,0,'1 - Data'!$C$5),0) -> #NAME? | I34: =I33+H34-F34 -> #NAME? | J34: =E34*'1 - Data'!C$7 -> #NAME? | K34: =IF(H34<>0,'1 - Data'!$C$8,0) -> #NAME? | L34: =G34*'1 - Data'!$C$9 -> #NAME? | M34: =J34-K34-L34 -> #NAME?
... A370: =A369+1 -> 365 | B370: =G369 -> #NAME? | C370: =_xll.RiskNormal(20,6.2) -> #NAME? | D370: =ROUND(C370,0) -> #NAME? | E370: =MIN(B370,D370) -> #NAME? | F370: =H365 -> #NAME? | G370: =B370-E370+F370 -> #NAME? | H370: =IF(G370<='1 - Data'!$C$6,IF(I369<>0,0,'1 - Data'!$C$5),0) -> #NAME? | I370: =I369+H370-F370 -> #NAME? | J370: =E370*'1 - Data'!C$7 -> #NAME? | K370: =IF(H370<>0,'1 - Data'!$C$8,0) -> #NAME? | L370: =G370*'1 - Data'!$C$9 -> #NAME? | M370: =J370-K370-L370 -> #NAME?
L371: Annual Net Profit | M371: =_xll.RiskOutput()+SUM(M6:M370) -> #NAME?
