Workbook
Name Task_Table1: 'Resource & Cost'!#REF!

Sheet Resource & Cost
A1: WBS | B1: Task Name | C1: Labor | D1: Hours | E1: Rate | F1: Labor Total | G1: Supplies | H1: Quantity | I1: Price | J1: Supplies Total | K1: Total | L1: Notes
A2: 1 | B2: MMBSS Customer Relations System
A3: 1.1 | B3: Project Initiation Phase
A4: 1.1.1 | B4: Project Team
A5: 1.1.1.1 | B5: Identify Project Team Members and Establish Project Team | C5: Project Manager | D5: 8 | E5: =IF(C5=Rate!B2,Rate!C2, IF(C5=Rate!B3,Rate!C3, IF(C5=Rate!B4,Rate!C4, IF(C5=Rate!B5,Rate!C5, IF(C5=Rate!B6,Rate!C6, IF(C5=Rate!B7,Rate!C7, Rate!C9)))))) -> 65 | F5: =E5*D5 -> 520 | K5: =J5+F5 -> 520
A6: 1.1.1.2 | B6: Finalize Project Team Members | C6: Project Manager | D6: 4 | E6: =IF(C6=Rate!B2,Rate!C2, IF(C6=Rate!B3,Rate!C3, IF(C6=Rate!B4,Rate!C4, IF(C6=Rate!B5,Rate!C5, IF(C6=Rate!B6,Rate!C6, IF(C6=Rate!B7,Rate!C7, Rate!C9)))))) -> 65 | F6: =E6*D6 -> 260 | K6: =J6+F6 -> 260
A7: 1.1.2 | B7: Project Kickoff | F7: =E7*D7 -> 0 | K7: =J7+F7 -> 0
A8: 1.1.2.1 | B8: Schedule Kickoff Meeting | C8: Project Manager | D8: 2 | E8: =IF(C8=Rate!B2,Rate!C2, IF(C8=Rate!B3,Rate!C3, IF(C8=Rate!B4,Rate!C4, IF(C8=Rate!B5,Rate!C5, IF(C8=Rate!B6,Rate!C6, IF(C8=Rate!B7,Rate!C7, Rate!C9)))))) -> 65 | F8: =E8*D8 -> 130 | K8: =J8+F8 -> 130
A9: 1.1.2.2 | B9: Prepare Draft Project Agenda | C9: Project Manager | D9: 4 | E9: =IF(C9=Rate!B2,Rate!C2, IF(C9=Rate!B3,Rate!C3, IF(C9=Rate!B4,Rate!C4, IF(C9=Rate!B5,Rate!C5, IF(C9=Rate!B6,Rate!C6, IF(C9=Rate!B7,Rate!C7, Rate!C9)))))) -> 65 | F9: =E9*D9 -> 260 | K9: =J9+F9 -> 260
A10: 1.1.2.3 | B10: Prepare Draft Kickoff Presentation | C10: Project Manager | D10: 4 | E10: =IF(C10=Rate!B2,Rate!C2, IF(C10=Rate!B3,Rate!C3, IF(C10=Rate!B4,Rate!C4, IF(C10=Rate!B5,Rate!C5, IF(C10=Rate!B6,Rate!C6, IF(C10=Rate!B7,Rate!C7, Rate!C9)))))) -> 65 | F10: =E10*D10 -> 260 | K10: =J10+F10 -> 260
A11: 1.1.2.4 | B11: Review and Finalize Project Agenda and Kickoff Presentation | C11: Project Manager | D11: 4 | E11: =IF(C11=Rate!B2,Rate!C2, IF(C11=Rate!B3,Rate!C3, IF(C11=Rate!B4,Rate!C4, IF(C11=Rate!B5,Rate!C5, IF(C11=Rate!B6,Rate!C6, IF(C11=Rate!B7,Rate!C7, Rate!C9)))))) -> 65 | F11: =E11*D11 -> 260 | K11: =J11+F11 -> 260
A12: 1.1.2.5 | B12: Deliver Project Kickoff Materials to Project Sponsor | C12: Project Manager | D12: 2 | E12: =IF(C12=Rate!B2,Rate!C2, IF(C12=Rate!B3,Rate!C3, IF(C12=Rate!B4,Rate!C4, IF(C12=Rate!B5,Rate!C5, IF(C12=Rate!B6,Rate!C6, IF(C12=Rate!B7,Rate!C7, Rate!C9)))))) -> 65 | F12: =E12*D12 -> 130 | K12: =J12+F12 -> 130
A13: 1.1.2.6 | B13: Conduct Project Kickoff Meeting | C13: Project Manager | D13: 4 | E13: =IF(C13=Rate!B2,Rate!C2, IF(C13=Rate!B3,Rate!C3, IF(C13=Rate!B4,Rate!C4, IF(C13=Rate!B5,Rate!C5, IF(C13=Rate!B6,Rate!C6, IF(C13=Rate!B7,Rate!C7, Rate!C9)))))) -> 65 | F13: =E13*D13 -> 260 | K13: =J13+F13 -> 260
C14: Technical Lead | D14: 4 | E14: =IF(C14=Rate!B2,Rate!C2, IF(C14=Rate!B3,Rate!C3, IF(C14=Rate!B4,Rate!C4, IF(C14=Rate!B5,Rate!C5, IF(C14=Rate!B6,Rate!C6, IF(C14=Rate!B7,Rate!C7, Rate!C9)))))) -> 55 | F14: =E14*D14 -> 220 | K14: =J14+F14 -> 220
C15: Web Developer | D15: 4 | E15: =IF(C15=Rate!B2,Rate!C2, IF(C15=Rate!B3,Rate!C3, IF(C15=Rate!B4,Rate!C4, IF(C15=Rate!B5,Rate!C5, IF(C15=Rate!B6,Rate!C6, IF(C15=Rate!B7,Rate!C7, Rate!C9)))))) -> 50 | F15: =E15*D15 -> 200 | K15: =J15+F15 -> 200
C16: Control Manager | D16: 4 | E16: =IF(C16=Rate!B2,Rate!C2, IF(C16=Rate!B3,Rate!C3, IF(C16=Rate!B4,Rate!C4, IF(C16=Rate!B5,Rate!C5, IF(C16=Rate!B6,Rate!C6, IF(C16=Rate!B7,Rate!C7, Rate!C9)))))) -> 45 | F16: =E16*D16 -> 180 | K16: =J16+F16 -> 180
C17: Implementation Lead | D17: 4 | E17: =IF(C17=Rate!B2,Rate!C2, IF(C17=Rate!B3,Rate!C3, IF(C17=Rate!B4,Rate!C4, IF(C17=Rate!B5,Rate!C5, IF(C17=Rate!B6,Rate!C6, IF(C17=Rate!B7,Rate!C7, Rate!C9)))))) -> 55 | F17: =E17*D17 -> 220 | K17: =J17+F17 -> 220
A18: 1.2 | B18: Project Management Phase | F18: =E18*D18 -> 0 | K18: =J18+F18 -> 0
A19: 1.2.1 | B19: Project Scope | F19: =E19*D19 -> 0 | K19: =J19+F19 -> 0
A20: 1.2.1.1 | B20: Analyze and Draft Project Scope | C20: Project Manager | D20: 18 | E20: =IF(C20=Rate!B2,Rate!C2, IF(C20=Rate!B3,Rate!C3, IF(C20=Rate!B4,Rate!C4, IF(C20=Rate!B5,Rate!C5, IF(C20=Rate!B6,Rate!C6, IF(C20=Rate!B7,Rate!C7, Rate!C9)))))) -> 65 | F20: =E20*D20 -> 1170 | K20: =J20+F20 -> 1170
A21: 1.2.1.2 | B21: Review Project Scope with Project Sponsor | C21: Project Manager | D21: 2 | E21: =IF(C21=Rate!B2,Rate!C2, IF(C21=Rate!B3,Rate!C3, IF(C21=Rate!B4,Rate!C4, IF(C21=Rate!B5,Rate!C5, IF(C21=Rate!B6,Rate!C6, IF(C21=Rate!B7,Rate!C7, Rate!C9)))))) -> 65 | F21: =E21*D21 -> 130 | K21: =J21+F21 -> 130
A22: 1.2.1.3 | B22: Update Project Scope based on Feedback | C22: Project Manager | D22: 2 | E22: =IF(C22=Rate!B2,Rate!C2, IF(C22=Rate!B3,Rate!C3, IF(C22=Rate!B4,Rate!C4, IF(C22=Rate!B5,Rate!C5, IF(C22=Rate!B6,Rate!C6, IF(C22=Rate!B7,Rate!C7, Rate!C9)))))) -> 65 | F22: =E22*D22 -> 130 | K22: =J22+F22 -> 130
A23: 1.2.1.4 | B23: Review Finalized Project Scope with Project Sponsor | C23: Project Manager | D23: 2 | E23: =IF(C23=Rate!B2,Rate!C2, IF(C23=Rate!B3,Rate!C3, IF(C23=Rate!B4,Rate!C4, IF(C23=Rate!B5,Rate!C5, IF(C23=Rate!B6,Rate!C6, IF(C23=Rate!B7,Rate!C7, Rate!C9)))))) -> 65 | F23: =E23*D23 -> 130 | K23: =J23+F23 -> 130
A24: 1.2.1.5 | B24: Obtain Project Sponsor Approval for Project Scope | C24: Project Manager | D24: 0 | E24: =IF(C24=Rate!B2,Rate!C2, IF(C24=Rate!B3,Rate!C3, IF(C24=Rate!B4,Rate!C4, IF(C24=Rate!B5,Rate!C5, IF(C24=Rate!B6,Rate!C6, IF(C24=Rate!B7,Rate!C7, Rate!C9)))))) -> 65 | F24: =E24*D24 -> 0 | K24: =J24+F24 -> 0
A25: 1.2.2 | B25: Project Plan | F25: =E25*D25 -> 0 | K25: =J25+F25 -> 0
A26: 1.2.2.1 | B26: Review and Update Project Plan | C26: Project Manager | D26: 16 | E26: =IF(C26=Rate!B2,Rate!C2, IF(C26=Rate!B3,Rate!C3, IF(C26=Rate!B4,Rate!C4, IF(C26=Rate!B5,Rate!C5, IF(C26=Rate!B6,Rate!C6, IF(C26=Rate!B7,Rate!C7, Rate!C8)))))) -> 65 | F26: =E26*D26 -> 1040 | K26: =J26+F26 -> 1040
C27: Technical Lead | D27: 16 | E27: =IF(C27=Rate!B2,Rate!C2, IF(C27=Rate!B3,Rate!C3, IF(C27=Rate!B4,Rate!C4, IF(C27=Rate!B5,Rate!C5, IF(C27=Rate!B6,Rate!C6, IF(C27=Rate!B7,Rate!C7, Rate!C8)))))) -> 55 | F27: =E27*D27 -> 880 | K27: =J27+F27 -> 880
C28: Web Developer | D28: 16 | E28: =IF(C28=Rate!B2,Rate!C2, IF(C28=Rate!B3,Rate!C3, IF(C28=Rate!B4,Rate!C4, IF(C28=Rate!B5,Rate!C5, IF(C28=Rate!B6,Rate!C6, IF(C28=Rate!B7,Rate!C7, Rate!C8)))))) -> 50 | F28: =E28*D28 -> 800 | K28: =J28+F28 -> 800
C29: Control Manager | D29: 16 | E29: =IF(C29=Rate!B2,Rate!C2, IF(C29=Rate!B3,Rate!C3, IF(C29=Rate!B4,Rate!C4, IF(C29=Rate!B5,Rate!C5, IF(C29=Rate!B6,Rate!C6, IF(C29=Rate!B7,Rate!C7, Rate!C8)))))) -> 45 | F29: =E29*D29 -> 720 | K29: =J29+F29 -> 720
C30: Implementation Lead | D30: 16 | E30: =IF(C30=Rate!B2,Rate!C2, IF(C30=Rate!B3,Rate!C3, IF(C30=Rate!B4,Rate!C4, IF(C30=Rate!B5,Rate!C5, IF(C30=Rate!B6,Rate!C6, IF(C30=Rate!B7,Rate!C7, Rate!C8)))))) -> 55 | F30: =E30*D30 -> 880 | K30: =J30+F30 -> 880
A31: 1.2.2.2 | B31: Deliver Updated Project Plan to Project Sponsor | C31: Project Manager | D31: 2 | E31: =IF(C31=Rate!B2,Rate!C2, IF(C31=Rate!B3,Rate!C3, IF(C31=Rate!B4,Rate!C4, IF(C31=Rate!B5,Rate!C5, IF(C31=Rate!B6,Rate!C6, IF(C31=Rate!B7,Rate!C7, Rate!C8)))))) -> 65 | F31: =E31*D31 -> 130 | K31: =J31+F31 -> 130
A32: 1.2.2.3 | B32: Obtain and Incorporate Feedback from Project Sponsor | C32: Technical Lead | D32: 4 | E32: =IF(C32=Rate!B2,Rate!C2, IF(C32=Rate!B3,Rate!C3, IF(C32=Rate!B4,Rate!C4, IF(C32=Rate!B5,Rate!C5, IF(C32=Rate!B6,Rate!C6, IF(C32=Rate!B7,Rate!C7, Rate!C8)))))) -> 55 | F32: =E32*D32 -> 220 | K32: =J32+F32 -> 220
C33: Web Developer | D33: 4 | E33: =IF(C33=Rate!B2,Rate!C2, IF(C33=Rate!B3,Rate!C3, IF(C33=Rate!B4,Rate!C4, IF(C33=Rate!B5,Rate!C5, IF(C33=Rate!B6,Rate!C6, IF(C33=Rate!B7,Rate!C7, Rate!C8)))))) -> 50 | F33: =E33*D33 -> 200 | K33: =J33+F33 -> 200
C34: Control Manager | D34: 4 | E34: =IF(C34=Rate!B2,Rate!C2, IF(C34=Rate!B3,Rate!C3, IF(C34=Rate!B4,Rate!C4, IF(C34=Rate!B5,Rate!C5, IF(C34=Rate!B6,Rate!C6, IF(C34=Rate!B7,Rate!C7, Rate!C8)))))) -> 45 | F34: =E34*D34 -> 180 | K34: =J34+F34 -> 180
C35: Implementation Lead | D35: 4 | E35: =IF(C35=Rate!B2,Rate!C2, IF(C35=Rate!B3,Rate!C3, IF(C35=Rate!B4,Rate!C4, IF(C35=Rate!B5,Rate!C5, IF(C35=Rate!B6,Rate!C6, IF(C35=Rate!B7,Rate!C7, Rate!C8)))))) -> 55 | F35: =E35*D35 -> 220 | K35: =J35+F35 -> 220
C36: Project Manager | D36: 4 | E36: =IF(C36=Rate!B2,Rate!C2, IF(C36=Rate!B3,Rate!C3, IF(C36=Rate!B4,Rate!C4, IF(C36=Rate!B5,Rate!C5, IF(C36=Rate!B6,Rate!C6, IF(C36=Rate!B7,Rate!C7, Rate!C8)))))) -> 65 | F36: =E36*D36 -> 260 | K36: =J36+F36 -> 260
A37: 1.2.2.4 | B37: Review Project Plan with Project Sponsor | C37: Project Manager | D37: 1 | E37: =IF(C37=Rate!B2,Rate!C2, IF(C37=Rate!B3,Rate!C3, IF(C37=Rate!B4,Rate!C4, IF(C37=Rate!B5,Rate!C5, IF(C37=Rate!B6,Rate!C6, IF(C37=Rate!B7,Rate!C7, Rate!C8)))))) -> 65 | F37: =E37*D37 -> 65 | K37: =J37+F37 -> 65
A38: 1.2.2.5 | B38: Obtain Project Sponsor Approval and Sign-Off | C38: Project Sponsor | D38: 0 | E38: =IF(C38=Rate!B2,Rate!C2, IF(C38=Rate!B3,Rate!C3, IF(C38=Rate!B4,Rate!C4, IF(C38=Rate!B5,Rate!C5, IF(C38=Rate!B6,Rate!C6, IF(C38=Rate!B7,Rate!C7, Rate!C8)))))) -> 0 | F38: =E38*D38 -> 0 | K38: =J38+F38 -> 0
A39: 1.2.3 | B39: Project Meetings | F39: =E39*D39 -> 0 | K39: =J39+F39 -> 0
A40: 1.2.3.1 | B40: Weekly Status Meetings | C40: Project Manager | D40: 26 | E40: =IF(C40=Rate!B2,Rate!C2, IF(C40=Rate!B3,Rate!C3, IF(C40=Rate!B4,Rate!C4, IF(C40=Rate!B5,Rate!C5, IF(C40=Rate!B6,Rate!C6, IF(C40=Rate!B7,Rate!C7, Rate!C8)))))) -> 65 | F40: =E40*D40 -> 1690 | K40: =J40+F40 -> 1690
C41: Technical Lead | D41: 26 | E41: =IF(C41=Rate!B2,Rate!C2, IF(C41=Rate!B3,Rate!C3, IF(C41=Rate!B4,Rate!C4, IF(C41=Rate!B5,Rate!C5, IF(C41=Rate!B6,Rate!C6, IF(C41=Rate!B7,Rate!C7, Rate!C8)))))) -> 55 | F41: =E41*D41 -> 1430 | K41: =J41+F41 -> 1430
C42: Web Developer | D42: 26 | E42: =IF(C42=Rate!B2,Rate!C2, IF(C42=Rate!B3,Rate!C3, IF(C42=Rate!B4,Rate!C4, IF(C42=Rate!B5,Rate!C5, IF(C42=Rate!B6,Rate!C6, IF(C42=Rate!B7,Rate!C7, Rate!C8)))))) -> 50 | F42: =E42*D42 -> 1300 | K42: =J42+F42 -> 1300
C43: Control Manager | D43: 26 | E43: =IF(C43=Rate!B2,Rate!C2, IF(C43=Rate!B3,Rate!C3, IF(C43=Rate!B4,Rate!C4, IF(C43=Rate!B5,Rate!C5, IF(C43=Rate!B6,Rate!C6, IF(C43=Rate!B7,Rate!C7, Rate!C8)))))) -> 45 | F43: =E43*D43 -> 1170 | K43: =J43+F43 -> 1170
C44: Implementation Lead | D44: 26 | E44: =IF(C44=Rate!B2,Rate!C2, IF(C44=Rate!B3,Rate!C3, IF(C44=Rate!B4,Rate!C4, IF(C44=Rate!B5,Rate!C5, IF(C44=Rate!B6,Rate!C6, IF(C44=Rate!B7,Rate!C7, Rate!C8)))))) -> 55 | F44: =E44*D44 -> 1430 | K44: =J44+F44 -> 1430
A45: 1.2.3.2 | B45: Monthly Status Meetings | C45: Project Manager | D45: 8 | E45: =IF(C44=Rate!B2,Rate!C2, IF(C44=Rate!B3,Rate!C3, IF(C44=Rate!B4,Rate!C4, IF(C44=Rate!B5,Rate!C5, IF(C44=Rate!B6,Rate!C6, IF(C44=Rate!B7,Rate!C7, Rate!C8)))))) -> 55 | F45: =E45*D45 -> 440 | K45: =J45+F45 -> 440
A46: 1.3 | B46: Project Requirements Phase | F46: =E46*D46 -> 0 | K46: =J46+F46 -> 0
A47: 1.3.1 | B47: Business Requirements | F47: =E47*D47 -> 0 | K47: =J47+F47 -> 0
A48: 1.3.1.1 | B48: Schedule Business Requirements Sessions with Project Sponsor | C48: Project Manager | D48: 2 | E48: =IF(C48=Rate!B2,Rate!C2, IF(C48=Rate!B3,Rate!C3, IF(C48=Rate!B4,Rate!C4, IF(C48=Rate!B5,Rate!C5, IF(C48=Rate!B6,Rate!C6, IF(C48=Rate!B7,Rate!C7, Rate!C8)))))) -> 65 | F48: =E48*D48 -> 130 | K48: =J48+F48 -> 130
A49: 1.3.1.2 | B49: Extract and Review Business Requirements from Project Charter | C49: Project Manager | D49: 8 | E49: =IF(C49=Rate!B2,Rate!C2, IF(C49=Rate!B3,Rate!C3, IF(C49=Rate!B4,Rate!C4, IF(C49=Rate!B5,Rate!C5, IF(C49=Rate!B6,Rate!C6, IF(C49=Rate!B7,Rate!C7, Rate!C8)))))) -> 65 | F49: =E49*D49 -> 520 | K49: =J49+F49 -> 520
A50: 1.3.1.3 | B50: Conduct Initial Business Requirements Session with Stakeholders | C50: Project Manager | D50: 8 | E50: =IF(C50=Rate!B2,Rate!C2, IF(C50=Rate!B3,Rate!C3, IF(C50=Rate!B4,Rate!C4, IF(C50=Rate!B5,Rate!C5, IF(C50=Rate!B6,Rate!C6, IF(C50=Rate!B7,Rate!C7, Rate!C8)))))) -> 65 | F50: =E50*D50 -> 520 | K50: =J50+F50 -> 520
A51: 1.3.1.4 | B51: Update Business Requirements based on Feedback Received | C51: Project Manager | D51: 4 | E51: =IF(C51=Rate!B2,Rate!C2, IF(C51=Rate!B3,Rate!C3, IF(C51=Rate!B4,Rate!C4, IF(C51=Rate!B5,Rate!C5, IF(C51=Rate!B6,Rate!C6, IF(C51=Rate!B7,Rate!C7, Rate!C8)))))) -> 65 | F51: =E51*D51 -> 260 | K51: =J51+F51 -> 260
A52: 1.3.1.5 | B52: Review Business Requirements Updates with Project Sponsor | C52: Project Manager | D52: 4 | E52: =IF(C52=Rate!B2,Rate!C2, IF(C52=Rate!B3,Rate!C3, IF(C52=Rate!B4,Rate!C4, IF(C52=Rate!B5,Rate!C5, IF(C52=Rate!B6,Rate!C6, IF(C52=Rate!B7,Rate!C7, Rate!C8)))))) -> 65 | F52: =E52*D52 -> 260 | K52: =J52+F52 -> 260
A53: 1.3.1.6 | B53: Conduct Follow-up Business Requirements Session with Stakeholders | C53: Project Manager | D53: 2 | E53: =IF(C53=Rate!B2,Rate!C2, IF(C53=Rate!B3,Rate!C3, IF(C53=Rate!B4,Rate!C4, IF(C53=Rate!B5,Rate!C5, IF(C53=Rate!B6,Rate!C6, IF(C53=Rate!B7,Rate!C7, Rate!C8)))))) -> 65 | F53: =E53*D53 -> 130 | K53: =J53+F53 -> 130
A54: 1.3.1.7 | B54: Review and Finalize Business Requirements with Project Sponsor | C54: Project Manager | D54: 4 | E54: =IF(C54=Rate!B2,Rate!C2, IF(C54=Rate!B3,Rate!C3, IF(C54=Rate!B4,Rate!C4, IF(C54=Rate!B5,Rate!C5, IF(C54=Rate!B6,Rate!C6, IF(C54=Rate!B7,Rate!C7, Rate!C8)))))) -> 65 | F54: =E54*D54 -> 260 | K54: =J54+F54 -> 260
A55: 1.3.1.8 | B55: Obtain Business Requirements Sign-Off from Project Sponsor | C55: Project Manager | D55: 0 | E55: =IF(C55=Rate!B2,Rate!C2, IF(C55=Rate!B3,Rate!C3, IF(C55=Rate!B4,Rate!C4, IF(C55=Rate!B5,Rate!C5, IF(C55=Rate!B6,Rate!C6, IF(C55=Rate!B7,Rate!C7, Rate!C8)))))) -> 65 | F55: =E55*D55 -> 0 | G55: Xerox Work Centre 3335/DNI All-In-One Laser printer | H55: 1 | I55: 350 | K55: =J55+F55 -> 0
A56: 1.3.2 | B56: System Requirements | F56: =E56*D56 -> 0 | K56: =J56+F56 -> 0
A57: 1.3.2.1 | B57: SysPro ERP | F57: =E57*D57 -> 0 | K57: =J57+F57 -> 0
A58: 1.3.2.1.1 | B58: Identify SysPro ERP Requirements (hardware, software, licenses, etc.) | C58: Implementation Lead | D58: 4 | E58: =IF(C58=Rate!B2,Rate!C2, IF(C58=Rate!B3,Rate!C3, IF(C58=Rate!B4,Rate!C4, IF(C58=Rate!B5,Rate!C5, IF(C58=Rate!B6,Rate!C6, IF(C58=Rate!B7,Rate!C7, Rate!C8)))))) -> 55 | F58: =E58*D58 -> 220 | K58: =J58+F58 -> 220
C59: Technical Lead | D59: 4 | E59: =IF(C59=Rate!B2,Rate!C2, IF(C59=Rate!B3,Rate!C3, IF(C59=Rate!B4,Rate!C4, IF(C59=Rate!B5,Rate!C5, IF(C59=Rate!B6,Rate!C6, IF(C59=Rate!B7,Rate!C7, Rate!C8)))))) -> 55 | F59: =E59*D59 -> 220 | K59: =J59+F59 -> 220
A60: 1.3.2.1.2 | B60: Review and Finalize SysPro ERP Requirements | C60: Implementation Lead | D60: 4 | E60: =IF(C60=Rate!B2,Rate!C2, IF(C60=Rate!B3,Rate!C3, IF(C60=Rate!B4,Rate!C4, IF(C60=Rate!B5,Rate!C5, IF(C60=Rate!B6,Rate!C6, IF(C60=Rate!B7,Rate!C7, Rate!C8)))))) -> 55 | F60: =E60*D60 -> 220 | K60: =J60+F60 -> 220
C61: Technical Lead | D61: 4 | E61: =IF(C61=Rate!B2,Rate!C2, IF(C61=Rate!B3,Rate!C3, IF(C61=Rate!B4,Rate!C4, IF(C61=Rate!B5,Rate!C5, IF(C61=Rate!B6,Rate!C6, IF(C61=Rate!B7,Rate!C7, Rate!C8)))))) -> 55 | F61: =E61*D61 -> 220 | K61: =J61+F61 -> 220
C62: Project Manager | D62: 4 | E62: =IF(C62=Rate!B2,Rate!C2, IF(C62=Rate!B3,Rate!C3, IF(C62=Rate!B4,Rate!C4, IF(C62=Rate!B5,Rate!C5, IF(C62=Rate!B6,Rate!C6, IF(C62=Rate!B7,Rate!C7, Rate!C8)))))) -> 65 | F62: =E62*D62 -> 260 | K62: =J62+F62 -> 260
A63: 1.3.2.1.3 | B63: Submit SysPro ERP Purchase Order for Approval | C63: Project Manager | D63: 0 | E63: =IF(C63=Rate!B2,Rate!C2, IF(C63=Rate!B3,Rate!C3, IF(C63=Rate!B4,Rate!C4, IF(C63=Rate!B5,Rate!C5, IF(C63=Rate!B6,Rate!C6, IF(C63=Rate!B7,Rate!C7, Rate!C8)))))) -> 65 | F63: =E63*D63 -> 0 | G63: SysPro ERP System | H63: 1 | I63: 1500 | J63: =I63*H63 -> 1500 | K63: =J63+F63 -> 1500
A64: 1.3.2.1.4 | B64: Obtain Purchase Order Approval for SysPro ERP | C64: Project Manager | D64: 0 | E64: =IF(C64=Rate!B2,Rate!C2, IF(C64=Rate!B3,Rate!C3, IF(C64=Rate!B4,Rate!C4, IF(C64=Rate!B5,Rate!C5, IF(C64=Rate!B6,Rate!C6, IF(C64=Rate!B7,Rate!C7, Rate!C8)))))) -> 65 | F64: =E64*D64 -> 0 | K64: =J64+F64 -> 0
A65: 1.3.2.1.5 | B65: Submit Purchase Order to SysPro | C65: Technical Lead | D65: 2 | E65: =IF(C65=Rate!B2,Rate!C2, IF(C65=Rate!B3,Rate!C3, IF(C65=Rate!B4,Rate!C4, IF(C65=Rate!B5,Rate!C5, IF(C65=Rate!B6,Rate!C6, IF(C65=Rate!B7,Rate!C7, Rate!C8)))))) -> 55 | F65: =E65*D65 -> 110 | K65: =J65+F65 -> 110
A66: 1.3.2.2 | B66: Clover POS | F66: =E66*D66 -> 0 | K66: =J66+F66 -> 0
A67: 1.3.2.2.1 | B67: Identify Clover POS Requirements (hardware, software, licenses, etc.) | C67: Implementation Lead | D67: 4 | E67: =IF(C67=Rate!B2,Rate!C2, IF(C67=Rate!B3,Rate!C3, IF(C67=Rate!B4,Rate!C4, IF(C67=Rate!B5,Rate!C5, IF(C67=Rate!B6,Rate!C6, IF(C67=Rate!B7,Rate!C7, Rate!C8)))))) -> 55 | F67: =E67*D67 -> 220 | K67: =J67+F67 -> 220
C68: Technical Lead | D68: 4 | E68: =IF(C68=Rate!B2,Rate!C2, IF(C68=Rate!B3,Rate!C3, IF(C68=Rate!B4,Rate!C4, IF(C68=Rate!B5,Rate!C5, IF(C68=Rate!B6,Rate!C6, IF(C68=Rate!B7,Rate!C7, Rate!C8)))))) -> 55 | F68: =E68*D68 -> 220 | K68: =J68+F68 -> 220
C69: Project Manager | D69: 4 | E69: =IF(C69=Rate!B2,Rate!C2, IF(C69=Rate!B3,Rate!C3, IF(C69=Rate!B4,Rate!C4, IF(C69=Rate!B5,Rate!C5, IF(C69=Rate!B6,Rate!C6, IF(C69=Rate!B7,Rate!C7, Rate!C8)))))) -> 65 | F69: =E69*D69 -> 260 | K69: =J69+F69 -> 260
A70: 1.3.2.2.2 | B70: Review and Finalize Clover POS Requirements | C70: Implementation Lead | D70: 4 | E70: =IF(C70=Rate!B2,Rate!C2, IF(C70=Rate!B3,Rate!C3, IF(C70=Rate!B4,Rate!C4, IF(C70=Rate!B5,Rate!C5, IF(C70=Rate!B6,Rate!C6, IF(C70=Rate!B7,Rate!C7, Rate!C8)))))) -> 55 | F70: =E70*D70 -> 220 | K70: =J70+F70 -> 220
C71: Project Manager | D71: 4 | E71: =IF(C71=Rate!B2,Rate!C2, IF(C71=Rate!B3,Rate!C3, IF(C71=Rate!B4,Rate!C4, IF(C71=Rate!B5,Rate!C5, IF(C71=Rate!B6,Rate!C6, IF(C71=Rate!B7,Rate!C7, Rate!C8)))))) -> 65 | F71: =E71*D71 -> 260 | K71: =J71+F71 -> 260
C72: Technical Lead | D72: 4 | E72: =IF(C72=Rate!B2,Rate!C2, IF(C72=Rate!B3,Rate!C3, IF(C72=Rate!B4,Rate!C4, IF(C72=Rate!B5,Rate!C5, IF(C72=Rate!B6,Rate!C6, IF(C72=Rate!B7,Rate!C7, Rate!C8)))))) -> 55 | F72: =E72*D72 -> 220 | K72: =J72+F72 -> 220
A73: 1.3.2.2.3 | B73: Submit Clover POS Purchase Order for Approval | C73: Project Manager | D73: 0 | E73: =IF(C73=Rate!B2,Rate!C2, IF(C73=Rate!B3,Rate!C3, IF(C73=Rate!B4,Rate!C4, IF(C73=Rate!B5,Rate!C5, IF(C73=Rate!B6,Rate!C6, IF(C73=Rate!B7,Rate!C7, Rate!C8)))))) -> 65 | F73: =E73*D73 -> 0 | G73: Clover POS System | H73: 1 | I73: 1200 | J73: =I73*H73 -> 1200 | K73: =J73+F73 -> 1200
A74: 1.3.2.2.4 | B74: Obtain Purchase Order Approval for Clover POS | C74: Projcet Manager | D74: 0 | E74: =IF(C74=Rate!B2,Rate!C2, IF(C74=Rate!B3,Rate!C3, IF(C74=Rate!B4,Rate!C4, IF(C74=Rate!B5,Rate!C5, IF(C74=Rate!B6,Rate!C6, IF(C74=Rate!B7,Rate!C7, Rate!C8)))))) -> 0 | F74: =E74*D74 -> 0 | K74: =J74+F74 -> 0
A75: 1.3.2.2.5 | B75: Submit Purchase Order to Clover | C75: Technical Lead | D75: 2 | E75: =IF(C75=Rate!B2,Rate!C2, IF(C75=Rate!B3,Rate!C3, IF(C75=Rate!B4,Rate!C4, IF(C75=Rate!B5,Rate!C5, IF(C75=Rate!B6,Rate!C6, IF(C75=Rate!B7,Rate!C7, Rate!C8)))))) -> 55 | F75: =E75*D75 -> 110 | K75: =J75+F75 -> 110
A76: 1.3.2.3 | B76: Custom Website | F76: =E76*D76 -> 0 | K76: =J76+F76 -> 0
A77: 1.3.2.3.1 | B77: Identify Custom Website Requirements (hardware, software, domain registration, etc.) | C77: Web Developer | D77: 4 | E77: =IF(C77=Rate!B2,Rate!C2, IF(C77=Rate!B3,Rate!C3, IF(C77=Rate!B4,Rate!C4, IF(C77=Rate!B5,Rate!C5, IF(C77=Rate!B6,Rate!C6, IF(C77=Rate!B7,Rate!C7, Rate!C8)))))) -> 50 | F77: =E77*D77 -> 200 | K77: =J77+F77 -> 200
C78: Technical Lead | D78: 4 | E78: =IF(C78=Rate!B2,Rate!C2, IF(C78=Rate!B3,Rate!C3, IF(C78=Rate!B4,Rate!C4, IF(C78=Rate!B5,Rate!C5, IF(C78=Rate!B6,Rate!C6, IF(C78=Rate!B7,Rate!C7, Rate!C8)))))) -> 55 | F78: =E78*D78 -> 220 | K78: =J78+F78 -> 220
C79: Implementation Lead | D79: 4 | E79: =IF(C79=Rate!B2,Rate!C2, IF(C79=Rate!B3,Rate!C3, IF(C79=Rate!B4,Rate!C4, IF(C79=Rate!B5,Rate!C5, IF(C79=Rate!B6,Rate!C6, IF(C79=Rate!B7,Rate!C7, Rate!C8)))))) -> 55 | F79: =E79*D79 -> 220 | K79: =J79+F79 -> 220
A80: 1.3.2.3.2 | B80: Review and Finalize Custom Website Requirements | C80: Project Manager | D80: 2 | E80: =IF(C80=Rate!B2,Rate!C2, IF(C80=Rate!B3,Rate!C3, IF(C80=Rate!B4,Rate!C4, IF(C80=Rate!B5,Rate!C5, IF(C80=Rate!B6,Rate!C6, IF(C80=Rate!B7,Rate!C7, Rate!C8)))))) -> 65 | F80: =E80*D80 -> 130 | K80: =J80+F80 -> 130
C81: Technical Lead | D81: 2 | E81: =IF(C81=Rate!B2,Rate!C2, IF(C81=Rate!B3,Rate!C3, IF(C81=Rate!B4,Rate!C4, IF(C81=Rate!B5,Rate!C5, IF(C81=Rate!B6,Rate!C6, IF(C81=Rate!B7,Rate!C7, Rate!C8)))))) -> 55 | F81: =E81*D81 -> 110 | K81: =J81+F81 -> 110
C82: Implementation Lead | D82: 2 | E82: =IF(C82=Rate!B2,Rate!C2, IF(C82=Rate!B3,Rate!C3, IF(C82=Rate!B4,Rate!C4, IF(C82=Rate!B5,Rate!C5, IF(C82=Rate!B6,Rate!C6, IF(C82=Rate!B7,Rate!C7, Rate!C8)))))) -> 55 | F82: =E82*D82 -> 110 | K82: =J82+F82 -> 110
C83: Web Developer | D83: 2 | E83: =IF(C83=Rate!B2,Rate!C2, IF(C83=Rate!B3,Rate!C3, IF(C83=Rate!B4,Rate!C4, IF(C83=Rate!B5,Rate!C5, IF(C83=Rate!B6,Rate!C6, IF(C83=Rate!B7,Rate!C7, Rate!C8)))))) -> 50 | F83: =E83*D83 -> 100 | K83: =J83+F83 -> 100
A84: 1.3.2.3.3 | B84: Obtain Purchase Order Approval to Purchase Custom Website Infrastructure | C84: Project Manager | D84: 0 | E84: =IF(C84=Rate!B2,Rate!C2, IF(C84=Rate!B3,Rate!C3, IF(C84=Rate!B4,Rate!C4, IF(C84=Rate!B5,Rate!C5, IF(C84=Rate!B6,Rate!C6, IF(C84=Rate!B7,Rate!C7, Rate!C8)))))) -> 65 | F84: =E84*D84 -> 0 | K84: =J84+F84 -> 0
A85: 1.3.2.3.4 | B85: Submit Purchase Order to Support Cloud Infrastructure | C85: Technical Lead | D85: 1 | E85: =IF(C85=Rate!B2,Rate!C2, IF(C85=Rate!B3,Rate!C3, IF(C85=Rate!B4,Rate!C4, IF(C85=Rate!B5,Rate!C5, IF(C85=Rate!B6,Rate!C6, IF(C85=Rate!B7,Rate!C7, Rate!C8)))))) -> 55 | F85: =E85*D85 -> 55 | K85: =J85+F85 -> 55
A86: 1.3.2.3.5 | B86: Submit Purchase Order to Domain Provider | C86: Technical Lead | D86: 1 | E86: =IF(C86=Rate!B2,Rate!C2, IF(C86=Rate!B3,Rate!C3, IF(C86=Rate!B4,Rate!C4, IF(C86=Rate!B5,Rate!C5, IF(C86=Rate!B6,Rate!C6, IF(C86=Rate!B7,Rate!C7, Rate!C8)))))) -> 55 | F86: =E86*D86 -> 55 | K86: =J86+F86 -> 55
A87: 1.3.3 | B87: Vendor Agreements | F87: =E87*D87 -> 0 | K87: =J87+F87 -> 0
A88: 1.3.3.1 | B88: Obtain Service Agreement with ISP (FIOS) | C88: Technical Lead | D88: 0 | E88: =IF(C88=Rate!B2,Rate!C2, IF(C88=Rate!B3,Rate!C3, IF(C88=Rate!B4,Rate!C4, IF(C88=Rate!B5,Rate!C5, IF(C88=Rate!B6,Rate!C6, IF(C88=Rate!B7,Rate!C7, Rate!C8)))))) -> 55 | F88: =E88*D88 -> 0 | K88: =J88+F88 -> 0
A89: 1.3.3.2 | B89: Obtain End-User Agreements from SysPro ERP | C89: Technical Lead | D89: 0 | E89: =IF(C89=Rate!B2,Rate!C2, IF(C89=Rate!B3,Rate!C3, IF(C89=Rate!B4,Rate!C4, IF(C89=Rate!B5,Rate!C5, IF(C89=Rate!B6,Rate!C6, IF(C89=Rate!B7,Rate!C7, Rate!C8)))))) -> 55 | F89: =E89*D89 -> 0 | K89: =J89+F89 -> 0
A90: 1.3.3.3 | B90: Obtain End-User Agreements from Clover POS | C90: Technical Lead | D90: 0 | E90: =IF(C90=Rate!B2,Rate!C2, IF(C90=Rate!B3,Rate!C3, IF(C90=Rate!B4,Rate!C4, IF(C90=Rate!B5,Rate!C5, IF(C90=Rate!B6,Rate!C6, IF(C90=Rate!B7,Rate!C7, Rate!C8)))))) -> 55 | F90: =E90*D90 -> 0 | K90: =J90+F90 -> 0
A91: 1.3.3.4 | B91: Obtain Cloud Infrastructure Agreement | C91: Technical Lead | D91: 0 | E91: =IF(C91=Rate!B2,Rate!C2, IF(C91=Rate!B3,Rate!C3, IF(C91=Rate!B4,Rate!C4, IF(C91=Rate!B5,Rate!C5, IF(C91=Rate!B6,Rate!C6, IF(C91=Rate!B7,Rate!C7, Rate!C8)))))) -> 55 | F91: =E91*D91 -> 0 | K91: =J91+F91 -> 0
A92: 1.3.3.5 | B92: Obtain End-User Agreement with Domain Provider | C92: Technical Lead | D92: 0 | E92: =IF(C92=Rate!B2,Rate!C2, IF(C92=Rate!B3,Rate!C3, IF(C92=Rate!B4,Rate!C4, IF(C92=Rate!B5,Rate!C5, IF(C92=Rate!B6,Rate!C6, IF(C92=Rate!B7,Rate!C7, Rate!C8)))))) -> 55 | F92: =E92*D92 -> 0 | K92: =J92+F92 -> 0
A93: 1.3.3.6 | B93: Review End-User and Service Agreements with Project Sponsor | C93: Project Manager | D93: 8 | E93: =IF(C93=Rate!B2,Rate!C2, IF(C93=Rate!B3,Rate!C3, IF(C93=Rate!B4,Rate!C4, IF(C93=Rate!B5,Rate!C5, IF(C93=Rate!B6,Rate!C6, IF(C93=Rate!B7,Rate!C7, Rate!C8)))))) -> 65 | F93: =E93*D93 -> 520 | K93: =J93+F93 -> 520
A94: 1.3.3.7 | B94: Obtain End-User and Service Agreements Sign-Offs | C94: Project Sponsor | D94: 0 | E94: =IF(C94=Rate!B2,Rate!C2, IF(C94=Rate!B3,Rate!C3, IF(C94=Rate!B4,Rate!C4, IF(C94=Rate!B5,Rate!C5, IF(C94=Rate!B6,Rate!C6, IF(C94=Rate!B7,Rate!C7, Rate!C8)))))) -> 0 | F94: =E94*D94 -> 0 | K94: =J94+F94 -> 0
A95: 1.3.4 | B95: Network Infrastructure | F95: =E95*D95 -> 0 | K95: =J95+F95 -> 0
A96: 1.3.4.1 | B96: Identify Network Requirements including routers, firewall, etc. | C96: Technical Lead | D96: 16 | E96: =IF(C96=Rate!B2,Rate!C2, IF(C96=Rate!B3,Rate!C3, IF(C96=Rate!B4,Rate!C4, IF(C96=Rate!B5,Rate!C5, IF(C96=Rate!B6,Rate!C6, IF(C96=Rate!B7,Rate!C7, Rate!C8)))))) -> 55 | F96: =E96*D96 -> 880 | K96: =J96+F96 -> 880
C97: Implementation Lead | D97: 16 | E97: =IF(C97=Rate!B2,Rate!C2, IF(C97=Rate!B3,Rate!C3, IF(C97=Rate!B4,Rate!C4, IF(C97=Rate!B5,Rate!C5, IF(C97=Rate!B6,Rate!C6, IF(C97=Rate!B7,Rate!C7, Rate!C8)))))) -> 55 | F97: =E97*D97 -> 880 | K97: =J97+F97 -> 880
C98: Project Manager | D98: 16 | E98: =IF(C98=Rate!B2,Rate!C2, IF(C98=Rate!B3,Rate!C3, IF(C98=Rate!B4,Rate!C4, IF(C98=Rate!B5,Rate!C5, IF(C98=Rate!B6,Rate!C6, IF(C98=Rate!B7,Rate!C7, Rate!C8)))))) -> 65 | F98: =E98*D98 -> 1040 | K98: =J98+F98 -> 1040
A99: 1.3.4.2 | B99: Review Network Requirements with Project Sponsor | C99: Technical Lead | D99: 4 | E99: =IF(C99=Rate!B2,Rate!C2, IF(C99=Rate!B3,Rate!C3, IF(C99=Rate!B4,Rate!C4, IF(C99=Rate!B5,Rate!C5, IF(C99=Rate!B6,Rate!C6, IF(C99=Rate!B7,Rate!C7, Rate!C8)))))) -> 55 | F99: =E99*D99 -> 220 | K99: =J99+F99 -> 220
C100: Project Manager | D100: 4 | E100: =IF(C100=Rate!B2,Rate!C2, IF(C100=Rate!B3,Rate!C3, IF(C100=Rate!B4,Rate!C4, IF(C100=Rate!B5,Rate!C5, IF(C100=Rate!B6,Rate!C6, IF(C100=Rate!B7,Rate!C7, Rate!C8)))))) -> 65 | F100: =E100*D100 -> 260 | G100: Dell Vostro 15” Small Business Laptops | H100: 2 | I100: 1000 | J100: =I100*H100 -> 2000 | K100: =J100+F100 -> 2260
...

Sheet Rate
A1: Member | B1: Role Assigned | C1: Hourly Rate
A2: Bruce Asberry | B2: Project Manager | C2: 65
A3: Marco Antonio Rodriguez | B3: Implementation Lead | C3: 55
A4: Mark Fowler | B4: Control Manager | C4: 45
A5: Micheal Mays | B5: Web Developer | C5: 50
A6: Tibletse Nigussie | B6: Technical Lead | C6: 55
A7: Nous (Web Developer) | B7: Web Developer Consultant | C7: 50
A8: Stephany Head | B8: Project Sponsor | C8: 0
A9: Verizon | B9: Verizon | C9: 0
A10: Clover POS | B10: Clover POS | C10: 0
A11: SysPro ERP | B11: SysPro ERP | C11: 0
