Workbook
Name Task_Table1: 'Resource & Cost'!#REF!

Sheet Resource & Cost
A1: WBS | B1: Task Name | C1: Labor | D1: Hours | E1: Rate | F1: Labor Total | G1: Supplies | H1: Quantity | I1: Price | J1: Supplies Total | K1: Total | L1: Notes
A2: 1 | B2: MMBSS Customer Relations System
A3: 1.1 | B3: Project Initiation Phase
A4: 1.1.1 | B4: Project Team
A5: 1.1.1.1 | B5: Identify Project Team Members and Establish Project Team | C5: Project Manager | D5: 8 | E5: =IF(C5=Rate!B2,Rate!C2, IF(C5=Rate!B3,Rate!C3, IF(C5=Rate!B4,Rate!C4, IF(C5=Rate!B5,Rate!C5, IF(C5=Rate!B6,Rate!C6, IF(C5=Rate!B7,Rate!C7, Rate!C9)))))) -> 65 | F5: =E5*D5 -> 520 | K5: =J5+F5 -> 520
A6: 1.1.1.2 | B6: Finalize Project Team Members | C6: Project Manager | D6: 4 | E6: =IF(C6=Rate!B2,Rate!C2, IF(C6=Rate!B3,Rate!C3, IF(C6=Rate!B4,Rate!C4, IF(C6=Rate!B5,Rate!C5, IF(C6=Rate!B6,Rate!C6, IF(C6=Rate!B7,Rate!C7, Rate!C9)))))) -> 65 | F6: =E6*D6 -> 260 | K6: =J6+F6 -> 260
A7: 1.1.2 | B7: Project Kickoff | F7: =E7*D7 -> 0 | K7: =J7+F7 -> 0
A8: 1.1.2.1 | B8: Schedule Kickoff Meeting | C8: Project Manager | D8: 2 | E8: =IF(C8=Rate!B2,Rate!C2, IF(C8=Rate!B3,Rate!C3, IF(C8=Rate!B4,Rate!C4, IF(C8=Rate!B5,Rate!C5, IF(C8=Rate!B6,Rate!C6, IF(C8=Rate!B7,Rate!C7, Rate!C9)))))) -> 65 | F8: =E8*D8 -> 130 | K8: =J8+F8 -> 130
A9: 1.1.2.2 | B9: Prepare Draft Project Agenda | C9: Project Manager | D9: 4 | E9: =IF(C9=Rate!B2,Rate!C2, IF(C9=Rate!B3,Rate!C3, IF(C9=Rate!B4,Rate!C4, IF(C9=Rate!B5,Rate!C5, IF(C9=Rate!B6,Rate!C6, IF(C9=Rate!B7,Rate!C7, Rate!C9)))))) -> 65 | F9: =E9*D9 -> 260 | K9: =J9+F9 -> 260
A10: 1.1.2.3 | B10: Prepare Draft Kickoff Presentation | C10: Project Manager | D10: 4 | E10: =IF(C10=Rate!B2,Rate!C2, IF(C10=Rate!B3,Rate!C3, IF(C10=Rate!B4,Rate!C4, IF(C10=Rate!B5,Rate!C5, IF(C10=Rate!B6,Rate!C6, IF(C10=Rate!B7,Rate!C7, Rate!C9)))))) -> 65 | F10: =E10*D10 -> 260 | K10: =J10+F10 -> 260
A11: 1.1.2.4 | B11: Review and Finalize Project Agenda and Kickoff Presentation | C11: Project Manager | D11: 4 | E11: =IF(C11=Rate!B2,Rate!C2, IF(C11=Rate!B3,Rate!C3, IF(C11=Rate!B4,Rate!C4, IF(C11=Rate!B5,Rate!C5, IF(C11=Rate!B6,Rate!C6, IF(C11=Rate!B7,Rate!C7, Rate!C9)))))) -> 65 | F11: =E11*D11 -> 260 | K11: =J11+F11 -> 260
A12: 1.1.2.5 | B12: Deliver Project Kickoff Materials to Project Sponsor | C12: Project Manager | D12: 2 | E12: =IF(C12=Rate!B2,Rate!C2, IF(C12=Rate!B3,Rate!C3, IF(C12=Rate!B4,Rate!C4, IF(C12=Rate!B5,Rate!C5, IF(C12=Rate!B6,Rate!C6, IF(C12=Rate!B7,Rate!C7, Rate!C9)))))) -> 65 | F12: =E12*D12 -> 130 | K12: =J12+F12 -> 130
A13: 1.1.2.6 | B13: Conduct Project Kickoff Meeting | C13: Project Manager | D13: 4 | E13: =IF(C13=Rate!B2,Rate!C2, IF(C13=Rate!B3,Rate!C3, IF(C13=Rate!B4,Rate!C4, IF(C13=Rate!B5,Rate!C5, IF(C13=Rate!B6,Rate!C6, IF(C13=Rate!B7,Rate!C7, Rate!C9)))))) -> 65 | F13: =E13*D13 -> 260 | K13: =J13+F13 -> 260
C14: Technical Lead | D14: 4 | E14: =IF(C14=Rate!B2,Rate!C2, IF(C14=Rate!B3,Rate!C3, IF(C14=Rate!B4,Rate!C4, IF(C14=Rate!B5,Rate!C5, IF(C14=Rate!B6,Rate!C6, IF(C14=Rate!B7,Rate!C7, Rate!C9)))))) -> 55 | F14: =E14*D14 -> 220 | K14: =J14+F14 -> 220
C15: Web Developer | D15: 4 | E15: =IF(C15=Rate!B2,Rate!C2, IF(C15=Rate!B3,Rate!C3, IF(C15=Rate!B4,Rate!C4, IF(C15=Rate!B5,Rate!C5, IF(C15=Rate!B6,Rate!C6, IF(C15=Rate!B7,Rate!C7, Rate!C9)))))) -> 50 | F15: =E15*D15 -> 200 | K15: =J15+F15 -> 200
C16: Control Manager | D16: 4 | E16: =IF(C16=Rate!B2,Rate!C2, IF(C16=Rate!B3,Rate!C3, IF(C16=Rate!B4,Rate!C4, IF(C16=Rate!B5,Rate!C5, IF(C16=Rate!B6,Rate!C6, IF(C16=Rate!B7,Rate!C7, Rate!C9)))))) -> 45 | F16: =E16*D16 -> 180 | K16: =J16+F16 -> 180
C17: Implementation Lead | D17: 4 | E17: =IF(C17=Rate!B2,Rate!C2, IF(C17=Rate!B3,Rate!C3, IF(C17=Rate!B4,Rate!C4, IF(C17=Rate!B5,Rate!C5, IF(C17=Rate!B6,Rate!C6, IF(C17=Rate!B7,Rate!C7, Rate!C9)))))) -> 55 | F17: =E17*D17 -> 220 | K17: =J17+F17 -> 220
A18: 1.2 | B18: Project Management Phase | F18: =E18*D18 -> 0 | K18: =J18+F18 -> 0
A19: 1.2.1 | B19: Project Scope | F19: =E19*D19 -> 0 | K19: =J19+F19 -> 0
A20: 1.2.1.1 | B20: Analyze and Draft Project Scope | C20: Project Manager | D20: 18 | E20: =IF(C20=Rate!B2,Rate!C2, IF(C20=Rate!B3,Rate!C3, IF(C20=Rate!B4,Rate!C4, IF(C20=Rate!B5,Rate!C5, IF(C20=Rate!B6,Rate!C6, IF(C20=Rate!B7,Rate!C7, Rate!C9)))))) -> 65 | F20: =E20*D20 -> 1170 | K20: =J20+F20 -> 1170
A21: 1.2.1.2 | B21: Review Project Scope with Project Sponsor | C21: Project Manager | D21: 2 | E21: =IF(C21=Rate!B2,Rate!C2, IF(C21=Rate!B3,Rate!C3, IF(C21=Rate!B4,Rate!C4, IF(C21=Rate!B5,Rate!C5, IF(C21=Rate!B6,Rate!C6, IF(C21=Rate!B7,Rate!C7, Rate!C9)))))) -> 65 | F21: =E21*D21 -> 130 | K21: =J21+F21 -> 130
A22: 1.2.1.3 | B22: Update Project Scope based on Feedback | C22: Project Manager | D22: 2 | E22: =IF(C22=Rate!B2,Rate!C2, IF(C22=Rate!B3,Rate!C3, IF(C22=Rate!B4,Rate!C4, IF(C22=Rate!B5,Rate!C5, IF(C22=Rate!B6,Rate!C6, IF(C22=Rate!B7,Rate!C7, Rate!C9)))))) -> 65 | F22: =E22*D22 -> 130 | K22: =J22+F22 -> 130
A23: 1.2.1.4 | B23: Review Finalized Project Scope with Project Sponsor | C23: Project Manager | D23: 2 | E23: =IF(C23=Rate!B2,Rate!C2, IF(C23=Rate!B3,Rate!C3, IF(C23=Rate!B4,Rate!C4, IF(C23=Rate!B5,Rate!C5, IF(C23=Rate!B6,Rate!C6, IF(C23=Rate!B7,Rate!C7, Rate!C9)))))) -> 65 | F23: =E23*D23 -> 130 | K23: =J23+F23 -> 130
A24: 1.2.1.5 | B24: Obtain Project Sponsor Approval for Project Scope | C24: Project Manager | D24: 0 | E24: =IF(C24=Rate!B2,Rate!C2, IF(C24=Rate!B3,Rate!C3, IF(C24=Rate!B4,Rate!C4, IF(C24=Rate!B5,Rate!C5, IF(C24=Rate!B6,Rate!C6, IF(C24=Rate!B7,Rate!C7, Rate!C9)))))) -> 65 | F24: =E24*D24 -> 0 | K24: =J24+F24 -> 0
A25: 1.2.2 | B25: Project Plan | F25: =E25*D25 -> 0 | K25: =J25+F25 -> 0
A26: 1.2.2.1 | B26: Review and Update Project Plan | C26: Project Manager | D26: 16 | E26: =IF(C26=Rate!B2,Rate!C2, IF(C26=Rate!B3,Rate!C3, IF(C26=Rate!B4,Rate!C4, IF(C26=Rate!B5,Rate!C5, IF(C26=Rate!B6,Rate!C6, IF(C26=Rate!B7,Rate!C7, Rate!C8)))))) -> 65 | F26: =E26*D26 -> 1040 | K26: =J26+F26 -> 1040
C27: Technical Lead | D27: 16 | E27: =IF(C27=Rate!B2,Rate!C2, IF(C27=Rate!B3,Rate!C3, IF(C27=Rate!B4,Rate!C4, IF(C27=Rate!B5,Rate!C5, IF(C27=Rate!B6,Rate!C6, IF(C27=Rate!B7,Rate!C7, Rate!C8)))))) -> 55 | F27: =E27*D27 -> 880 | K27: =J27+F27 -> 880
C28: Web Developer | D28: 16 | E28: =IF(C28=Rate!B2,Rate!C2, IF(C28=Rate!B3,Rate!C3, IF(C28=Rate!B4,Rate!C4, IF(C28=Rate!B5,Rate!C5, IF(C28=Rate!B6,Rate!C6, IF(C28=Rate!B7,Rate!C7, Rate!C8)))))) -> 50 | F28: =E28*D28 -> 800 | K28: =J28+F28 -> 800
C29: Control Manager | D29: 16 | E29: =IF(C29=Rate!B2,Rate!C2, IF(C29=Rate!B3,Rate!C3, IF(C29=Rate!B4,Rate!C4, IF(C29=Rate!B5,Rate!C5, IF(C29=Rate!B6,Rate!C6, IF(C29=Rate!B7,Rate!C7, Rate!C8)))))) -> 45 | F29: =E29*D29 -> 720 | K29: =J29+F29 -> 720
C30: Implementation Lead | D30: 16 | E30: =IF(C30=Rate!B2,Rate!C2, IF(C30=Rate!B3,Rate!C3, IF(C30=Rate!B4,Rate!C4, IF(C30=Rate!B5,Rate!C5, IF(C30=Rate!B6,Rate!C6, IF(C30=Rate!B7,Rate!C7, Rate!C8)))))) -> 55 | F30: =E30*D30 -> 880 | K30: =J30+F30 -> 880
A31: 1.2.2.2 | B31: Deliver Updated Project Plan to Project Sponsor | C31: Project Manager | D31: 2 | E31: =IF(C31=Rate!B2,Rate!C2, IF(C31=Rate!B3,Rate!C3, IF(C31=Rate!B4,Rate!C4, IF(C31=Rate!B5,Rate!C5, IF(C31=Rate!B6,Rate!C6, IF(C31=Rate!B7,Rate!C7, Rate!C8)))))) -> 65 | F31: =E31*D31 -> 130 | K31: =J31+F31 -> 130
A32: 1.2.2.3 | B32: Obtain and Incorporate Feedback from Project Sponsor | C32: Technical Lead | D32: 4 | E32: =IF(C32=Rate!B2,Rate!C2, IF(C32=Rate!B3,Rate!C3, IF(C32=Rate!B4,Rate!C4, IF(C32=Rate!B5,Rate!C5, IF(C32=Rate!B6,Rate!C6, IF(C32=Rate!B7,Rate!C7, Rate!C8)))))) -> 55 | F32: =E32*D32 -> 220 | K32: =J32+F32 -> 220
C33: Web Developer | D33: 4 | E33: =IF(C33=Rate!B2,Rate!C2, IF(C33=Rate!B3,Rate!C3, IF(C33=Rate!B4,Rate!C4, IF(C33=Rate!B5,Rate!C5, IF(C33=Rate!B6,Rate!C6, IF(C33=Rate!B7,Rate!C7, Rate!C8)))))) -> 50 | F33: =E33*D33 -> 200 | K33: =J33+F33 -> 200
C34: Control Manager | D34: 4 | E34: =IF(C34=Rate!B2,Rate!C2, IF(C34=Rate!B3,Rate!C3, IF(C34=Rate!B4,Rate!C4, IF(C34=Rate!B5,Rate!C5, IF(C34=Rate!B6,Rate!C6, IF(C34=Rate!B7,Rate!C7, Rate!C8)))))) -> 45 | F34: =E34*D34 -> 180 | K34: =J34+F34 -> 180
C35: Implementation Lead | D35: 4 | E35: =IF(C35=Rate!B2,Rate!C2, IF(C35=Rate!B3,Rate!C3, IF(C35=Rate!B4,Rate!C4, IF(C35=Rate!B5,Rate!C5, IF(C35=Rate!B6,Rate!C6, IF(C35=Rate!B7,Rate!C7, Rate!C8)))))) -> 55 | F35: =E35*D35 -> 220 | K35: =J35+F35 -> 220
C36: Project Manager | D36: 4 | E36: =IF(C36=Rate!B2,Rate!C2, IF(C36=Rate!B3,Rate!C3, IF(C36=Rate!B4,Rate!C4, IF(C36=Rate!B5,Rate!C5, IF(C36=Rate!B6,Rate!C6, IF(C36=Rate!B7,Rate!C7, Rate!C8)))))) -> 65 | F36: =E36*D36 -> 260 | K36: =J36+F36 -> 260
A37: 1.2.2.4 | B37: Review Project Plan with Project Sponsor | C37: Project Manager | D37: 1 | E37: =IF(C37=Rate!B2,Rate!C2, IF(C37=Rate!B3,Rate!C3, IF(C37=Rate!B4,Rate!C4, IF(C37=Rate!B5,Rate!C5, IF(C37=Rate!B6,Rate!C6, IF(C37=Rate!B7,Rate!C7, Rate!C8)))))) -> 65 | F37: =E37*D37 -> 65 | K37: =J37+F37 -> 65
A38: 1.2.2.5 | B38: Obtain Project Sponsor Approval and Sign-Off | C38: Project Sponsor | D38: 0 | E38: =IF(C38=Rate!B2,Rate!C2, IF(C38=Rate!B3,Rate!C3, IF(C38=Rate!B4,Rate!C4, IF(C38=Rate!B5,Rate!C5, IF(C38=Rate!B6,Rate!C6, IF(C38=Rate!B7,Rate!C7, Rate!C8)))))) -> 0 | F38: =E38*D38 -> 0 | K38: =J38+F38 -> 0
A39: 1.2.3 | B39: Project Meetings | F39: =E39*D39 -> 0 | K39: =J39+F39 -> 0
A40: 1.2.3.1 | B40: Weekly Status Meetings | C40: Project Manager | D40: 26 | E40: =IF(C40=Rate!B2,Rate!C2, IF(C40=Rate!B3,Rate!C3, IF(C40=Rate!B4,Rate!C4, IF(C40=Rate!B5,Rate!C5, IF(C40=Rate!B6,Rate!C6, IF(C40=Rate!B7,Rate!C7, Rate!C8)))))) -> 65 | F40: =E40*D40 -> 1690 | K40: =J40+F40 -> 1690
...

Sheet Rate
A1: Member | B1: Role Assigned | C1: Hourly Rate
A2: Bruce Asberry | B2: Project Manager | C2: 65
A3: Marco Antonio Rodriguez | B3: Implementation Lead | C3: 55
A4: Mark Fowler | B4: Control Manager | C4: 45
A5: Micheal Mays | B5: Web Developer | C5: 50
A6: Tibletse Nigussie | B6: Technical Lead | C6: 55
A7: Nous (Web Developer) | B7: Web Developer Consultant | C7: 50
A8: Stephany Head | B8: Project Sponsor | C8: 0
A9: Verizon | B9: Verizon | C9: 0
A10: Clover POS | B10: Clover POS | C10: 0
A11: SysPro ERP | B11: SysPro ERP | C11: 0
