Workbook

Sheet Sheet1
A1: The following trial balance was extracted from the books of OLLIE LTD as at December 31st 2020.
A2: The company has an Authorised Share Capital of 600,000 €1 Ordinary Shares at €1 each.
B4: DR | C4: CR
A5: Ordinary Shares (€1 each) | C5: 500000
A6: Profit & Loss Account Balance – Jan1st 2020 | B6: 45733
A7: Sales | C7: 900000
A8: Sales Returns | B8: 7500
A9: Premises at Cost | B9: 540000
A10: Accumulated Depreciation Premises | C10: 54000
A11: Discount Received | C11: 7000
A12: Debtors | B12: 75000
A13: Creditors | C13: 45000
A14: Motor Vehicles at Cost | B14: 100000
A15: Accumulated Depreciation Motor Vehicles | C15: 20000
A16: Purchases | B16: 550000
A17: Bank | C17: 18500
A18: Stock (01/01/20) | B18: 75000
A19: Salaries & Wages | B19: 72500
A20: Advertising | B20: 21250
A21: Provision for Bad Debts | C21: 4000
A22: Bank Charges | B22: 1547
A23: Light & Heat | B23: 32700
A24: 12% Debentures | C24: 140000
A25: Insurance on Motor Vehicles | B25: 20600
A26: General Expenses | B26: 14450
A27: Goodwill | B27: 20000
A28: Carriage In | B28: 1000
A29: Rent | B29: 79900
A30: Bills Receivable/Payable | B30: 6000 | C30: 7000
A31: Cash | B31: 2320
A32: Bank Term Loan | C32: 26000
A33: Debenture Interest Paid | B33: 6000
A34: Share Premium Account | C34: 30000
A35: 10% Investments | B35: 80000
B36: =SUM(B5:B35) -> 1751500 | C36: =SUM(C5:C35) -> 1751500
A38: (a) Stock on 31/12/2020 is valued at €90,000 Cost Price. The market value of this stock is €100,000.
A40: (b) Debtors include an amount of €5,000 since found to be bad. No entries have been made in the books for this.
A41: The Bad Debt Provision is to be changed to 5% of Debtors.
A42: (c) Advertising Prepaid €1,000.
A44: (d) Rent Due €600.
...

Sheet Notes
A1: Notes to the Financial Statements
A2: Note A | D2: Note B
A3: Cost Price | B3: 9000 | D3: Provision for doubtful debts beginning | E3: 4000
A4: Market Price | B4: 10000 | D4: Closing Debtors | E4: =75000 - 5000 -> 70000
A5: Revaluation Gain | B5: =B4-B3 -> 1000 | D5: Provision for doubtful debts end | E5: =5%*E4 -> 3500
D6: Provision for doubtful debts adjustment | E6: =E3-E5 -> 500
D7: Net Debtors | E7: =E4-E5 -> 66500
A9: Note C | D9: Note D
A10: Advertising | B10: 21250 | D10: Rent Paid | E10: =Sheet1!B29 -> 79900
A11: Prepaid Advertising | B11: 1000 | D11: Rent Due (Accrued) | E11: 600
A12: Advertising Expense | B12: =B10-B11 -> 20250 | D12: Rent Expense | E12: =SUM(E10:E11) -> 80500
A14: NOTE E | D14: Note F
A15: Debenture Interest Paid | B15: =Sheet1!B33 -> 6000 | D15: Investment Income | E15: =10%*Sheet1!B35 -> 8000
A16: Debenture Interest | B16: =12%*Sheet1!C24 -> 16800
A17: Debenture Interest Due | B17: =B16-B15 -> 10800
A19: NOTE G
A20: Premises at cost | B20: =Sheet1!B9 -> 540000
A21: Depreciation on Premises | B21: =2%*B20 -> 10800
A23: Vehicles at cost | B23: =Sheet1!B14 -> 100000
A24: Accumulated Depreciation on Vehicles | B24: =Sheet1!C15 -> 20000
A25: Net Vehicle Cost | B25: =B23-B24 -> 80000
A26: Depreciation on Vehicles | B26: =20%*B25 -> 16000
