Workbook

Sheet Table-1
A1: Vertical Analysis of 2018-2019
A2: CONSOLIDATED INCOME STATEMENTS
A3: (in thousands, except per share amounts)
A4: Results of operations for the year ended December 31,
B5: 2019 | D5: 2018
A6: Net sales | B6: 546076 | D6: 496038
A7: Cost of sales | B7: 446188 | C7: =B7/$B$6 -> 0.81708041 | D7: 437269 | E7: =D7/$D$6 -> 0.88152319
A8: Gross profit | B8: =+B6-B7 -> 99888 | C8: =B8/$B$6 -> 0.18291959 | D8: =+D6-D7 -> 58769 | E8: =D8/$D$6 -> 0.11847681
A9: Operating expenses:
A10: Research.development and eneineerine expenses | B10: 24932 | C10: =B10/$B$6 -> 0.045656649 | D10: 28601 | E10: =D10/$D$6 -> 0.057658889
A11: Selling,general and administrative expenses {includingIncremental financial reporting and government investigation expenses $15,100 | B11: 54114 | C11: =B11/$B$6 -> 0.099096097 | D11: 59631 | E11: =D11/$D$6 -> 0.12021458
A12: in2019 and $24 200in 2018)
A13: Asset impairment charges | B13: 1 | C13: =B13/$B$6 -> 1.8312469e-06 | D13: 2234 | E13: =D13/$D$6 -> 0.0045036872
A14: Amortization ofintangible assets | B14: 3638 | C14: =B14/$B$6 -> 0.0066620763 | D14: 5008 | E14: =D14/$D$6 -> 0.010096001
A15: Contingent consideration | C15: =B15/$B$6 -> 0
A17: Total operating expenses | B17: =SUM(B10:B16) -> 82685 | C17: =B17/$B$6 -> 0.15141665 | D17: =SUM(D10:D15) -> 95474 | E17: =D17/$D$6 -> 0.19247316
A18: Operating income (loss) | B18: =+B8-B17 -> 17203 | C18: =B18/$B$6 -> 0.031502941 | D18: =+D8-D17 -> -36705 | E18: =D18/$D$6 -> -0.073996347
A19: Other expense:
A20: Interest expense | B20: 7871 | C20: =B20/$B$6 -> 0.014413745 | D20: 7628 | E20: =D20/$D$6 -> 0.015377854
A21: Loss from change in value and exercise of warrants | B21: 1352 | C21: =B21/$B$6 -> 0.0024758459 | D21: 10400 | E21: =D21/$D$6 -> 0.020966136
A22: Loss on debt extinguishment and modifications
A23: Other income net | B23: -677 | C23: =B23/$B$6 -> -0.0012397542 | D23: -176 | E23: =D23/$D$6 -> -0.00035481153
A24: Total other expense | B24: =SUM(B20:B23) -> 8546 | C24: =B24/$B$6 -> 0.015649836 | D24: =SUM(D20:D23) -> 17852 | E24: =D24/$D$6 -> 0.035989178
A26: Income / loss before income taxes | B26: =B18-B24 -> 8657 | C26: =B26/$B$6 -> 0.015853105 | D26: =D18-D24 -> -54557 | E26: =D26/$D$6 -> -0.10998553
A27: Income tax expense | B27: 409 | C27: =B27/$B$6 -> 0.00074898 | D27: 169 | E27: =D27/$D$6 -> 0.0003406997
A29: Netincome (loss) | B29: =B26-B27 -> 8248 | C29: =B29/$B$6 -> 0.015104125 | D29: =D26-D27 -> -54726 | E29: =D29/$D$6 -> -0.11032623

Sheet Table-2
A1: Horizontal analysis
A2: CONSOLIDATED INCOME STATEMENTS
A3: (in thousands, except per share amounts)
A4: Results of operations for the year ended December 31,
E5: Increase or Decrease
B6: 2019 | D6: 2018 | E6: 2018-2019 | F6: 2018-2019
A7: Net sales | B7: 546076 | D7: 496038 | E7: =B7-D7 -> 50038 | F7: =(B7-D7)/D7 -> 0.10087534
A8: Cost of sales | B8: 446188 | D8: 437269 | E8: =B8-D8 -> 8919 | F8: =(B8-D8)/D8 -> 0.020397055
A9: Gross profit | B9: =+B7-B8 -> 99888 | D9: =+D7-D8 -> 58769 | E9: =B9-D9 -> 41119 | F9: =(B9-D9)/D9 -> 0.6996716
A10: Operating expenses:
A11: Research.development and eneineerine expenses | B11: 24932 | D11: 28601 | E11: =B11-D11 -> -3669 | F11: =(B11-D11)/D11 -> -0.12828223
A12: Selling,general and administrative expenses {includingIncremental financial reporting and government investigation expenses $15,100 | B12: 54114 | D12: 59631 | E12: =B12-D12 -> -5517 | F12: =(B12-D12)/D12 -> -0.092518992
A13: in2019 and $24 200in 2018)
A14: Asset impairment charges | B14: 1 | D14: 2234 | E14: =B14-D14 -> -2233 | F14: =(B14-D14)/D14 -> -0.99955237
A15: Amortization ofintangible assets | B15: 3638 | D15: 5008 | E15: =B15-D15 -> -1370 | F15: =(B15-D15)/D15 -> -0.2735623
A16: Contingent consideration
A18: Total operating expenses | B18: =SUM(B11:B17) -> 82685 | D18: =SUM(D11:D16) -> 95474 | E18: =B18-D18 -> -12789 | F18: =(B18-D18)/D18 -> -0.1339527
A19: Operating income (loss) | B19: =+B9-B18 -> 17203 | D19: =+D9-D18 -> -36705 | E19: =B19-D19 -> 53908 | F19: =(B19-D19)/D19 -> -1.4686827
A20: Other expense:
A21: Interest expense | B21: 7871 | D21: 7628 | E21: =B21-D21 -> 243 | F21: =(B21-D21)/D21 -> 0.031856319
A22: Loss from change in value and exercise of warrants | B22: 1352 | D22: 10400 | E22: =B22-D22 -> -9048 | F22: =(B22-D22)/D22 -> -0.87
A23: Loss on debt extinguishment and modifications
A24: Other income net | B24: -677 | D24: -176 | E24: =B24-D24 -> -501 | F24: =(B24-D24)/D24 -> 2.8465909
A25: Total other expense | B25: =SUM(B21:B24) -> 8546 | D25: =SUM(D21:D24) -> 17852 | E25: =B25-D25 -> -9306 | F25: =(B25-D25)/D25 -> -0.52128613
A27: Income / loss before income taxes | B27: =B19-B25 -> 8657 | D27: =D19-D25 -> -54557 | E27: =B27-D27 -> 63214 | F27: =(B27-D27)/D27 -> -1.1586781
A28: Income tax expense | B28: 409 | D28: 169 | E28: =B28-D28 -> 240 | F28: =(B28-D28)/D28 -> 1.4201183
A30: Netincome (loss) | B30: =B27-B28 -> 8248 | D30: =D27-D28 -> -54726 | E30: =B30-D30 -> 62974 | F30: =(B30-D30)/D30 -> -1.1507145

Sheet Table-3
A1: Horizontal Analysis
A2: CONSOLIDATED BALANCE SHEETS
A3: (in thousands,except par values)
A4: As of December 31, ASSETS
B5: 2019 | C5: 2018 | D5: 2018-2019 | E5: 2018-2019
A6: Current assets: | D6: Amount | E6: %
A7: Cash and cash equivalents | B7: 3 | C7: 54 | D7: =B7-C7 -> -51
A8: Accounts receivable,net of allowances of $3,561 and $2,596 | B8: 104515 | C8: 86471 | D8: =B8-C8 -> 18044 | E8: =D8/C8 -> 0.20867112
A9: Income tax receivable | B9: 1055 | C9: 973 | D9: =B9-C9 -> 82 | E9: =D9/C9 -> 0.084275437
A10: Inventories,net | B10: 108839 | C10: 105614 | D10: =B10-C10 -> 3225 | E10: =D10/C10 -> 0.030535724
A11: Prepaid expenses and other current assets | B11: 8110 | C11: 22917 | D11: =B11-C11 -> -14807 | E11: =D11/C11 -> -0.64611424
A12: Deferred income taxes
A13: Total current assets | B13: =SUM(B7:B12) -> 222522 | C13: =SUM(C7:C12) -> 216029 | D13: =B13-C13 -> 6493 | E13: =D13/C13 -> 0.03005615
A15: Property, plant and equipment, net | B15: 23194 | C15: 24266 | D15: =B15-C15 -> -1072 | E15: =D15/C15 -> -0.044177038
A16: Intangible assets,net | B16: 13372 | C16: 17010 | D16: =B16-C16 -> -3638 | E16: =D16/C16 -> -0.21387419
A17: Goodwill | B17: 29835 | C17: 29835 | D17: =B17-C17 -> 0 | E17: =D17/C17 -> 0
A18: Other noncurrent assets | B18: 24749 | C18: 2742 | D18: =B18-C18 -> 22007 | E18: =D18/C18 -> 8.0258935
A19: Fixed Assets | B19: =SUM(B15:B18) -> 91150 | C19: =SUM(C15:C18) -> 73853 | D19: =B19-C19 -> 17297 | E19: =D19/C19 -> 0.2342085
A21: TOTAL ASSETS | B21: =+B19+B13 -> 313672 | C21: =+C19+C13 -> 289882 | D21: =B21-C21 -> 23790 | E21: =D21/C21 -> 0.082067876
A23: LIABILITIES AND STOCKHOLDERS' EQUITY (DEFICIT)
A24: Current liabilities:
A25: Accounts payable | B25: 75835 | C25: 85218 | D25: =B25-C25 -> -9383 | E25: =D25/C25 -> -0.11010585
A26: Current maturities of long-term debt | B26: 195 | C26: 80 | D26: =B26-C26 -> 115 | E26: =D26/C26 -> 1.4375
A27: Revolving line of credit | B27: 39527 | C27: 54613 | D27: =B27-C27 -> -15086 | E27: =D27/C27 -> -0.2762346
A28: Warrant liability | C28: 35100 | D28: =B28-C28 -> -35100 | E28: =D28/C28 -> -1
A29: Other accrued liabilities | B29: 66030 | C29: 45700 | D29: =B29-C29 -> 20330 | E29: =D29/C29 -> 0.44485777
A30: Total current liabilities | B30: =SUM(B25:B29) -> 181587 | C30: =SUM(C25:C29) -> 220711 | D30: =B30-C30 -> -39124 | E30: =D30/C30 -> -0.17726348
A32: Deferred income taxes | B32: 1105 | C32: 647 | D32: =B32-C32 -> 458 | E32: =D32/C32 -> 0.70788253
A33: Long-term debt, net of current maturities | B33: 55657 | C33: 55088 | D33: =B33-C33 -> 569 | E33: =D33/C33 -> 0.010328928
A34: Noncurrent contract liabilities | B34: 17998 | C34: 14611 | D34: =B34-C34 -> 3387 | E34: =D34/C34 -> 0.23181165
A35: Other noncurrent liabilities | B35: 28828 | C35: 17403 | D35: =B35-C35 -> 11425 | E35: =D35/C35 -> 0.65649601
A36: Long Term Liablities | B36: =SUM(B32:B35) -> 103588 | C36: =SUM(C32:C35) -> 87749 | D36: =B36-C36 -> 15839 | E36: =D36/C36 -> 0.18050348
A38: TOTAL LIABILITIES | B38: =+B36+B30 -> 285175 | C38: =C36+C30 -> 308460 | D38: =B38-C38 -> -23285 | E38: =D38/C38 -> -0.075487908
A39: STOCKHOLDERS' EQUITY (DEFICIT)
A40: Preferred stock -$0.001 par value. Shares author ized: 5,000.
A41: Common stock - $0.001 par value;S0,000 shares authorized; | B41: 23 | C41: 19 | D41: =B41-C41 -> 4 | E41: =D41/C41 -> 0.21052632
A42: Additional paid-in capital | B42: 165527 | C42: 126412 | D42: =B42-C42 -> 39115 | E42: =D42/C42 -> 0.30942474
A43: Accumulated deficit | B43: -126912 | C43: -135160 | D43: =B43-C43 -> 8248 | E43: =D43/C43 -> -0.061023972
A44: Treasury stock, at cost,260 and 429 shares at December 31, | B44: -10141 | C44: -9849 | D44: =B44-C44 -> -292 | E44: =D44/C44 -> 0.02964768
A45: TOTAL STOCKHOLDERS' EQUITY (DEFICIT) | B45: =SUM(B41:B44) -> 28497 | C45: =SUM(C41:C44) -> -18578 | D45: =B45-C45 -> 47075 | E45: =D45/C45 -> -2.5339111
...

Sheet Table-4
A1: Vertical Analysis
A2: CONSOLIDATED BALANCE SHEETS
A3: (in thousands,except par values)
A4: As of December 31, ASSETS
B5: 2019 | C5: 2019 | D5: 2018 | E5: 2018
A6: Current assets: | E6: Amount
A7: Cash and cash equivalents | B7: 3 | C7: =B7/$B$21 -> 9.5641307e-06 | D7: 54 | E7: =D7/$D$21 -> 0.00018628269
A8: Accounts receivable,net of allowances of $3,561 and $2,596 | B8: 104515 | C8: =B8/$B$21 -> 0.33319837 | D8: 86471 | E8: =D8/$D$21 -> 0.29829724
A9: Income tax receivable | B9: 1055 | C9: =B9/$B$21 -> 0.003363386 | D9: 973 | E9: =D9/$D$21 -> 0.0033565382
A10: Inventories,net | B10: 108839 | C10: =B10/$B$21 -> 0.34698347 | D10: 105614 | E10: =D10/$D$21 -> 0.36433445
A11: Prepaid expenses and other current assets | B11: 8110 | C11: =B11/$B$21 -> 0.025855033 | D11: 22917 | E11: =D11/$D$21 -> 0.079056306
A12: Deferred income taxes
A13: Total current assets | B13: =SUM(B7:B12) -> 222522 | C13: =B13/$B$21 -> 0.70940983 | D13: =SUM(D7:D12) -> 216029 | E13: =D13/$D$21 -> 0.74523082
A15: Property, plant and equipment, net | B15: 23194 | C15: =B15/$B$21 -> 0.073943482 | D15: 24266 | E15: =D15/$D$21 -> 0.083709923
A16: Intangible assets,net | B16: 13372 | C16: =B16/$B$21 -> 0.042630519 | D16: 17010 | E16: =D16/$D$21 -> 0.058679049
A17: Goodwill | B17: 29835 | C17: =B17/$B$21 -> 0.09511528 | D17: 29835 | E17: =D17/$D$21 -> 0.10292119
A18: Other noncurrent assets | B18: 24749 | C18: =B18/$B$21 -> 0.07890089 | D18: 2742 | E18: =D18/$D$21 -> 0.0094590213
A19: Fixed Assets | B19: =SUM(B15:B18) -> 91150 | C19: =B19/$B$21 -> 0.29059017 | D19: =SUM(D15:D18) -> 73853 | E19: =D19/$D$21 -> 0.25476918
A21: TOTAL ASSETS | B21: =+B19+B13 -> 313672 | C21: =B21/$B$21 -> 1 | D21: =+D19+D13 -> 289882 | E21: =D21/$D$21 -> 1
A23: LIABILITIES AND STOCKHOLDERS' EQUITY (DEFICIT)
A24: Current liabilities:
A25: Accounts payable | B25: 75835 | C25: =B25/$B$47 -> 0.24176528 | D25: 85218 | E25: =D25/$D$47 -> 0.29397479
A26: Current maturities of long-term debt | B26: 195 | C26: =B26/$B$47 -> 0.00062166849 | D26: 80 | E26: =D26/$D$47 -> 0.00027597436
A27: Revolving line of credit | B27: 39527 | C27: =B27/$B$47 -> 0.1260138 | D27: 54613 | E27: =D27/$D$47 -> 0.18839735
A28: Warrant liability | D28: 35100 | E28: =D28/$D$47 -> 0.12108375
A29: Other accrued liabilities | B29: 66030 | C29: =B29/$B$47 -> 0.21050652 | D29: 45700 | E29: =D29/$D$47 -> 0.15765035
A30: Total current liabilities | B30: =SUM(B25:B29) -> 181587 | C30: =B30/$B$47 -> 0.57890727 | D30: =SUM(D25:D29) -> 220711 | E30: =D30/$D$47 -> 0.76138222
A32: Deferred income taxes | B32: 1105 | C32: =B32/$B$47 -> 0.0035227881 | D32: 647 | E32: =D32/$D$47 -> 0.0022319427
A33: Long-term debt, net of current maturities | B33: 55657 | C33: =B33/$B$47 -> 0.17743694 | D33: 55088 | E33: =D33/$D$47 -> 0.19003595
A34: Noncurrent contract liabilities | B34: 17998 | C34: =B34/$B$47 -> 0.057378408 | D34: 14611 | E34: =D34/$D$47 -> 0.050403268
A35: Other noncurrent liabilities | B35: 28828 | C35: =B35/$B$47 -> 0.09190492 | D35: 17403 | E35: =D35/$D$47 -> 0.060034773
A36: Long Term Liablities | B36: =SUM(B32:B35) -> 103588 | C36: =B36/$B$47 -> 0.33024306 | D36: =SUM(D32:D35) -> 87749 | E36: =D36/$D$47 -> 0.30270593
A38: TOTAL LIABILITIES | B38: =+B36+B30 -> 285175 | D38: =D36+D30 -> 308460 | E38: =D38/$D$47 -> 1.0640881
A39: STOCKHOLDERS' EQUITY (DEFICIT)
A40: Preferred stock -$0.001 par value. Shares author ized: 5,000.
A41: Common stock - $0.001 par value;S0,000 shares authorized; | B41: 23 | C41: =B41/$B$47 -> 7.3325002e-05 | D41: 19 | E41: =D41/$D$47 -> 6.5543911e-05
A42: Additional paid-in capital | B42: 165527 | C42: =B42/$B$47 -> 0.52770729 | D42: 126412 | E42: =D42/$D$47 -> 0.43608089
A43: Accumulated deficit | B43: -126912 | C43: =B43/$B$47 -> -0.40460098 | D43: -135160 | E43: =D43/$D$47 -> -0.46625868
A44: Treasury stock, at cost,260 and 429 shares at December 31, | B44: -10141 | C44: =B44/$B$47 -> -0.03232995 | D44: -9849 | E44: =D44/$D$47 -> -0.033975894
A45: TOTAL STOCKHOLDERS' EQUITY (DEFICIT) | B45: =SUM(B41:B44) -> 28497 | C45: =B45/$B$47 -> 0.090849677 | D45: =SUM(D41:D44) -> -18578 | E45: =D45/$D$47 -> -0.064088146
...

Sheet Table-5
A1: Cash Flow Analysis
A2: CONSOLIDATEDSTATEMENTS OF CASH FLOWS
A3: (in thousands)
A4: cash provided by (used in) operating activities
A5: For the Year Ended December 31,
B6: 2019 | C6: 2018 | D6: 2018-2019
D7: Amount | E7: %
A8: Net income (loss) | B8: 8248 | C8: -54726 | D8: =B8-C8 -> 62974 | E8: =D8/C8 -> -1.1507145
A9: Adjustments to reconcile net income (loss) to net cash provided by (used in) operating | D9: =B9-C9 -> 0
A10: Amortization of Intangible assets | B10: 3638 | C10: 5008 | D10: =B10-C10 -> -1370 | E10: =D10/C10 -> -0.2735623
A11: Depreciation | B11: 5161 | C11: 5196 | D11: =B11-C11 -> -35 | E11: =D11/C11 -> -0.0067359507
A12: Changein value and exercise of warrants | B12: 1352 | C12: 10400 | D12: =B12-C12 -> -9048 | E12: =D12/C12 -> -0.87
A13: Stock-based compensation expense | B13: 1248 | C13: 2663 | D13: =B13-C13 -> -1415 | E13: =D13/C13 -> -0.53135561
A14: Amortization of financing fees | B14: 698 | C14: 1497 | D14: =B14-C14 -> -799 | E14: =D14/C14 -> -0.53373413
A15: Deferred income taxes | B15: 457 | C15: -56 | D15: =B15-C15 -> 513 | E15: =D15/C15 -> -9.1607143
A16: Asset impairment charges | B16: 1 | C16: 2234 | D16: =B16-C16 -> -2233 | E16: =D16/C16 -> -0.99955237
A17: Other non-cash adjustments,net | B17: 276 | C17: 2085 | D17: =B17-C17 -> -1809 | E17: =D17/C17 -> -0.8676259
A18: Changes in operating assets and liabilities
A19: Accounts receivable,net | B19: -18095 | C19: -17890 | D19: =B19-C19 -> -205 | E19: =D19/C19 -> 0.011458916
A20: Inventory, net | B20: -3977 | C20: -26202 | D20: =B20-C20 -> 22225 | E20: =D20/C20 -> -0.84821769
A21: Prepaid expenses and other assets | B21: 17125 | C21: -761 | D21: =B21-C21 -> 17886 | E21: =D21/C21 -> -23.503285
A22: Accounts Payable | B22: -9494 | C22: 33968 | D22: =B22-C22 -> -43462 | E22: =D22/C22 -> -1.2794984
A23: Accrued expenses | B23: 13948 | C23: 11630 | D23: =B23-C23 -> 2318 | E23: =D23/C23 -> 0.19931212
A24: Other noncurrent liabilities | B24: -2429 | C24: 18786 | D24: =B24-C24 -> -21215 | E24: =D24/C24 -> -1.1292984
A25: Net cash provided by (used in) operatingactivities | B25: 18157 | C25: -6168 | D25: =B25-C25 -> 24325 | E25: =D25/C25 -> -3.9437419
A26: cash used ininvesting activities
A27: Capital expenditures | B27: -3681 | C27: -3645 | D27: =B27-C27 -> -36 | E27: =D27/C27 -> 0.0098765432
A28: Asset acquisitions | B28: 0 | C28: -6595 | D28: =B28-C28 -> 6595 | E28: =D28/C28 -> -1
A29: Other investing activities,net | B29: 23 | C29: 1 | D29: =B29-C29 -> 22 | E29: =D29/C29 -> 22
A30: Net cash used in investing activities | B30: -3658 | C30: -10239 | D30: =B30-C30 -> 6581 | E30: =D30/C30 -> -0.64273855
A31: cash (used in) provided by financing activities Proceeds from revolving line of credit
A32: Proceeds from revolving Line of Credit | B32: 544146 | C32: 516440 | D32: =B32-C32 -> 27706 | E32: =D32/C32 -> 0.053648052
A33: Repayments of revolvinRline of credit | B33: 559232 | C33: -498881 | D33: =B33-C33 -> 1058113 | E33: =D33/C33 -> -2.1209727
A34: Proceeds from warrant exercise | B34: 1616 | C34: 0 | D34: =B34-C34 -> 1616
A35: Other financing activities, net | B35: -1080 | C35: -1098 | D35: =B35-C35 -> 18 | E35: =D35/C35 -> -0.016393443
A36: Net cash (usedin) provided by financing activities | B36: -14550 | C36: 16461 | D36: =B36-C36 -> -31011 | E36: =D36/C36 -> -1.8839074
A37: Net (decrease) increase in cash and restricted cash Cash and restricted | B37: -51 | C37: 54 | D37: =B37-C37 -> -105 | E37: =D37/C37 -> -1.9444444
A38: cash at beginning of the year | B38: 54 | C38: 0 | D38: =B38-C38 -> 54
A39: cash and restricted cash at end of the year | B39: 3 | C39: 54 | D39: =B39-C39 -> -51 | E39: =D39/C39 -> -0.94444444

Sheet Table-6
A1: Appendix B
A2: CONSOLIDATED BALANCE SHEETS
A3: (in thousands,except par values)
A4: As of December 31, ASSETS
B5: 2019 | C5: 2018
A6: Current assets:
A7: Cash and cash equivalents | B7: 3 | C7: 54
A8: Accounts receivable,net of allowances of $3,561 and $2,596 | B8: 104515 | C8: 86471
A9: Income tax receivable | B9: 1055 | C9: 973
A10: Inventories,net | B10: 108839 | C10: 105614
A11: Prepaid expenses and other current assets | B11: 8110 | C11: 22917
A12: Deferred income taxes
A13: Total current assets | B13: =SUM(B7:B12) -> 222522 | C13: =SUM(C7:C12) -> 216029
A15: Property, plant and equipment, net | B15: 23194 | C15: 24266
A16: Intangible assets,net | B16: 13372 | C16: 17010
A17: Goodwill | B17: 29835 | C17: 29835
A18: Other noncurrent assets | B18: 24749 | C18: 2742
A19: Fixed Assets | B19: =SUM(B15:B18) -> 91150 | C19: =SUM(C15:C18) -> 73853
A21: TOTAL ASSETS | B21: =+B19+B13 -> 313672 | C21: =+C19+C13 -> 289882
A23: LIABILITIES AND STOCKHOLDERS' EQUITY (DEFICIT)
A24: Current liabilities:
A25: Accounts payable | B25: 75835 | C25: 85218
A26: Current maturities of long-term debt | B26: 195 | C26: 80
A27: Revolving line of credit | B27: 39527 | C27: 54613
A28: Warrant liability | C28: 35100
A29: Other accrued liabilities | B29: 66030 | C29: 45700
A30: Total current liabilities | B30: =SUM(B25:B29) -> 181587 | C30: =SUM(C25:C29) -> 220711
A32: Deferred income taxes | B32: 1105 | C32: 647
A33: Long-term debt, net of current maturities | B33: 55657 | C33: 55088
A34: Noncurrent contract liabilities | B34: 17998 | C34: 14611
A35: Other noncurrent liabilities | B35: 28828 | C35: 17403
A36: Long Term Liablities | B36: =SUM(B32:B35) -> 103588 | C36: =SUM(C32:C35) -> 87749
A38: TOTAL LIABILITIES | B38: =+B36+B30 -> 285175 | C38: =C36+C30 -> 308460
A39: STOCKHOLDERS' EQUITY (DEFICIT)
A40: Preferred stock -$0.001 par value. Shares author ized: 5,000.
A41: Common stock - $0.001 par value;S0,000 shares authorized; | B41: 23 | C41: 19
A42: Additional paid-in capital | B42: 165527 | C42: 126412
A43: Accumulated deficit | B43: -126912 | C43: -135160
A44: Treasury stock, at cost,260 and 429 shares at December 31, | B44: -10141 | C44: -9849
A45: TOTAL STOCKHOLDERS' EQUITY (DEFICIT) | B45: =SUM(B41:B44) -> 28497 | C45: =SUM(C41:C44) -> -18578
...
