Workbook

Sheet Intro
A19: STEPS:
A20: 1) enter financial data on the Financial Statements sheet,
A21: 2) examine the Ratio Analysis and Cash Flow Analysis,
A22: 3) enter forecasts on the Forecasting Assumptions sheet to predict future the Financial Statements,
A23: 4) enter cost of capital assumptions on the Valuation Parameters Sheet to determine the company's value,
A24: 5) evaluate the details of the resulting valuation using either residual income or cash flow valuation models.
A26: Other Useful Links: | C26: Where to buy the latest 'Equity Valuation and Analysis' textbook
C27: Check here for updated versions of eVal
C28: Cases to accompany the textbook

Sheet Financial Statements
A1: Financial Statements | B1: ($000s) | C1: Data can be entered manually in financial statements or as a block cut-and-paste from the Case Data Sheet to the Raw Data Input section below.
C3: Jump to Raw Data Input
A4: Company Name and Ticker | B4: =B82 -> KOHL'S CORP | D4: =D82 -> KSS | E4: =IF(D4="", "",HYPERLINK(CONCATENATE("http://www.sec.gov/cgi-bin/browse-edgar?type=10-K&action=getcompany&CIK=",D4),"Link to Form 10-Ks")) -> Link to Form 10-Ks
A5: Common Shares Outstanding | B5: =B83 -> 307000 | C5: (in 000s at most recent fiscal year end)
A6: ="Estimated Price/Share="&DOLLAR('Valuation Parameters'!B24) -> Estimated Price/Share=$78.20
B7: Actual | C7: Actual | D7: Actual | E7: Actual | F7: Actual | G7: Forecast | H7: Forecast | I7: Forecast | J7: Forecast | K7: Forecast | L7: Forecast | M7: Forecast | N7: Forecast | O7: Forecast | P7: Forecast | Q7: Forecast | R7: Forecast
A8: Fiscal Year End (YYYY-MM-DD) | B8: =B84 -> 37286 | C8: =C84 -> 37651 | D8: =D84 -> 38016 | E8: =E84 -> 38382 | F8: =F84 -> 38747 | G8: =DATE(YEAR(F8)+1,MONTH(F8),DAY(F8)) -> 39112 | H8: =DATE(YEAR(G8)+1,MONTH(G8),DAY(G8)) -> 39477 | I8: =DATE(YEAR(H8)+1,MONTH(H8),DAY(H8)) -> 39843 | J8: =DATE(YEAR(I8)+1,MONTH(I8),DAY(I8)) -> 40208 | K8: =DATE(YEAR(J8)+1,MONTH(J8),DAY(J8)) -> 40573 | L8: =DATE(YEAR(K8)+1,MONTH(K8),DAY(K8)) -> 40938 | M8: =DATE(YEAR(L8)+1,MONTH(L8),DAY(L8)) -> 41304 | N8: =DATE(YEAR(M8)+1,MONTH(M8),DAY(M8)) -> 41669 | ... R8: =DATE(YEAR(Q8)+1,MONTH(Q8),DAY(Q8)) -> 43130
A10: Income Statement
A12: Sales (Net) | B12: =B85 -> 13402217 | C12: =C85 -> 15544184 | D12: =D85 -> 16473734 | E12: =E85 -> 16389000 | F12: =F85 -> 17178000 | G12: =F12*(1+'Forecasting Assumptions'!G14) -> 17976653 | H12: =G12*(1+'Forecasting Assumptions'!H14) -> 18782789 | I12: =H12*(1+'Forecasting Assumptions'!I14) -> 19594097 | J12: =I12*(1+'Forecasting Assumptions'!J14) -> 20408132 | K12: =J12*(1+'Forecasting Assumptions'!K14) -> 21222328 | L12: =K12*(1+'Forecasting Assumptions'!L14) -> 22034005 | M12: =L12*(1+'Forecasting Assumptions'!M14) -> 22840386 | N12: =M12*(1+'Forecasting Assumptions'!N14) -> 23638608 | ... R12: =Q12*(1+'Forecasting Assumptions'!R14) -> 26733403
A13: Cost of Goods Sold | B13: =B86 -> -8670484 | C13: =C86 -> -9890513 | D13: =D86 -> -10459549 | E13: =E86 -> -10334000 | F13: =F86 -> -10680000 | G13: =-G12*'Forecasting Assumptions'!G15 -> -11176543 | H13: =-H12*'Forecasting Assumptions'!H15 -> -11677738 | I13: =-I12*'Forecasting Assumptions'!I15 -> -12182149 | J13: =-J12*'Forecasting Assumptions'!J15 -> -12688255 | K13: =-K12*'Forecasting Assumptions'!K15 -> -13194462 | L13: =-L12*'Forecasting Assumptions'!L15 -> -13699102 | M13: =-M12*'Forecasting Assumptions'!M15 -> -14200450 | N13: =-N12*'Forecasting Assumptions'!N15 -> -14696725 | ... R13: =-R12*'Forecasting Assumptions'!R15 -> -16620838
A14: Gross Profit | B14: =B12+B13 -> 4731733 | C14: =C12+C13 -> 5653671 | D14: =D12+D13 -> 6014185 | E14: =E12+E13 -> 6055000 | F14: =F12+F13 -> 6498000 | G14: =G12+G13 -> 6800110 | H14: =H12+H13 -> 7105050.7 | I14: =I12+I13 -> 7411947.8 | ... R14: =R12+R13 -> 10112566
A15: R&D Expense | B15: =B87 -> 0 | C15: =C87 -> 0 | D15: =D87 -> 0 | E15: =E87 -> 0 | F15: =F87 -> 0 | G15: =-G12*'Forecasting Assumptions'!G16 -> 0 | H15: =-H12*'Forecasting Assumptions'!H16 -> 0 | I15: =-I12*'Forecasting Assumptions'!I16 -> 0 | J15: =-J12*'Forecasting Assumptions'!J16 -> 0 | K15: =-K12*'Forecasting Assumptions'!K16 -> 0 | L15: =-L12*'Forecasting Assumptions'!L16 -> 0 | M15: =-M12*'Forecasting Assumptions'!M16 -> 0 | N15: =-N12*'Forecasting Assumptions'!N16 -> 0 | ... R15: =-R12*'Forecasting Assumptions'!R16 -> 0
A16: SG&A Expense | B16: =B88 -> -3007842 | C16: =C88 -> -3451196 | D16: =D88 -> -3757563 | E16: =E88 -> -3978000 | F16: =F88 -> -4196000 | G16: =-G12*'Forecasting Assumptions'!G17 -> -4391083.7 | H16: =-H12*'Forecasting Assumptions'!H17 -> -4587995.2 | I16: =-I12*'Forecasting Assumptions'!I17 -> -4786170 | J16: =-J12*'Forecasting Assumptions'!J17 -> -4985011.2 | K16: =-K12*'Forecasting Assumptions'!K17 -> -5183891.5 | L16: =-L12*'Forecasting Assumptions'!L17 -> -5382156.6 | M16: =-M12*'Forecasting Assumptions'!M17 -> -5579128 | N16: =-N12*'Forecasting Assumptions'!N17 -> -5774106.4 | ... R16: =-R12*'Forecasting Assumptions'!R17 -> -6530059.4
A17: EBITDA | B17: =B14+B15+B16 -> 1723891 | C17: =C14+C15+C16 -> 2202475 | D17: =D14+D15+D16 -> 2256622 | E17: =E14+E15+E16 -> 2077000 | F17: =F14+F15+F16 -> 2302000 | G17: =G14+G15+G16 -> 2409026.4 | H17: =H14+H15+H16 -> 2517055.5 | I17: =I14+I15+I16 -> 2625777.7 | ... R17: =R14+R15+R16 -> 3582506.4
A18: Depreciation & Amortization | B18: =B89 -> -307710 | C18: =C89 -> -387674 | D18: =D89 -> -452145 | E18: =E89 -> -541000 | F18: =F89 -> -590000 | G18: =-((F38+G38+F40+G40)/2)*'Forecasting Assumptions'!G18 -> -604887.96 | H18: =-((G38+H38+G40+H40)/2)*'Forecasting Assumptions'!H18 -> -632500.73 | I18: =-((H38+I38+H40+I40)/2)*'Forecasting Assumptions'!I18 -> -660331.24 | J18: =-((I38+J38+I40+J40)/2)*'Forecasting Assumptions'!J18 -> -688297.69 | K18: =-((J38+K38+J40+K40)/2)*'Forecasting Assumptions'!K18 -> -716313.83 | L18: =-((K38+L38+K40+L40)/2)*'Forecasting Assumptions'!L18 -> -744289.39 | M18: =-((L38+M38+L40+M40)/2)*'Forecasting Assumptions'!M18 -> -772130.48 | N18: =-((M38+N38+M40+N40)/2)*'Forecasting Assumptions'!N18 -> -799740.05 | ... R18: =-((Q38+R38+Q40+R40)/2)*'Forecasting Assumptions'!R18 -> -906578.02
A19: EBIT | B19: =B17+B18 -> 1416181 | C19: =C17+C18 -> 1814801 | D19: =D17+D18 -> 1804477 | E19: =E17+E18 -> 1536000 | F19: =F17+F18 -> 1712000 | G19: =G17+G18 -> 1804138.4 | H19: =H17+H18 -> 1884554.8 | I19: =I17+I18 -> 1965446.5 | ... R19: =R17+R18 -> 2675928.3
A20: Net Interest Expense | B20: =B90 -> -79383 | C20: =C90 -> -74427 | D20: =D90 -> -98712 | E20: =E90 -> -140000 | F20: =F90 -> -134000 | G20: =-((F44+G44+F49+G49)/2)*'Forecasting Assumptions'!G19 -> -137048.74 | H20: =-((G44+H44+G49+H49)/2)*'Forecasting Assumptions'!H19 -> -143304.94 | I20: =-((H44+I44+H49+I49)/2)*'Forecasting Assumptions'!I19 -> -149610.46 | J20: =-((I44+J44+I49+J49)/2)*'Forecasting Assumptions'!J19 -> -155946.79 | K20: =-((J44+K44+J49+K49)/2)*'Forecasting Assumptions'!K19 -> -162294.37 | L20: =-((K44+L44+K49+L49)/2)*'Forecasting Assumptions'!L19 -> -168632.76 | M20: =-((L44+M44+L49+M49)/2)*'Forecasting Assumptions'!M19 -> -174940.68 | N20: =-((M44+N44+M49+N49)/2)*'Forecasting Assumptions'!N19 -> -181196.15 | ... R20: =-((Q44+R44+Q49+R49)/2)*'Forecasting Assumptions'!R19 -> -205402.3
A21: Non-Operating Income (Loss) | B21: =B91 -> 8992 | C21: =C91 -> 34071 | D21: =D91 -> 36296 | E21: =E91 -> 29000 | F21: =F91 -> 10000 | G21: =G12*'Forecasting Assumptions'!G20 -> 10464.928 | H21: =H12*'Forecasting Assumptions'!H20 -> 10934.212 | I21: =I12*'Forecasting Assumptions'!I20 -> 11406.506 | J21: =J12*'Forecasting Assumptions'!J20 -> 11880.389 | K21: =K12*'Forecasting Assumptions'!K20 -> 12354.365 | L21: =L12*'Forecasting Assumptions'!L20 -> 12826.875 | M21: =M12*'Forecasting Assumptions'!M20 -> 13296.301 | N21: =N12*'Forecasting Assumptions'!N20 -> 13760.978 | ... R21: =R12*'Forecasting Assumptions'!R20 -> 15562.582
A22: EBT | B22: =B19+B20+B21 -> 1345790 | C22: =C19+C20+C21 -> 1774445 | D22: =D19+D20+D21 -> 1742061 | E22: =E19+E20+E21 -> 1425000 | F22: =F19+F20+F21 -> 1588000 | G22: =G19+G20+G21 -> 1677554.6 | H22: =H19+H20+H21 -> 1752184.1 | I22: =I19+I20+I21 -> 1827242.5 | ... R22: =R19+R20+R21 -> 2486088.6
A23: Income Taxes | B23: =B92 -> -503830 | C23: =C92 -> -665764 | D23: =D92 -> -658210 | E23: =E92 -> -540000 | F23: =F92 -> -597000 | G23: =-G22*'Forecasting Assumptions'!G21 -> -630667.56 | H23: =-H22*'Forecasting Assumptions'!H21 -> -658724.11 | I23: =-I22*'Forecasting Assumptions'!I21 -> -686941.94 | J23: =-J22*'Forecasting Assumptions'!J21 -> -715235.11 | K23: =-K22*'Forecasting Assumptions'!K21 -> -743513.49 | L23: =-L22*'Forecasting Assumptions'!L21 -> -771683.13 | M23: =-M22*'Forecasting Assumptions'!M21 -> -799646.79 | N23: =-N22*'Forecasting Assumptions'!N21 -> -827304.38 | ... R23: =-R22*'Forecasting Assumptions'!R21 -> -934631.55
A24: Other Income (Loss) | B24: =B94 -> 0 | C24: =C94 -> 0 | D24: =D94 -> 0 | E24: =E94 -> 0 | F24: =F94 -> 0 | G24: =G12*'Forecasting Assumptions'!G23 -> 0 | H24: =H12*'Forecasting Assumptions'!H23 -> 0 | I24: =I12*'Forecasting Assumptions'!I23 -> 0 | J24: =J12*'Forecasting Assumptions'!J23 -> 0 | K24: =K12*'Forecasting Assumptions'!K23 -> 0 | L24: =L12*'Forecasting Assumptions'!L23 -> 0 | M24: =M12*'Forecasting Assumptions'!M23 -> 0 | N24: =N12*'Forecasting Assumptions'!N23 -> 0 | ... R24: =R12*'Forecasting Assumptions'!R23 -> 0
A25: Net Income Before Ext. Items | B25: =B22+B23+B24 -> 841960 | C25: =C22+C23+C24 -> 1108681 | D25: =D22+D23+D24 -> 1083851 | E25: =E22+E23+E24 -> 885000 | F25: =F22+F23+F24 -> 991000 | G25: =G22+G23+G24 -> 1046887 | H25: =H22+H23+H24 -> 1093460 | I25: =I22+I23+I24 -> 1140300.6 | ... R25: =R22+R23+R24 -> 1551457.1
A26: Ext. Items & Disc. Ops. | B26: =B95 -> 0 | C26: =C95 -> 0 | D26: =D95 -> 0 | E26: =E95 -> 0 | F26: =F95 -> 0 | G26: =G12*'Forecasting Assumptions'!G24 -> 0 | H26: =H12*'Forecasting Assumptions'!H24 -> 0 | I26: =I12*'Forecasting Assumptions'!I24 -> 0 | J26: =J12*'Forecasting Assumptions'!J24 -> 0 | K26: =K12*'Forecasting Assumptions'!K24 -> 0 | L26: =L12*'Forecasting Assumptions'!L24 -> 0 | M26: =M12*'Forecasting Assumptions'!M24 -> 0 | N26: =N12*'Forecasting Assumptions'!N24 -> 0 | ... R26: =R12*'Forecasting Assumptions'!R24 -> 0
A27: Minority Interest in Earnings | B27: =B93 -> 0 | C27: =C93 -> 0 | D27: =D93 -> 0 | E27: =E93 -> 0 | F27: =F93 -> 0 | G27: =-(G22+G23)*'Forecasting Assumptions'!G22 -> 0 | H27: =-(H22+H23)*'Forecasting Assumptions'!H22 -> 0 | I27: =-(I22+I23)*'Forecasting Assumptions'!I22 -> 0 | J27: =-(J22+J23)*'Forecasting Assumptions'!J22 -> 0 | K27: =-(K22+K23)*'Forecasting Assumptions'!K22 -> 0 | L27: =-(L22+L23)*'Forecasting Assumptions'!L22 -> 0 | M27: =-(M22+M23)*'Forecasting Assumptions'!M22 -> 0 | N27: =-(N22+N23)*'Forecasting Assumptions'!N22 -> 0 | ... R27: =-(R22+R23)*'Forecasting Assumptions'!R22 -> 0
A28: Preferred Dividends | B28: =B96 -> 0 | C28: =C96 -> 0 | D28: =D96 -> 0 | E28: =E96 -> 0 | F28: =F96 -> 0 | G28: =-((G54+F54)/2)*'Forecasting Assumptions'!G25 -> 0 | H28: =-((H54+G54)/2)*'Forecasting Assumptions'!H25 -> 0 | I28: =-((I54+H54)/2)*'Forecasting Assumptions'!I25 -> 0 | J28: =-((J54+I54)/2)*'Forecasting Assumptions'!J25 -> 0 | K28: =-((K54+J54)/2)*'Forecasting Assumptions'!K25 -> 0 | L28: =-((L54+K54)/2)*'Forecasting Assumptions'!L25 -> 0 | M28: =-((M54+L54)/2)*'Forecasting Assumptions'!M25 -> 0 | N28: =-((N54+M54)/2)*'Forecasting Assumptions'!N25 -> 0 | ... R28: =-((R54+Q54)/2)*'Forecasting Assumptions'!R25 -> 0
A29: Net Income (available to common) | B29: =B25+B26+B27+B28 -> 841960 | C29: =C25+C26+C27+C28 -> 1108681 | D29: =D25+D26+D27+D28 -> 1083851 | E29: =E25+E26+E27+E28 -> 885000 | F29: =F25+F26+F27+F28 -> 991000 | G29: =G25+G26+G27+G28 -> 1046887 | H29: =H25+H26+H27+H28 -> 1093460 | I29: =I25+I26+I27+I28 -> 1140300.6 | ... R29: =R25+R26+R27+R28 -> 1551457.1
B30: =IF(B13>0,"Error! -Exp?",IF(B15>0,"Error! -Exp?",IF(B16>0,"Error! -Exp?","")))
A31: Balance Sheet
A33: Operating Cash and Market. Sec. | B33: =B97 -> 286916 | C33: =C97 -> 620400 | D33: =D97 -> 663671 | E33: =E97 -> 676000 | F33: =F97 -> 2267000 | G33: =G12*'Forecasting Assumptions'!G29 -> 2372399.1 | H33: =H12*'Forecasting Assumptions'!H29 -> 2478785.8 | I33: =I12*'Forecasting Assumptions'!I29 -> 2585855 | J33: =J12*'Forecasting Assumptions'!J29 -> 2693284.2 | K33: =K12*'Forecasting Assumptions'!K29 -> 2800734.5 | L33: =L12*'Forecasting Assumptions'!L29 -> 2907852.5 | M33: =M12*'Forecasting Assumptions'!M29 -> 3014271.5 | N33: =N12*'Forecasting Assumptions'!N29 -> 3119613.7 | ... R33: =R12*'Forecasting Assumptions'!R29 -> 3528037.3
A34: Receivables | B34: =B98 -> 1652065 | C34: =C98 -> 0 | D34: =D98 -> 0 | E34: =E98 -> 0 | F34: =F98 -> 0 | G34: =G12*'Forecasting Assumptions'!G30 -> 0 | H34: =H12*'Forecasting Assumptions'!H30 -> 0 | I34: =I12*'Forecasting Assumptions'!I30 -> 0 | J34: =J12*'Forecasting Assumptions'!J30 -> 0 | K34: =K12*'Forecasting Assumptions'!K30 -> 0 | L34: =L12*'Forecasting Assumptions'!L30 -> 0 | M34: =M12*'Forecasting Assumptions'!M30 -> 0 | N34: =N12*'Forecasting Assumptions'!N30 -> 0 | ... R34: =R12*'Forecasting Assumptions'!R30 -> 0
A35: Inventories | B35: =B99 -> 2237568 | C35: =C99 -> 2588099 | D35: =D99 -> 2855733 | E35: =E99 -> 2799000 | F35: =F99 -> 2923000 | G35: =-G13*'Forecasting Assumptions'!G31 -> 3058898.4 | H35: =-H13*'Forecasting Assumptions'!H31 -> 3196070.1 | I35: =-I13*'Forecasting Assumptions'!I31 -> 3334121.8 | J35: =-J13*'Forecasting Assumptions'!J31 -> 3472637.7 | K35: =-K13*'Forecasting Assumptions'!K31 -> 3611180.9 | L35: =-L13*'Forecasting Assumptions'!L31 -> 3749295.5 | M35: =-M13*'Forecasting Assumptions'!M31 -> 3886508.8 | N35: =-N13*'Forecasting Assumptions'!N31 -> 4022333.9 | ... R35: =-R13*'Forecasting Assumptions'!R31 -> 4548942.7
A36: Other Current Assets | B36: =B100 -> 89503 | C36: =C100 -> 192541 | D36: =D100 -> 204485 | E36: =E100 -> 225000 | F36: =F100 -> 295000 | G36: =G12*'Forecasting Assumptions'!G32 -> 308715.37 | H36: =H12*'Forecasting Assumptions'!H32 -> 322559.24 | I36: =I12*'Forecasting Assumptions'!I32 -> 336491.94 | J36: =J12*'Forecasting Assumptions'!J32 -> 350471.47 | K36: =K12*'Forecasting Assumptions'!K32 -> 364453.76 | L36: =L12*'Forecasting Assumptions'!L32 -> 378392.8 | M36: =M12*'Forecasting Assumptions'!M32 -> 392240.88 | N36: =N12*'Forecasting Assumptions'!N32 -> 405948.85 | ... R36: =R12*'Forecasting Assumptions'!R32 -> 459096.17
A37: Total Current Assets | B37: =SUM(B33:B36) -> 4266052 | C37: =SUM(C33:C36) -> 3401040 | D37: =SUM(D33:D36) -> 3723889 | E37: =SUM(E33:E36) -> 3700000 | F37: =SUM(F33:F36) -> 5485000 | G37: =SUM(G33:G36) -> 5740012.8 | H37: =SUM(H33:H36) -> 5997415.1 | I37: =SUM(I33:I36) -> 6256468.7 | ... R37: =SUM(R33:R36) -> 8536076.2
A38: PP&E (Net) | B38: =B101 -> 4543832 | C38: =C101 -> 5352974 | D38: =D101 -> 6509819 | E38: =E101 -> 6984000 | F38: =F101 -> 7018000 | G38: =G12*'Forecasting Assumptions'!G37 -> 7344286.3 | H38: =H12*'Forecasting Assumptions'!H37 -> 7673629.7 | I38: =I12*'Forecasting Assumptions'!I37 -> 8005086.1 | J38: =J12*'Forecasting Assumptions'!J37 -> 8337656.9 | K38: =K12*'Forecasting Assumptions'!K37 -> 8670293.3 | L38: =L12*'Forecasting Assumptions'!L37 -> 9001900.6 | M38: =M12*'Forecasting Assumptions'!M37 -> 9331344.2 | N38: =N12*'Forecasting Assumptions'!N37 -> 9657454.4 | ... R38: =R12*'Forecasting Assumptions'!R37 -> 10921820
A39: Investments | B39: =B102 -> 0 | C39: =C102 -> 0 | D39: =D102 -> 0 | E39: =E102 -> 332000 | F39: =F102 -> 321000 | G39: =G12*'Forecasting Assumptions'!G38 -> 335924.18 | H39: =H12*'Forecasting Assumptions'!H38 -> 350988.19 | I39: =I12*'Forecasting Assumptions'!I38 -> 366148.85 | J39: =J12*'Forecasting Assumptions'!J38 -> 381360.48 | K39: =K12*'Forecasting Assumptions'!K38 -> 396575.11 | L39: =L12*'Forecasting Assumptions'!L38 -> 411742.68 | M39: =M12*'Forecasting Assumptions'!M38 -> 426811.27 | N39: =N12*'Forecasting Assumptions'!N38 -> 441727.4 | ... R39: =R12*'Forecasting Assumptions'!R38 -> 499558.88
A40: Intangibles | B40: =B103 -> 221718 | C40: =C103 -> 228624 | D40: =D103 -> 219296 | E40: =E103 -> 210000 | F40: =F103 -> 204000 | G40: =G12*'Forecasting Assumptions'!G39 -> 213484.52 | H40: =H12*'Forecasting Assumptions'!H39 -> 223057.92 | I40: =I12*'Forecasting Assumptions'!I39 -> 232692.73 | J40: =J12*'Forecasting Assumptions'!J39 -> 242359.93 | K40: =K12*'Forecasting Assumptions'!K39 -> 252029.04 | L40: =L12*'Forecasting Assumptions'!L39 -> 261668.24 | M40: =M12*'Forecasting Assumptions'!M39 -> 271244.54 | N40: =N12*'Forecasting Assumptions'!N39 -> 280723.95 | ... R40: =R12*'Forecasting Assumptions'!R39 -> 317476.67
A41: Other Assets | B41: =B104 -> 121436 | C41: =C104 -> 58539 | D41: =D104 -> 107078 | E41: =E104 -> 108000 | F41: =F104 -> 132000 | G41: =G12*'Forecasting Assumptions'!G40 -> 138137.05 | H41: =H12*'Forecasting Assumptions'!H40 -> 144331.59 | I41: =I12*'Forecasting Assumptions'!I40 -> 150565.88 | J41: =J12*'Forecasting Assumptions'!J40 -> 156821.13 | K41: =K12*'Forecasting Assumptions'!K40 -> 163077.62 | L41: =L12*'Forecasting Assumptions'!L40 -> 169314.75 | M41: =M12*'Forecasting Assumptions'!M40 -> 175511.18 | N41: =N12*'Forecasting Assumptions'!N40 -> 181644.91 | ... R41: =R12*'Forecasting Assumptions'!R40 -> 205426.08
A42: Total Assets | B42: =SUM(B37:B41) -> 9153038 | C42: =SUM(C37:C41) -> 9041177 | D42: =SUM(D37:D41) -> 10560082 | E42: =SUM(E37:E41) -> 11334000 | F42: =SUM(F37:F41) -> 13160000 | G42: =G37+G38+G39+G40+G41 -> 13771845 | H42: =H37+H38+H39+H40+H41 -> 14389422 | I42: =I37+I38+I39+I40+I41 -> 15010962 | J42: =J37+J38+J39+J40+J41 -> 15634592 | K42: =K37+K38+K39+K40+K41 -> 16258344 | L42: =L37+L38+L39+L40+L41 -> 16880167 | M42: =M37+M38+M39+M40+M41 -> 17497932 | N42: =N37+N38+N39+N40+N41 -> 18109447 | ... R42: =R37+R38+R39+R40+R41 -> 20480358
A44: Current Debt | B44: =B105 -> 107941 | C44: =C105 -> 18841 | D44: =D105 -> 12701 | E44: =E105 -> 17000 | F44: =F105 -> 16000 | G44: =G42*'Forecasting Assumptions'!G45 -> 16743.884 | H44: =H42*'Forecasting Assumptions'!H45 -> 17494.739 | I44: =I42*'Forecasting Assumptions'!I45 -> 18250.41 | J44: =J42*'Forecasting Assumptions'!J45 -> 19008.622 | K44: =K42*'Forecasting Assumptions'!K45 -> 19766.984 | L44: =L42*'Forecasting Assumptions'!L45 -> 20522.999 | M44: =M42*'Forecasting Assumptions'!M45 -> 21274.082 | N44: =N42*'Forecasting Assumptions'!N45 -> 22017.565 | ... R44: =R42*'Forecasting Assumptions'!R45 -> 24900.131
A45: Accounts Payable | B45: =B106 -> 829971 | C45: =C106 -> 934376 | D45: =D106 -> 835985 | E45: =E106 -> 881000 | F45: =F106 -> 1188000 | G45: =-G13*'Forecasting Assumptions'!G33 -> 1243233.4 | H45: =-H13*'Forecasting Assumptions'!H33 -> 1298984.3 | I45: =-I13*'Forecasting Assumptions'!I33 -> 1355092.9 | J45: =-J13*'Forecasting Assumptions'!J33 -> 1411390.2 | K45: =-K13*'Forecasting Assumptions'!K33 -> 1467698.5 | L45: =-L13*'Forecasting Assumptions'!L33 -> 1523832.7 | M45: =-M13*'Forecasting Assumptions'!M33 -> 1579600.6 | N45: =-N13*'Forecasting Assumptions'!N33 -> 1634804.2 | ... R45: =-R13*'Forecasting Assumptions'!R33 -> 1848834.7
...

Sheet Ratio Analysis
A1: Ratio Analysis
A4: Company Name | B4: ='Financial Statements'!B4 -> KOHL'S CORP
B6: Actual | C6: Actual | D6: Actual | E6: Actual | F6: Actual | G6: Forecast | H6: Forecast | I6: Forecast | J6: Forecast | K6: Forecast | L6: Forecast | M6: Forecast | N6: Forecast | O6: Forecast | P6: Forecast | Q6: Forecast | R6: Forecast
A7: Fiscal Year End Date | B7: ='Financial Statements'!B8 -> 37286 | C7: ='Financial Statements'!C8 -> 37651 | D7: ='Financial Statements'!D8 -> 38016 | E7: ='Financial Statements'!E8 -> 38382 | F7: ='Financial Statements'!F8 -> 38747 | G7: ='Financial Statements'!G8 -> 39112 | H7: ='Financial Statements'!H8 -> 39477 | I7: ='Financial Statements'!I8 -> 39843 | ... R7: ='Financial Statements'!R8 -> 43130
A9: Annual Growth Rates
A10: Sales | C10: ='Financial Statements'!C12/'Financial Statements'!B12-1 -> 0.15982184 | D10: ='Financial Statements'!D12/'Financial Statements'!C12-1 -> 0.059800502 | E10: ='Financial Statements'!E12/'Financial Statements'!D12-1 -> -0.0051435819 | F10: ='Financial Statements'!F12/'Financial Statements'!E12-1 -> 0.048142046 | G10: ='Financial Statements'!G12/'Financial Statements'!F12-1 -> 0.04649277 | H10: ='Financial Statements'!H12/'Financial Statements'!G12-1 -> 0.044843493 | I10: ='Financial Statements'!I12/'Financial Statements'!H12-1 -> 0.043194216 | J10: ='Financial Statements'!J12/'Financial Statements'!I12-1 -> 0.041544939 | ... R10: ='Financial Statements'!R12/'Financial Statements'!Q12-1 -> 0.03
A11: Assets | C11: =IF('Financial Statements'!B42<=0,#N/A,'Financial Statements'!C42/'Financial Statements'!B42-1) -> -0.012221188 | D11: =IF('Financial Statements'!C42<=0,#N/A,'Financial Statements'!D42/'Financial Statements'!C42-1) -> 0.16799859 | E11: =IF('Financial Statements'!D42<=0,#N/A,'Financial Statements'!E42/'Financial Statements'!D42-1) -> 0.07328712 | F11: =IF('Financial Statements'!E42<=0,#N/A,'Financial Statements'!F42/'Financial Statements'!E42-1) -> 0.16110817 | G11: =IF('Financial Statements'!F42<=0,#N/A,'Financial Statements'!G42/'Financial Statements'!F42-1) -> 0.04649277 | H11: =IF('Financial Statements'!G42<=0,#N/A,'Financial Statements'!H42/'Financial Statements'!G42-1) -> 0.044843493 | I11: =IF('Financial Statements'!H42<=0,#N/A,'Financial Statements'!I42/'Financial Statements'!H42-1) -> 0.043194216 | J11: =IF('Financial Statements'!I42<=0,#N/A,'Financial Statements'!J42/'Financial Statements'!I42-1) -> 0.041544939 | ... R11: =IF('Financial Statements'!Q42<=0,#N/A,'Financial Statements'!R42/'Financial Statements'!Q42-1) -> 0.03
A12: Common Equity | C12: =IF('Financial Statements'!B57<=0,#N/A,'Financial Statements'!C57/'Financial Statements'!B57-1) -> -0.059412946 | D12: =IF('Financial Statements'!C57<=0,#N/A,'Financial Statements'!D57/'Financial Statements'!C57-1) -> 0.088911811 | E12: =IF('Financial Statements'!D57<=0,#N/A,'Financial Statements'!E57/'Financial Statements'!D57-1) -> 0.10446386 | F12: =IF('Financial Statements'!E57<=0,#N/A,'Financial Statements'!F57/'Financial Statements'!E57-1) -> 0.16530643 | G12: =IF('Financial Statements'!F57<=0,#N/A,'Financial Statements'!G57/'Financial Statements'!F57-1) -> 0.04649277 | H12: =IF('Financial Statements'!G57<=0,#N/A,'Financial Statements'!H57/'Financial Statements'!G57-1) -> 0.044843493 | I12: =IF('Financial Statements'!H57<=0,#N/A,'Financial Statements'!I57/'Financial Statements'!H57-1) -> 0.043194216 | J12: =IF('Financial Statements'!I57<=0,#N/A,'Financial Statements'!J57/'Financial Statements'!I57-1) -> 0.041544939 | ... R12: =IF('Financial Statements'!Q57<=0,#N/A,'Financial Statements'!R57/'Financial Statements'!Q57-1) -> 0.03
A13: Earnings | C13: =IF('Financial Statements'!B29<=0,#N/A,'Financial Statements'!C29/'Financial Statements'!B29-1) -> 0.31678583 | D13: =IF('Financial Statements'!C29<=0,#N/A,'Financial Statements'!D29/'Financial Statements'!C29-1) -> -0.022395982 | E13: =IF('Financial Statements'!D29<=0,#N/A,'Financial Statements'!E29/'Financial Statements'!D29-1) -> -0.1834671 | F13: =IF('Financial Statements'!E29<=0,#N/A,'Financial Statements'!F29/'Financial Statements'!E29-1) -> 0.11977401 | G13: =IF('Financial Statements'!F29<=0,#N/A,'Financial Statements'!G29/'Financial Statements'!F29-1) -> 0.056394574 | H13: =IF('Financial Statements'!G29<=0,#N/A,'Financial Statements'!H29/'Financial Statements'!G29-1) -> 0.044487063 | I13: =IF('Financial Statements'!H29<=0,#N/A,'Financial Statements'!I29/'Financial Statements'!H29-1) -> 0.042837102 | J13: =IF('Financial Statements'!I29<=0,#N/A,'Financial Statements'!J29/'Financial Statements'!I29-1) -> 0.041187138 | ... R13: =IF('Financial Statements'!Q29<=0,#N/A,'Financial Statements'!R29/'Financial Statements'!Q29-1) -> 0.03
A14: Free Cash Flow to Investors | D14: =IF('Cash Flow Analysis'!B116<=0,#N/A,'Cash Flow Analysis'!C116/'Cash Flow Analysis'!B116-1) -> -1.2235403 | E14: =IF('Cash Flow Analysis'!C116<=0,#N/A,'Cash Flow Analysis'!D116/'Cash Flow Analysis'!C116-1) -> #N/A | F14: =IF('Cash Flow Analysis'!D116<=0,#N/A,'Cash Flow Analysis'!E116/'Cash Flow Analysis'!D116-1) -> -1.0968255 | G14: =IF('Cash Flow Analysis'!E116<=0,#N/A,'Cash Flow Analysis'!F116/'Cash Flow Analysis'!E116-1) -> #N/A | H14: =IF('Cash Flow Analysis'!F116<=0,#N/A,'Cash Flow Analysis'!G116/'Cash Flow Analysis'!F116-1) -> 0.068769684 | I14: =IF('Cash Flow Analysis'!G116<=0,#N/A,'Cash Flow Analysis'!H116/'Cash Flow Analysis'!G116-1) -> 0.066621701 | J14: =IF('Cash Flow Analysis'!H116<=0,#N/A,'Cash Flow Analysis'!I116/'Cash Flow Analysis'!H116-1) -> 0.064494083 | K14: =IF('Cash Flow Analysis'!I116<=0,#N/A,'Cash Flow Analysis'!J116/'Cash Flow Analysis'!I116-1) -> 0.062385608 | ... R14: =IF('Cash Flow Analysis'!P116<=0,#N/A,'Cash Flow Analysis'!Q116/'Cash Flow Analysis'!P116-1) -> 0.03
A15: Sustainable Growth Rate | D15: =D19*(1-'Forecasting Assumptions'!D49) -> 0.18519456 | E15: =E19*(1-'Forecasting Assumptions'!E49) -> 0.13784399 | F15: =F19*(1-'Forecasting Assumptions'!F49) -> 0.13582785 | G15: =G19*(1-'Forecasting Assumptions'!G49) -> 0.13028187 | H15: =H19*(1-'Forecasting Assumptions'!H49) -> 0.13013705 | I15: =I19*(1-'Forecasting Assumptions'!I49) -> 0.129992 | J15: =J19*(1-'Forecasting Assumptions'!J49) -> 0.12984671 | K15: =K19*(1-'Forecasting Assumptions'!K49) -> 0.12970119 | ... R15: =R19*(1-'Forecasting Assumptions'!R49) -> 0.12882309
A18: Profitability
A19: Return on Equity | C19: ='Financial Statements'!C73/(('Financial Statements'!B77+'Financial Statements'!C77)/2) -> 0.19180116 | D19: ='Financial Statements'!D73/(('Financial Statements'!C77+'Financial Statements'!D77)/2) -> 0.18519456 | E19: ='Financial Statements'!E73/(('Financial Statements'!D77+'Financial Statements'!E77)/2) -> 0.13784399 | F19: ='Financial Statements'!F73/(('Financial Statements'!E77+'Financial Statements'!F77)/2) -> 0.13582785 | G19: ='Financial Statements'!G73/(('Financial Statements'!F77+'Financial Statements'!G77)/2) -> 0.13028187 | H19: ='Financial Statements'!H73/(('Financial Statements'!G77+'Financial Statements'!H77)/2) -> 0.13013705 | I19: ='Financial Statements'!I73/(('Financial Statements'!H77+'Financial Statements'!I77)/2) -> 0.129992 | J19: ='Financial Statements'!J73/(('Financial Statements'!I77+'Financial Statements'!J77)/2) -> 0.12984671 | ... R19: ='Financial Statements'!R73/(('Financial Statements'!Q77+'Financial Statements'!R77)/2) -> 0.12882309
A20: Return on Equity (b4 non-recurring) | C20: =('Financial Statements'!C29-'Financial Statements'!C26-'Financial Statements'!C24-((IF('Financial Statements'!C22=0,0,('Financial Statements'!C22+'Financial Statements'!C23)/'Financial Statements'!C22))*'Financial Statements'!C21))/(('Financial Statements'!B77+'Financial Statements'!C77)/2) -> 0.1881184 | D20: =('Financial Statements'!D29-'Financial Statements'!D26-'Financial Statements'!D24-((IF('Financial Statements'!D22=0,0,('Financial Statements'!D22+'Financial Statements'!D23)/'Financial Statements'!D22))*'Financial Statements'!D21))/(('Financial Statements'!C77+'Financial Statements'!D77)/2) -> 0.18133602 | E20: =('Financial Statements'!E29-'Financial Statements'!E26-'Financial Statements'!E24-((IF('Financial Statements'!E22=0,0,('Financial Statements'!E22+'Financial Statements'!E23)/'Financial Statements'!E22))*'Financial Statements'!E21))/(('Financial Statements'!D77+'Financial Statements'!E77)/2) -> 0.13503875 | F20: =('Financial Statements'!F29-'Financial Statements'!F26-'Financial Statements'!F24-((IF('Financial Statements'!F22=0,0,('Financial Statements'!F22+'Financial Statements'!F23)/'Financial Statements'!F22))*'Financial Statements'!F21))/(('Financial Statements'!E77+'Financial Statements'!F77)/2) -> 0.13497251 | G20: =('Financial Statements'!G29-'Financial Statements'!G26-'Financial Statements'!G24-((IF('Financial Statements'!G22=0,0,('Financial Statements'!G22+'Financial Statements'!G23)/'Financial Statements'!G22))*'Financial Statements'!G21))/(('Financial Statements'!F77+'Financial Statements'!G77)/2) -> 0.12946915 | H20: =('Financial Statements'!H29-'Financial Statements'!H26-'Financial Statements'!H24-((IF('Financial Statements'!H22=0,0,('Financial Statements'!H22+'Financial Statements'!H23)/'Financial Statements'!H22))*'Financial Statements'!H21))/(('Financial Statements'!G77+'Financial Statements'!H77)/2) -> 0.12932496 | I20: =('Financial Statements'!I29-'Financial Statements'!I26-'Financial Statements'!I24-((IF('Financial Statements'!I22=0,0,('Financial Statements'!I22+'Financial Statements'!I23)/'Financial Statements'!I22))*'Financial Statements'!I21))/(('Financial Statements'!H77+'Financial Statements'!I77)/2) -> 0.12918053 | J20: =('Financial Statements'!J29-'Financial Statements'!J26-'Financial Statements'!J24-((IF('Financial Statements'!J22=0,0,('Financial Statements'!J22+'Financial Statements'!J23)/'Financial Statements'!J22))*'Financial Statements'!J21))/(('Financial Statements'!I77+'Financial Statements'!J77)/2) -> 0.12903587 | ... R20: =('Financial Statements'!R29-'Financial Statements'!R26-'Financial Statements'!R24-((IF('Financial Statements'!R22=0,0,('Financial Statements'!R22+'Financial Statements'!R23)/'Financial Statements'!R22))*'Financial Statements'!R21))/(('Financial Statements'!Q77+'Financial Statements'!R77)/2) -> 0.12801667
A21: Return on Net Operating Assets | C21: ='Financial Statements'!C71/(('Financial Statements'!B75+'Financial Statements'!C75)/2) -> 0.16773784 | D21: ='Financial Statements'!D71/(('Financial Statements'!C75+'Financial Statements'!D75)/2) -> 0.15446854 | E21: ='Financial Statements'!E71/(('Financial Statements'!D75+'Financial Statements'!E75)/2) -> 0.11451395 | F21: ='Financial Statements'!F71/(('Financial Statements'!E75+'Financial Statements'!F75)/2) -> 0.1147489 | G21: ='Financial Statements'!G71/(('Financial Statements'!F75+'Financial Statements'!G75)/2) -> 0.1115499 | H21: ='Financial Statements'!H71/(('Financial Statements'!G75+'Financial Statements'!H75)/2) -> 0.11143527 | I21: ='Financial Statements'!I71/(('Financial Statements'!H75+'Financial Statements'!I75)/2) -> 0.11132045 | J21: ='Financial Statements'!J71/(('Financial Statements'!I75+'Financial Statements'!J75)/2) -> 0.11120545 | ... R21: ='Financial Statements'!R71/(('Financial Statements'!Q75+'Financial Statements'!R75)/2) -> 0.11039519
A23: Basic Dupont Model
A24: Net Profit Margin | B24: ='Financial Statements'!B29/'Financial Statements'!B12 -> 0.062822442 | C24: ='Financial Statements'!C29/'Financial Statements'!C12 -> 0.07132449 | D24: ='Financial Statements'!D29/'Financial Statements'!D12 -> 0.065792673 | E24: ='Financial Statements'!E29/'Financial Statements'!E12 -> 0.053999634 | F24: ='Financial Statements'!F29/'Financial Statements'!F12 -> 0.057690069 | G24: ='Financial Statements'!G29/'Financial Statements'!G12 -> 0.058235926 | H24: ='Financial Statements'!H29/'Financial Statements'!H12 -> 0.05821606 | I24: ='Financial Statements'!I29/'Financial Statements'!I12 -> 0.058196131 | ... R24: ='Financial Statements'!R29/'Financial Statements'!R12 -> 0.058034402
A25: x Total Asset Turnover | C25: ='Financial Statements'!C12/(('Financial Statements'!B42+'Financial Statements'!C42)/2) -> 1.7086952 | D25: ='Financial Statements'!D12/(('Financial Statements'!C42+'Financial Statements'!D42)/2) -> 1.6808853 | E25: ='Financial Statements'!E12/(('Financial Statements'!D42+'Financial Statements'!E42)/2) -> 1.4971169 | F25: ='Financial Statements'!F12/(('Financial Statements'!E42+'Financial Statements'!F42)/2) -> 1.4026292 | G25: ='Financial Statements'!G12/(('Financial Statements'!F42+'Financial Statements'!G42)/2) -> 1.3349737 | H25: ='Financial Statements'!H12/(('Financial Statements'!G42+'Financial Statements'!H42)/2) -> 1.3339448 | I25: ='Financial Statements'!I12/(('Financial Statements'!H42+'Financial Statements'!I42)/2) -> 1.3329143 | J25: ='Financial Statements'!J12/(('Financial Statements'!I42+'Financial Statements'!J42)/2) -> 1.3318821 | ... R25: ='Financial Statements'!R12/(('Financial Statements'!Q42+'Financial Statements'!R42)/2) -> 1.3246096
A26: x Total Leverage | C26: =('Financial Statements'!B58+'Financial Statements'!C58)/('Financial Statements'!B57+'Financial Statements'!C57) -> 1.5737942 | D26: =('Financial Statements'!C58+'Financial Statements'!D58)/('Financial Statements'!C57+'Financial Statements'!D57) -> 1.6746059 | E26: =('Financial Statements'!D58+'Financial Statements'!E58)/('Financial Statements'!D57+'Financial Statements'!E57) -> 1.7050665 | F26: =('Financial Statements'!E58+'Financial Statements'!F58)/('Financial Statements'!E57+'Financial Statements'!F57) -> 1.678591 | G26: =('Financial Statements'!F58+'Financial Statements'!G58)/('Financial Statements'!F57+'Financial Statements'!G57) -> 1.6757927 | H26: =('Financial Statements'!G58+'Financial Statements'!H58)/('Financial Statements'!G57+'Financial Statements'!H57) -> 1.6757927 | I26: =('Financial Statements'!H58+'Financial Statements'!I58)/('Financial Statements'!H57+'Financial Statements'!I57) -> 1.6757927 | J26: =('Financial Statements'!I58+'Financial Statements'!J58)/('Financial Statements'!I57+'Financial Statements'!J57) -> 1.6757927 | ... R26: =('Financial Statements'!Q58+'Financial Statements'!R58)/('Financial Statements'!Q57+'Financial Statements'!R57) -> 1.6757927
A27: = Return on Equity | C27: =C24*C25*C26 -> 0.19180116 | D27: =D24*D25*D26 -> 0.18519456 | E27: =E24*E25*E26 -> 0.13784399 | F27: =F24*F25*F26 -> 0.13582785 | G27: =G24*G25*G26 -> 0.13028187 | H27: =H24*H25*H26 -> 0.13013705 | I27: =I24*I25*I26 -> 0.129992 | J27: =J24*J25*J26 -> 0.12984671 | ... R27: =R24*R25*R26 -> 0.12882309
A29: Advanced Dupont Model
A30: Net Operating Margin | B30: ='Financial Statements'!B71/'Financial Statements'!B12 -> 0.066528097 | C30: ='Financial Statements'!C71/'Financial Statements'!C12 -> 0.074316112 | D30: ='Financial Statements'!D71/'Financial Statements'!D12 -> 0.069520744 | E30: ='Financial Statements'!E71/'Financial Statements'!E12 -> 0.059304861 | F30: ='Financial Statements'!F71/'Financial Statements'!F12 -> 0.062558122 | G30: ='Financial Statements'!G71/'Financial Statements'!G12 -> 0.062993542 | H30: ='Financial Statements'!H71/'Financial Statements'!H12 -> 0.062977346 | I30: ='Financial Statements'!I71/'Financial Statements'!I12 -> 0.062961098 | ... R30: ='Financial Statements'!R71/'Financial Statements'!R12 -> 0.062829243
A31: x Net Operating Asset Turnover | C31: ='Financial Statements'!C12/(('Financial Statements'!B75+'Financial Statements'!C75)/2) -> 2.2570858 | D31: ='Financial Statements'!D12/(('Financial Statements'!C75+'Financial Statements'!D75)/2) -> 2.2219058 | E31: ='Financial Statements'!E12/(('Financial Statements'!D75+'Financial Statements'!E75)/2) -> 1.9309369 | F31: ='Financial Statements'!F12/(('Financial Statements'!E75+'Financial Statements'!F75)/2) -> 1.8342766 | G31: ='Financial Statements'!G12/(('Financial Statements'!F75+'Financial Statements'!G75)/2) -> 1.7708149 | H31: ='Financial Statements'!H12/(('Financial Statements'!G75+'Financial Statements'!H75)/2) -> 1.7694501 | I31: ='Financial Statements'!I12/(('Financial Statements'!H75+'Financial Statements'!I75)/2) -> 1.7680831 | J31: ='Financial Statements'!J12/(('Financial Statements'!I75+'Financial Statements'!J75)/2) -> 1.7667138 | ... R31: ='Financial Statements'!R12/(('Financial Statements'!Q75+'Financial Statements'!R75)/2) -> 1.757067
A32: = Return on Net Operating Assets | C32: =C30*C31 -> 0.16773784 | D32: =D30*D31 -> 0.15446854 | E32: =E30*E31 -> 0.11451395 | F32: =F30*F31 -> 0.1147489 | G32: =G30*G31 -> 0.1115499 | H32: =H30*H31 -> 0.11143527 | I32: =I30*I31 -> 0.11132045 | J32: =J30*J31 -> 0.11120545 | ... R32: =R30*R31 -> 0.11039519
A33: Net Borrowing Cost (NBC) | C33: =-'Financial Statements'!C72/(('Financial Statements'!B76+'Financial Statements'!C76)/2) -> 0.042027576 | D33: =-'Financial Statements'!D72/(('Financial Statements'!C76+'Financial Statements'!D76)/2) -> 0.039324959 | E33: =-'Financial Statements'!E72/(('Financial Statements'!D76+'Financial Statements'!E76)/2) -> 0.042058663 | F33: =-'Financial Statements'!F72/(('Financial Statements'!E76+'Financial Statements'!F76)/2) -> 0.040417315 | G33: =-'Financial Statements'!G72/(('Financial Statements'!F76+'Financial Statements'!G76)/2) -> 0.040417315 | H33: =-'Financial Statements'!H72/(('Financial Statements'!G76+'Financial Statements'!H76)/2) -> 0.040417315 | I33: =-'Financial Statements'!I72/(('Financial Statements'!H76+'Financial Statements'!I76)/2) -> 0.040417315 | J33: =-'Financial Statements'!J72/(('Financial Statements'!I76+'Financial Statements'!J76)/2) -> 0.040417315 | ... R33: =-'Financial Statements'!R72/(('Financial Statements'!Q76+'Financial Statements'!R76)/2) -> 0.040417315
A34: Spread (RNOA - NBC) | C34: =C32-C33 -> 0.12571026 | D34: =D32-D33 -> 0.11514359 | E34: =E32-E33 -> 0.072455284 | F34: =F32-F33 -> 0.074331582 | G34: =G32-G33 -> 0.071132586 | H34: =H32-H33 -> 0.071017953 | I34: =I32-I33 -> 0.070903135 | J34: =J32-J33 -> 0.070788132 | ... R34: =R32-R33 -> 0.069977876
A35: Financial Leverage (LEV) | C35: =('Financial Statements'!B76+'Financial Statements'!C76)/('Financial Statements'!B77+'Financial Statements'!C77) -> 0.19141892 | D35: =('Financial Statements'!C76+'Financial Statements'!D76)/('Financial Statements'!C77+'Financial Statements'!D77) -> 0.2668496 | E35: =('Financial Statements'!D76+'Financial Statements'!E76)/('Financial Statements'!D77+'Financial Statements'!E77) -> 0.32199236 | F35: =('Financial Statements'!E76+'Financial Statements'!F76)/('Financial Statements'!E77+'Financial Statements'!F77) -> 0.28358004 | G35: =('Financial Statements'!F76+'Financial Statements'!G76)/('Financial Statements'!F77+'Financial Statements'!G77) -> 0.26333885 | H35: =('Financial Statements'!G76+'Financial Statements'!H76)/('Financial Statements'!G77+'Financial Statements'!H77) -> 0.26333885 | I35: =('Financial Statements'!H76+'Financial Statements'!I76)/('Financial Statements'!H77+'Financial Statements'!I77) -> 0.26333885 | J35: =('Financial Statements'!I76+'Financial Statements'!J76)/('Financial Statements'!I77+'Financial Statements'!J77) -> 0.26333885 | ... R35: =('Financial Statements'!Q76+'Financial Statements'!R76)/('Financial Statements'!Q77+'Financial Statements'!R77) -> 0.26333885
A36: ROE = RNOA + LEV*Spread | C36: =C32+(C35*C34) -> 0.19180116 | D36: =D32+(D35*D34) -> 0.18519456 | E36: =E32+(E35*E34) -> 0.13784399 | F36: =F32+(F35*F34) -> 0.13582785 | G36: =G32+(G35*G34) -> 0.13028187 | H36: =H32+(H35*H34) -> 0.13013705 | I36: =I32+(I35*I34) -> 0.129992 | J36: =J32+(J35*J34) -> 0.12984671 | ... R36: =R32+(R35*R34) -> 0.12882309
A39: Margin Analysis
A40: Gross Margin | B40: ='Financial Statements'!B14/'Financial Statements'!B12 -> 0.35305599 | C40: ='Financial Statements'!C14/'Financial Statements'!C12 -> 0.36371617 | D40: ='Financial Statements'!D14/'Financial Statements'!D12 -> 0.36507722 | E40: ='Financial Statements'!E14/'Financial Statements'!E12 -> 0.36945512 | F40: ='Financial Statements'!F14/'Financial Statements'!F12 -> 0.37827454 | G40: ='Financial Statements'!G14/'Financial Statements'!G12 -> 0.37827454 | H40: ='Financial Statements'!H14/'Financial Statements'!H12 -> 0.37827454 | I40: ='Financial Statements'!I14/'Financial Statements'!I12 -> 0.37827454 | ... R40: ='Financial Statements'!R14/'Financial Statements'!R12 -> 0.37827454
A41: EBITDA Margin | B41: ='Financial Statements'!B17/'Financial Statements'!B12 -> 0.1286273 | C41: ='Financial Statements'!C17/'Financial Statements'!C12 -> 0.14169126 | D41: ='Financial Statements'!D17/'Financial Statements'!D12 -> 0.13698303 | E41: ='Financial Statements'!E17/'Financial Statements'!E12 -> 0.12673134 | F41: ='Financial Statements'!F17/'Financial Statements'!F12 -> 0.13400862 | G41: ='Financial Statements'!G17/'Financial Statements'!G12 -> 0.13400862 | H41: ='Financial Statements'!H17/'Financial Statements'!H12 -> 0.13400862 | I41: ='Financial Statements'!I17/'Financial Statements'!I12 -> 0.13400862 | ... R41: ='Financial Statements'!R17/'Financial Statements'!R12 -> 0.13400862
A42: EBIT Margin | B42: ='Financial Statements'!B19/'Financial Statements'!B12 -> 0.10566767 | C42: ='Financial Statements'!C19/'Financial Statements'!C12 -> 0.11675113 | D42: ='Financial Statements'!D19/'Financial Statements'!D12 -> 0.10953661 | E42: ='Financial Statements'!E19/'Financial Statements'!E12 -> 0.093721398 | F42: ='Financial Statements'!F19/'Financial Statements'!F12 -> 0.099662359 | G42: ='Financial Statements'!G19/'Financial Statements'!G12 -> 0.10036008 | H42: ='Financial Statements'!H19/'Financial Statements'!H12 -> 0.10033413 | I42: ='Financial Statements'!I19/'Financial Statements'!I12 -> 0.1003081 | ... R42: ='Financial Statements'!R19/'Financial Statements'!R12 -> 0.10009681
A43: Net Operating Margin (b4 non-rec.) | B43: =('Financial Statements'!B71-'Financial Statements'!B21*(1-'Forecasting Assumptions'!B21)-'Financial Statements'!B26-'Financial Statements'!B24)/'Financial Statements'!B12 -> 0.066108344 | C43: =('Financial Statements'!C71-'Financial Statements'!C21*(1-'Forecasting Assumptions'!C21)-'Financial Statements'!C26-'Financial Statements'!C24)/'Financial Statements'!C12 -> 0.072946615 | D43: =('Financial Statements'!D71-'Financial Statements'!D21*(1-'Forecasting Assumptions'!D21)-'Financial Statements'!D26-'Financial Statements'!D24)/'Financial Statements'!D12 -> 0.068149948 | E43: =('Financial Statements'!E71-'Financial Statements'!E21*(1-'Forecasting Assumptions'!E21)-'Financial Statements'!E26-'Financial Statements'!E24)/'Financial Statements'!E12 -> 0.058205921 | F43: =('Financial Statements'!F71-'Financial Statements'!F21*(1-'Forecasting Assumptions'!F21)-'Financial Statements'!F26-'Financial Statements'!F24)/'Financial Statements'!F12 -> 0.062194835 | G43: =('Financial Statements'!G71-'Financial Statements'!G21*(1-'Forecasting Assumptions'!G21)-'Financial Statements'!G26-'Financial Statements'!G24)/'Financial Statements'!G12 -> 0.062630254 | H43: =('Financial Statements'!H71-'Financial Statements'!H21*(1-'Forecasting Assumptions'!H21)-'Financial Statements'!H26-'Financial Statements'!H24)/'Financial Statements'!H12 -> 0.062614058 | I43: =('Financial Statements'!I71-'Financial Statements'!I21*(1-'Forecasting Assumptions'!I21)-'Financial Statements'!I26-'Financial Statements'!I24)/'Financial Statements'!I12 -> 0.06259781 | ... R43: =('Financial Statements'!R71-'Financial Statements'!R21*(1-'Forecasting Assumptions'!R21)-'Financial Statements'!R26-'Financial Statements'!R24)/'Financial Statements'!R12 -> 0.062465955
A44: Net Operating Margin | B44: ='Financial Statements'!B71/'Financial Statements'!B12 -> 0.066528097 | C44: ='Financial Statements'!C71/'Financial Statements'!C12 -> 0.074316112 | D44: ='Financial Statements'!D71/'Financial Statements'!D12 -> 0.069520744 | E44: ='Financial Statements'!E71/'Financial Statements'!E12 -> 0.059304861 | F44: ='Financial Statements'!F71/'Financial Statements'!F12 -> 0.062558122 | G44: ='Financial Statements'!G71/'Financial Statements'!G12 -> 0.062993542 | H44: ='Financial Statements'!H71/'Financial Statements'!H12 -> 0.062977346 | I44: ='Financial Statements'!I71/'Financial Statements'!I12 -> 0.062961098 | ... R44: ='Financial Statements'!R71/'Financial Statements'!R12 -> 0.062829243
A46: Turnover Analysis
A47: Net Operating Asset Turnover | C47: ='Financial Statements'!C12/(('Financial Statements'!C75+'Financial Statements'!B75)/2) -> 2.2570858 | D47: ='Financial Statements'!D12/(('Financial Statements'!D75+'Financial Statements'!C75)/2) -> 2.2219058 | E47: ='Financial Statements'!E12/(('Financial Statements'!E75+'Financial Statements'!D75)/2) -> 1.9309369 | F47: ='Financial Statements'!F12/(('Financial Statements'!F75+'Financial Statements'!E75)/2) -> 1.8342766 | G47: ='Financial Statements'!G12/(('Financial Statements'!G75+'Financial Statements'!F75)/2) -> 1.7708149 | H47: ='Financial Statements'!H12/(('Financial Statements'!H75+'Financial Statements'!G75)/2) -> 1.7694501 | I47: ='Financial Statements'!I12/(('Financial Statements'!I75+'Financial Statements'!H75)/2) -> 1.7680831 | J47: ='Financial Statements'!J12/(('Financial Statements'!J75+'Financial Statements'!I75)/2) -> 1.7667138 | ... R47: ='Financial Statements'!R12/(('Financial Statements'!R75+'Financial Statements'!Q75)/2) -> 1.757067
A48: Net Working Capital Turnover | C48: ='Financial Statements'!C12/(('Financial Statements'!B37-'Financial Statements'!B48+'Financial Statements'!B44+'Financial Statements'!C37-'Financial Statements'!C48+'Financial Statements'!C44)/2) -> 7.5297088 | D48: ='Financial Statements'!D12/(('Financial Statements'!C37-'Financial Statements'!C48+'Financial Statements'!C44+'Financial Statements'!D37-'Financial Statements'!D48+'Financial Statements'!D44)/2) -> 9.5049044 | E48: ='Financial Statements'!E12/(('Financial Statements'!D37-'Financial Statements'!D48+'Financial Statements'!D44+'Financial Statements'!E37-'Financial Statements'!E48+'Financial Statements'!E44)/2) -> 8.476027 | F48: ='Financial Statements'!F12/(('Financial Statements'!E37-'Financial Statements'!E48+'Financial Statements'!E44+'Financial Statements'!F37-'Financial Statements'!F48+'Financial Statements'!F44)/2) -> 6.8533812 | G48: ='Financial Statements'!G12/(('Financial Statements'!F37-'Financial Statements'!F48+'Financial Statements'!F44+'Financial Statements'!G37-'Financial Statements'!G48+'Financial Statements'!G44)/2) -> 5.6471406 | H48: ='Financial Statements'!H12/(('Financial Statements'!G37-'Financial Statements'!G48+'Financial Statements'!G44+'Financial Statements'!H37-'Financial Statements'!H48+'Financial Statements'!H44)/2) -> 5.6427882 | I48: ='Financial Statements'!I12/(('Financial Statements'!H37-'Financial Statements'!H48+'Financial Statements'!H44+'Financial Statements'!I37-'Financial Statements'!I48+'Financial Statements'!I44)/2) -> 5.6384288 | J48: ='Financial Statements'!J12/(('Financial Statements'!I37-'Financial Statements'!I48+'Financial Statements'!I44+'Financial Statements'!J37-'Financial Statements'!J48+'Financial Statements'!J44)/2) -> 5.6340624 | ... R48: ='Financial Statements'!R12/(('Financial Statements'!Q37-'Financial Statements'!Q48+'Financial Statements'!Q44+'Financial Statements'!R37-'Financial Statements'!R48+'Financial Statements'!R44)/2) -> 5.6032986
A49: Avge Days to Collect Receivables | C49: =365*((('Financial Statements'!B34+'Financial Statements'!C34)/2)/'Financial Statements'!C12) -> 19.396442 | D49: =365*((('Financial Statements'!C34+'Financial Statements'!D34)/2)/'Financial Statements'!D12) -> 0 | E49: =365*((('Financial Statements'!D34+'Financial Statements'!E34)/2)/'Financial Statements'!E12) -> 0 | F49: =365*((('Financial Statements'!E34+'Financial Statements'!F34)/2)/'Financial Statements'!F12) -> 0 | G49: =365*((('Financial Statements'!F34+'Financial Statements'!G34)/2)/'Financial Statements'!G12) -> 0 | H49: =365*((('Financial Statements'!G34+'Financial Statements'!H34)/2)/'Financial Statements'!H12) -> 0 | I49: =365*((('Financial Statements'!H34+'Financial Statements'!I34)/2)/'Financial Statements'!I12) -> 0 | J49: =365*((('Financial Statements'!I34+'Financial Statements'!J34)/2)/'Financial Statements'!J12) -> 0 | ... R49: =365*((('Financial Statements'!Q34+'Financial Statements'!R34)/2)/'Financial Statements'!R12) -> 0
A50: Avge Inventory Holding Period | C50: =-365*((('Financial Statements'!B35+'Financial Statements'!C35)/2)/'Financial Statements'!C13) -> 89.043331 | D50: =-365*((('Financial Statements'!C35+'Financial Statements'!D35)/2)/'Financial Statements'!D13) -> 94.984912 | E50: =-365*((('Financial Statements'!D35+'Financial Statements'!E35)/2)/'Financial Statements'!E13) -> 99.863438 | F50: =-365*((('Financial Statements'!E35+'Financial Statements'!F35)/2)/'Financial Statements'!F13) -> 97.777622 | G50: =-365*((('Financial Statements'!F35+'Financial Statements'!G35)/2)/'Financial Statements'!G13) -> 97.677473 | H50: =-365*((('Financial Statements'!G35+'Financial Statements'!H35)/2)/'Financial Statements'!H13) -> 97.752813 | I50: =-365*((('Financial Statements'!H35+'Financial Statements'!I35)/2)/'Financial Statements'!I13) -> 97.828391 | J50: =-365*((('Financial Statements'!I35+'Financial Statements'!J35)/2)/'Financial Statements'!J13) -> 97.904209 | ... R50: =-365*((('Financial Statements'!Q35+'Financial Statements'!R35)/2)/'Financial Statements'!R13) -> 98.441732
A51: Avge Days to Pay Payables | C51: =365*((('Financial Statements'!B45+'Financial Statements'!C45)/2)/(-'Financial Statements'!C13+'Financial Statements'!C35-'Financial Statements'!B35)) -> 31.441455 | D51: =365*((('Financial Statements'!C45+'Financial Statements'!D45)/2)/(-'Financial Statements'!D13+'Financial Statements'!D35-'Financial Statements'!C35)) -> 30.118894 | E51: =365*((('Financial Statements'!D45+'Financial Statements'!E45)/2)/(-'Financial Statements'!E13+'Financial Statements'!E35-'Financial Statements'!D35)) -> 30.4896 | F51: =365*((('Financial Statements'!E45+'Financial Statements'!F45)/2)/(-'Financial Statements'!F13+'Financial Statements'!F35-'Financial Statements'!E35)) -> 34.949324 | G51: =365*((('Financial Statements'!F45+'Financial Statements'!G45)/2)/(-'Financial Statements'!G13+'Financial Statements'!G35-'Financial Statements'!F35)) -> 39.222312 | H51: =365*((('Financial Statements'!G45+'Financial Statements'!H45)/2)/(-'Financial Statements'!H13+'Financial Statements'!H35-'Financial Statements'!G35)) -> 39.268581 | I51: =365*((('Financial Statements'!H45+'Financial Statements'!I45)/2)/(-'Financial Statements'!I13+'Financial Statements'!I35-'Financial Statements'!H35)) -> 39.315034 | J51: =365*((('Financial Statements'!I45+'Financial Statements'!J45)/2)/(-'Financial Statements'!J13+'Financial Statements'!J35-'Financial Statements'!I35)) -> 39.361673 | ... R51: =365*((('Financial Statements'!Q45+'Financial Statements'!R45)/2)/(-'Financial Statements'!R13+'Financial Statements'!R35-'Financial Statements'!Q35)) -> 39.693428
...

Sheet Cash Flow Analysis
A1: Cash Flow Analysis | B1: ($000)
A4: Company Name | B4: ='Financial Statements'!B4 -> KOHL'S CORP
B6: Actual | C6: Actual | D6: Actual | E6: Actual | F6: Forecast | G6: Forecast | H6: Forecast | I6: Forecast | J6: Forecast | K6: Forecast | L6: Forecast | M6: Forecast | N6: Forecast | O6: Forecast | P6: Forecast | Q6: Forecast
A7: Fiscal Year End Date | B7: ='Financial Statements'!C8 -> 37651 | C7: ='Financial Statements'!D8 -> 38016 | D7: ='Financial Statements'!E8 -> 38382 | E7: ='Financial Statements'!F8 -> 38747 | F7: ='Financial Statements'!G8 -> 39112 | G7: ='Financial Statements'!H8 -> 39477 | H7: ='Financial Statements'!I8 -> 39843 | I7: ='Financial Statements'!J8 -> 40208 | ... Q7: ='Financial Statements'!R8 -> 43130
A8: Pro Forma Statement of Cash Flows
A10: Operating:
A11: Net Income | B11: ='Financial Statements'!C29 -> 1108681 | C11: ='Financial Statements'!D29 -> 1083851 | D11: ='Financial Statements'!E29 -> 885000 | E11: ='Financial Statements'!F29 -> 991000 | F11: ='Financial Statements'!G29 -> 1046887 | G11: ='Financial Statements'!H29 -> 1093460 | H11: ='Financial Statements'!I29 -> 1140300.6 | I11: ='Financial Statements'!J29 -> 1187266.3 | ... Q11: ='Financial Statements'!R29 -> 1551457.1
A12: +Depreciation & Amortization | B12: =-'Financial Statements'!C18 -> 387674 | C12: =-'Financial Statements'!D18 -> 452145 | D12: =-'Financial Statements'!E18 -> 541000 | E12: =-'Financial Statements'!F18 -> 590000 | F12: =-'Financial Statements'!G18 -> 604887.96 | G12: =-'Financial Statements'!H18 -> 632500.73 | H12: =-'Financial Statements'!I18 -> 660331.24 | I12: =-'Financial Statements'!J18 -> 688297.69 | ... Q12: =-'Financial Statements'!R18 -> 906578.02
A13: +Increase in Deferred Taxes | B13: ='Financial Statements'!C51-'Financial Statements'!B51 -> 25729 | C13: ='Financial Statements'!D51-'Financial Statements'!C51 -> 18921 | D13: ='Financial Statements'!E51-'Financial Statements'!D51 -> 57549 | E13: ='Financial Statements'!F51-'Financial Statements'!E51 -> 57000 | F13: ='Financial Statements'!G51-'Financial Statements'!F51 -> 17527.774 | G13: ='Financial Statements'!H51-'Financial Statements'!G51 -> 17692.003 | H13: ='Financial Statements'!I51-'Financial Statements'!H51 -> 17805.51 | I13: ='Financial Statements'!J51-'Financial Statements'!I51 -> 17865.374 | ... Q13: ='Financial Statements'!R51-'Financial Statements'!Q51 -> 17088.622
A14: +Increase in Other Liabilities | B14: ='Financial Statements'!C50-'Financial Statements'!B50 -> 50197 | C14: ='Financial Statements'!D50-'Financial Statements'!C50 -> 137168 | D14: ='Financial Statements'!E50-'Financial Statements'!D50 -> 34295 | E14: ='Financial Statements'!F50-'Financial Statements'!E50 -> 81000 | F14: ='Financial Statements'!G50-'Financial Statements'!F50 -> 22688.472 | G14: ='Financial Statements'!H50-'Financial Statements'!G50 -> 22901.055 | H14: ='Financial Statements'!I50-'Financial Statements'!H50 -> 23047.981 | I14: ='Financial Statements'!J50-'Financial Statements'!I50 -> 23125.471 | ... Q14: ='Financial Statements'!R50-'Financial Statements'!Q50 -> 22120.019
A15: +Minority Interest in Earnings | B15: =-'Financial Statements'!C27 -> 0 | C15: =-'Financial Statements'!D27 -> 0 | D15: =-'Financial Statements'!E27 -> 0 | E15: =-'Financial Statements'!F27 -> 0 | F15: =-'Financial Statements'!G27 -> 0 | G15: =-'Financial Statements'!H27 -> 0 | H15: =-'Financial Statements'!I27 -> 0 | I15: =-'Financial Statements'!J27 -> 0 | ... Q15: =-'Financial Statements'!R27 -> 0
A16: +Preferred Dividends | B16: =-'Financial Statements'!C28 -> 0 | C16: =-'Financial Statements'!D28 -> 0 | D16: =-'Financial Statements'!E28 -> 0 | E16: =-'Financial Statements'!F28 -> 0 | F16: =-'Financial Statements'!G28 -> 0 | G16: =-'Financial Statements'!H28 -> 0 | H16: =-'Financial Statements'!I28 -> 0 | I16: =-'Financial Statements'!J28 -> 0 | ... Q16: =-'Financial Statements'!R28 -> 0
A17: =Funds From Operations | B17: =B11+B12+B13+B14+B15+B16 -> 1572281 | C17: =C11+C12+C13+C14+C15+C16 -> 1692085 | D17: =D11+D12+D13+D14+D15+D16 -> 1517844 | E17: =E11+E12+E13+E14+E15+E16 -> 1719000 | F17: =F11+F12+F13+F14+F15+F16 -> 1691991.2 | G17: =G11+G12+G13+G14+G15+G16 -> 1766553.7 | H17: =H11+H12+H13+H14+H15+H16 -> 1841485.3 | I17: =I11+I12+I13+I14+I15+I16 -> 1916554.9 | ... Q17: =Q11+Q12+Q13+Q14+Q15+Q16 -> 2497243.7
A18: -Increase in Receivables | B18: =-('Financial Statements'!C34-'Financial Statements'!B34) -> 1652065 | C18: =-('Financial Statements'!D34-'Financial Statements'!C34) -> 0 | D18: =-('Financial Statements'!E34-'Financial Statements'!D34) -> 0 | E18: =-('Financial Statements'!F34-'Financial Statements'!E34) -> 0 | F18: =-('Financial Statements'!G34-'Financial Statements'!F34) -> 0 | G18: =-('Financial Statements'!H34-'Financial Statements'!G34) -> 0 | H18: =-('Financial Statements'!I34-'Financial Statements'!H34) -> 0 | I18: =-('Financial Statements'!J34-'Financial Statements'!I34) -> 0 | ... Q18: =-('Financial Statements'!R34-'Financial Statements'!Q34) -> 0
A19: -Increase in Inventory | B19: =-('Financial Statements'!C35-'Financial Statements'!B35) -> -350531 | C19: =-('Financial Statements'!D35-'Financial Statements'!C35) -> -267634 | D19: =-('Financial Statements'!E35-'Financial Statements'!D35) -> 56733 | E19: =-('Financial Statements'!F35-'Financial Statements'!E35) -> -124000 | F19: =-('Financial Statements'!G35-'Financial Statements'!F35) -> -135898.37 | G19: =-('Financial Statements'!H35-'Financial Statements'!G35) -> -137171.69 | H19: =-('Financial Statements'!I35-'Financial Statements'!H35) -> -138051.74 | I19: =-('Financial Statements'!J35-'Financial Statements'!I35) -> -138515.89 | ... Q19: =-('Financial Statements'!R35-'Financial Statements'!Q35) -> -132493.48
A20: -Increase in Other Current Assets | B20: =-('Financial Statements'!C36-'Financial Statements'!B36) -> -103038 | C20: =-('Financial Statements'!D36-'Financial Statements'!C36) -> -11944 | D20: =-('Financial Statements'!E36-'Financial Statements'!D36) -> -20515 | E20: =-('Financial Statements'!F36-'Financial Statements'!E36) -> -70000 | F20: =-('Financial Statements'!G36-'Financial Statements'!F36) -> -13715.367 | G20: =-('Financial Statements'!H36-'Financial Statements'!G36) -> -13843.875 | H20: =-('Financial Statements'!I36-'Financial Statements'!H36) -> -13932.693 | I20: =-('Financial Statements'!J36-'Financial Statements'!I36) -> -13979.537 | ... Q20: =-('Financial Statements'!R36-'Financial Statements'!Q36) -> -13371.733
A21: +Increase in Accounts Payable | B21: =('Financial Statements'!C45-'Financial Statements'!B45) -> 104405 | C21: =('Financial Statements'!D45-'Financial Statements'!C45) -> -98391 | D21: =('Financial Statements'!E45-'Financial Statements'!D45) -> 45015 | E21: =('Financial Statements'!F45-'Financial Statements'!E45) -> 307000 | F21: =('Financial Statements'!G45-'Financial Statements'!F45) -> 55233.41 | G21: =('Financial Statements'!H45-'Financial Statements'!G45) -> 55750.928 | H21: =('Financial Statements'!I45-'Financial Statements'!H45) -> 56108.61 | I21: =('Financial Statements'!J45-'Financial Statements'!I45) -> 56297.253 | ... Q21: =('Financial Statements'!R45-'Financial Statements'!Q45) -> 53849.555
A22: +Increase in Taxes Payable | B22: =('Financial Statements'!C46-'Financial Statements'!B46) -> 66355 | C22: =('Financial Statements'!D46-'Financial Statements'!C46) -> -109009 | D22: =('Financial Statements'!E46-'Financial Statements'!D46) -> -19254 | E22: =('Financial Statements'!F46-'Financial Statements'!E46) -> 79000 | F22: =('Financial Statements'!G46-'Financial Statements'!F46) -> 8554.6696 | G22: =('Financial Statements'!H46-'Financial Statements'!G46) -> 8634.8239 | H22: =('Financial Statements'!I46-'Financial Statements'!H46) -> 8690.2224 | I22: =('Financial Statements'!J46-'Financial Statements'!I46) -> 8719.4399 | ... Q22: =('Financial Statements'!R46-'Financial Statements'!Q46) -> 8340.3352
A23: +Increase in Other Curr. Liabilities | B23: =('Financial Statements'!C47-'Financial Statements'!B47) -> 90543 | C23: =('Financial Statements'!D47-'Financial Statements'!C47) -> 66330 | D23: =('Financial Statements'!E47-'Financial Statements'!D47) -> 13492 | E23: =('Financial Statements'!F47-'Financial Statements'!E47) -> 190000 | F23: =('Financial Statements'!G47-'Financial Statements'!F47) -> 46585.755 | G23: =('Financial Statements'!H47-'Financial Statements'!G47) -> 47022.248 | H23: =('Financial Statements'!I47-'Financial Statements'!H47) -> 47323.928 | I23: =('Financial Statements'!J47-'Financial Statements'!I47) -> 47483.037 | ... Q23: =('Financial Statements'!R47-'Financial Statements'!Q47) -> 45418.564
A24: =Cash From Operations | B24: =B17+B18+B19+B20+B21+B22+B23 -> 3032080 | C24: =C17+C18+C19+C20+C21+C22+C23 -> 1271437 | D24: =D17+D18+D19+D20+D21+D22+D23 -> 1593315 | E24: =E17+E18+E19+E20+E21+E22+E23 -> 2101000 | F24: =F17+F18+F19+F20+F21+F22+F23 -> 1652751.3 | G24: =G17+G18+G19+G20+G21+G22+G23 -> 1726946.2 | H24: =H17+H18+H19+H20+H21+H22+H23 -> 1801623.7 | I24: =I17+I18+I19+I20+I21+I22+I23 -> 1876559.2 | ... Q24: =Q17+Q18+Q19+Q20+Q21+Q22+Q23 -> 2458987
A26: Investing:
A27: -Capital Expenditures | B27: =-('Financial Statements'!C38-'Financial Statements'!B38-'Financial Statements'!C18) -> -1196816 | C27: =-('Financial Statements'!D38-'Financial Statements'!C38-'Financial Statements'!D18) -> -1608990 | D27: =-('Financial Statements'!E38-'Financial Statements'!D38-'Financial Statements'!E18) -> -1015181 | E27: =-('Financial Statements'!F38-'Financial Statements'!E38-'Financial Statements'!F18) -> -624000 | F27: =-('Financial Statements'!G38-'Financial Statements'!F38-'Financial Statements'!G18) -> -931174.21 | G27: =-('Financial Statements'!H38-'Financial Statements'!G38-'Financial Statements'!H18) -> -961844.17 | H27: =-('Financial Statements'!I38-'Financial Statements'!H38-'Financial Statements'!I18) -> -991787.66 | I27: =-('Financial Statements'!J38-'Financial Statements'!I38-'Financial Statements'!J18) -> -1020868.5 | ... Q27: =-('Financial Statements'!R38-'Financial Statements'!Q38-'Financial Statements'!R18) -> -1224689.3
