Workbook

Sheet Question 1
A1: Contract Name | B1: Last Trade Date | C1: Strike | D1: Last Price | E1: Bid | F1: Ask | G1: Change | H1: % Change | I1: Volume | J1: Open Interest | K1: Implied Volatility
A3: SPY200619C00005000 | B3: 2020-06-17 11:56AM EDT | C3: 5 | D3: 308.04 | E3: 0 | F3: 0 | G3: 0 | H3: - | I3: 1 | J3: 0 | K3: 0 | L3: =D3-C3 -> 303.04 | N3: For a call option to be in the money, the market price must be greater than the strike price.
A4: SPY200619C00010000 | B4: 2020-06-17 11:25AM EDT | C4: 10 | D4: 302.04 | E4: 0 | F4: 0 | G4: 0 | H4: - | I4: 1 | J4: 0 | K4: 0 | L4: =D4-C4 -> 292.04 | N4: i.e. Market price > Strike price
A5: SPY200619C00015000 | B5: 2020-06-17 11:36AM EDT | C5: 15 | D5: 297.37 | E5: 0 | F5: 0 | G5: 0 | H5: - | I5: 1 | J5: 0 | K5: 0 | L5: =D5-C5 -> 282.37
A6: SPY200619C00020000 | B6: 2020-06-17 11:51AM EDT | C6: 20 | D6: 292.73 | E6: 0 | F6: 0 | G6: 0 | H6: - | I6: 1 | J6: 0 | K6: 0 | L6: =D6-C6 -> 272.73
A7: SPY200619C00025000 | B7: 2020-06-17 12:23PM EDT | C7: 25 | D7: 287.8 | E7: 0 | F7: 0 | G7: 0 | H7: - | I7: 1 | J7: 1 | K7: 0 | L7: =D7-C7 -> 262.8
A8: SPY200619C00040000 | B8: 2020-06-17 12:40PM EDT | C8: 40 | D8: 273.59 | E8: 0 | F8: 0 | G8: 0 | H8: - | I8: 1 | J8: 0 | K8: 0 | L8: =D8-C8 -> 233.59 | O8: Choosen Call options
A9: SPY200619C00050000 | B9: 2020-06-09 7:09PM EDT | C9: 50 | D9: 223.58 | E9: 261.43 | F9: 262 | G9: 0 | H9: - | I9: 8 | J9: 3 | K9: 9.7656 | L9: =D9-C9 -> 173.58 | N9: Contract Name | O9: Last Trade Date | P9: Strike | Q9: Last Price | R9: Bid | S9: Ask | T9: Change | U9: % Change | V9: Volume | W9: Open Interest | X9: Implied Volatility
A10: SPY200619C00070000 | B10: 2020-06-09 7:09PM EDT | C10: 70 | D10: 220.1 | E10: 241.57 | F10: 242.06 | G10: 0 | H10: - | I10: 28 | J10: 0 | K10: 8.4688 | L10: =D10-C10 -> 150.1 | M10: In the Money | N10: SPY200619C00005000 | O10: 2020-06-17 11:56AM EDT | P10: 5 | Q10: 308.04 | R10: 0 | S10: 0 | T10: 0 | U10: - | V10: 1 | W10: 0 | X10: 0
A11: SPY200619C00095000 | B11: 2020-06-09 7:09PM EDT | C11: 95 | D11: 218.95 | E11: 216.46 | F11: 216.98 | G11: 0 | H11: - | I11: 4 | J11: 0 | K11: 6.4219 | L11: =D11-C11 -> 123.95 | N11: SPY200619C00010000 | O11: 2020-06-17 11:25AM EDT | P11: 10 | Q11: 302.04 | R11: 0 | S11: 0 | T11: 0 | U11: - | V11: 1 | W11: 0 | X11: 0
A12: SPY200619C00100000 | B12: 2020-06-17 2:25PM EDT | C12: 100 | D12: 213.5 | E12: 0 | F12: 0 | G12: 0 | H12: - | I12: 10 | J12: 0 | K12: 0 | L12: =D12-C12 -> 113.5 | N12: SPY200619C00015000 | O12: 2020-06-17 11:36AM EDT | P12: 15 | Q12: 297.37 | R12: 0 | S12: 0 | T12: 0 | U12: - | V12: 1 | W12: 0 | X12: 0
A13: SPY200619C00105000 | B13: 2020-06-09 7:07PM EDT | C13: 105 | D13: 205.9 | E13: 206.53 | F13: 207 | G13: 0 | H13: - | I13: - | J13: 1 | K13: 6.0781 | L13: =D13-C13 -> 100.9 | N13: SPY200619C00020000 | O13: 2020-06-17 11:51AM EDT | P13: 20 | Q13: 292.73 | R13: 0 | S13: 0 | T13: 0 | U13: - | V13: 1 | W13: 0 | X13: 0
A14: SPY200619C00110000 | B14: 2020-06-09 7:08PM EDT | C14: 110 | D14: 135.59 | E14: 203.53 | F14: 204.01 | G14: 0 | H14: - | I14: 2 | J14: 5 | K14: 8.4375 | L14: =D14-C14 -> 25.59 | N14: SPY200619C00025000 | O14: 2020-06-17 12:23PM EDT | P14: 25 | Q14: 287.8 | R14: 0 | S14: 0 | T14: 0 | U14: - | V14: 1 | W14: 1 | X14: 0
A15: SPY200619C00115000 | B15: 2020-06-09 7:08PM EDT | C15: 115 | D15: 195.91 | E15: 196.46 | F15: 196.98 | G15: 0 | H15: - | I15: - | J15: 1 | K15: 5.4297 | L15: =D15-C15 -> 80.91
A16: SPY200619C00120000 | B16: 2020-06-09 7:08PM EDT | C16: 120 | D16: 157.6 | E16: 191.54 | F16: 192.18 | G16: 0 | H16: - | I16: 7 | J16: 1 | K16: 5.6328 | L16: =D16-C16 -> 37.6 | M16: Out of the Money | N16: SPY200619C00180000 | O16: 2020-06-17 1:56PM EDT | P16: 180 | Q16: 134.2 | R16: 0 | S16: 0 | T16: 0 | U16: - | V16: 3 | W16: 0 | X16: 0
A17: SPY200619C00125000 | B17: 2020-06-09 7:08PM EDT | C17: 125 | D17: 136.7 | E17: 186.46 | F17: 186.98 | G17: 0 | H17: - | I17: 13 | J17: 13 | K17: 5 | L17: =D17-C17 -> 11.7 | N17: SPY200619C00202000 | O17: 2020-06-17 3:44PM EDT | P17: 202 | Q17: 109.27 | R17: 0 | S17: 0 | T17: 0 | U17: - | V17: 1 | W17: 0 | X17: 0
A18: SPY200619C00130000 | B18: 2020-06-09 7:08PM EDT | C18: 130 | D18: 151.7 | E18: 183.34 | F18: 183.93 | G18: 0 | H18: - | I18: 12 | J18: 1 | K18: 7.1094 | L18: =D18-C18 -> 21.7 | N18: SPY200619C00215000 | O18: 2020-06-17 2:00PM EDT | P18: 215 | Q18: 98.82 | R18: 0 | S18: 0 | T18: 0 | U18: - | V18: 27 | W18: 0 | X18: 0
A19: SPY200619C00135000 | B19: 2020-06-09 7:08PM EDT | C19: 135 | D19: 107.58 | E19: 176.54 | F19: 177.22 | G19: 0 | H19: - | I19: 1 | J19: 1 | K19: 5.0234 | L19: =D19-C19 -> -27.42 | N19: SPY200619C00220000 | O19: 2020-06-17 3:40PM EDT | P19: 220 | Q19: 91.82 | R19: 0 | S19: 0 | T19: 0 | U19: - | V19: 4 | W19: 0 | X19: 0
A20: SPY200619C00140000 | B20: 2020-05-18 10:53AM EDT | C20: 140 | D20: 154.38 | E20: 173.15 | F20: 173.83 | G20: 0 | H20: - | I20: 6 | J20: 40 | K20: 6.4736 | L20: =D20-C20 -> 14.38 | N20: SPY200619C00225000 | O20: 2020-06-17 10:56AM EDT | P20: 225 | Q20: 88.26 | R20: 0 | S20: 0 | T20: 0 | U20: - | V20: 5 | W20: 0 | X20: 0
A21: SPY200619C00145000 | B21: 2020-06-09 7:08PM EDT | C21: 145 | D21: 146.88 | E21: 166.54 | F21: 166.99 | G21: 0 | H21: - | I21: 16 | J21: 58 | K21: 4.3672 | L21: =D21-C21 -> 1.88
A22: SPY200619C00150000 | B22: 2020-06-08 10:12AM EDT | C22: 150 | D22: 170.3 | E22: 0 | F22: 0 | G22: 0 | H22: - | I22: 1 | J22: 0 | K22: 0 | L22: =D22-C22 -> 20.3 | P22: The mean of the bid and ask price is equal to zero
A23: SPY200619C00155000 | B23: 2020-06-09 7:08PM EDT | C23: 155 | D23: 72.43 | E23: 158.35 | F23: 158.93 | G23: 0 | H23: - | I23: 2 | J23: 39 | K23: 5.832 | L23: =D23-C23 -> -82.57 | P23: T | Q23: =2/365 -> 0.0054794521
A24: SPY200619C00160000 | B24: 2020-06-17 11:25AM EDT | C24: 160 | D24: 152.01 | E24: 0 | F24: 0 | G24: 0 | H24: - | I24: 1 | J24: 0 | K24: 0 | L24: =D24-C24 -> -7.99
A25: SPY200619C00165000 | B25: 2020-06-09 7:08PM EDT | C25: 165 | D25: 66.61 | E25: 146.51 | F25: 147.18 | G25: 0 | H25: - | I25: 4 | J25: 10 | K25: 3.8477 | L25: =D25-C25 -> -98.39
A26: SPY200619C00170000 | B26: 2020-06-11 11:09AM EDT | C26: 170 | D26: 139.06 | E26: 0 | F26: 0 | G26: 0 | H26: - | I26: 1 | J26: 0 | K26: 0 | L26: =D26-C26 -> -30.94
A27: SPY200619C00175000 | B27: 2020-06-15 11:58AM EDT | C27: 175 | D27: 127.15 | E27: 0 | F27: 0 | G27: 0 | H27: - | I27: 1 | J27: 0 | K27: 0 | L27: =D27-C27 -> -47.85
A28: SPY200619C00180000 | B28: 2020-06-17 1:56PM EDT | C28: 180 | D28: 134.2 | E28: 0 | F28: 0 | G28: 0 | H28: - | I28: 3 | J28: 0 | K28: 0 | L28: =D28-C28 -> -45.8
A29: SPY200619C00185000 | B29: 2020-05-20 10:12AM EDT | C29: 185 | D29: 112.31 | E29: 0 | F29: 0 | G29: 0 | H29: - | I29: 4 | J29: 0 | K29: 0 | L29: =D29-C29 -> -72.69
A30: SPY200619C00190000 | B30: 2020-06-15 10:51AM EDT | C30: 190 | D30: 111.09 | E30: 0 | F30: 0 | G30: 0 | H30: - | I30: 1 | J30: 0 | K30: 0 | L30: =D30-C30 -> -78.91
A31: SPY200619C00195000 | B31: 2020-06-02 2:26PM EDT | C31: 195 | D31: 111.95 | E31: 0 | F31: 0 | G31: 0 | H31: - | I31: 8 | J31: 0 | K31: 0 | L31: =D31-C31 -> -83.05
A32: SPY200619C00200000 | B32: 2020-06-16 2:48PM EDT | C32: 200 | D32: 112.94 | E32: 0 | F32: 0 | G32: 0 | H32: - | I32: 510 | J32: 0 | K32: 0 | L32: =D32-C32 -> -87.06
A33: SPY200619C00201000 | B33: 2020-06-09 7:08PM EDT | C33: 201 | D33: 81.76 | E33: 110.51 | F33: 111.2 | G33: 0 | H33: - | I33: 6 | J33: 6 | K33: 2.7656 | L33: =D33-C33 -> -119.24
A34: SPY200619C00202000 | B34: 2020-06-17 3:44PM EDT | C34: 202 | D34: 109.27 | E34: 0 | F34: 0 | G34: 0 | H34: - | I34: 1 | J34: 0 | K34: 0 | L34: =D34-C34 -> -92.73
A35: SPY200619C00203000 | B35: 2020-06-08 9:32AM EDT | C35: 203 | D35: 117.64 | E35: 0 | F35: 0 | G35: 0 | H35: - | I35: 1 | J35: 0 | K35: 0 | L35: =D35-C35 -> -85.36
A36: SPY200619C00204000 | B36: 2020-06-09 7:08PM EDT | C36: 204 | D36: 56.48 | E36: 109.54 | F36: 109.99 | G36: 0 | H36: - | I36: - | J36: 10 | K36: 3.8691 | L36: =D36-C36 -> -147.52
A37: SPY200619C00205000 | B37: 2020-06-12 9:30AM EDT | C37: 205 | D37: 102.83 | E37: 0 | F37: 0 | G37: 0 | H37: - | I37: 1 | J37: 0 | K37: 0 | L37: =D37-C37 -> -102.17
A38: SPY200619C00206000 | B38: 2020-06-09 7:08PM EDT | C38: 206 | D38: 83.87 | E38: 107.2 | F38: 107.69 | G38: 0 | H38: - | I38: 1 | J38: 3 | K38: 3.6631 | L38: =D38-C38 -> -122.13
A39: SPY200619C00207000 | B39: 2020-06-09 7:08PM EDT | C39: 207 | D39: 57.51 | E39: 104.44 | F39: 105 | G39: 0 | H39: - | I39: 2 | J39: 3 | K39: 2.3906 | L39: =D39-C39 -> -149.49
A40: SPY200619C00208000 | B40: 2020-06-08 2:39PM EDT | C40: 208 | D40: 114.11 | E40: 0 | F40: 0 | G40: 0 | H40: - | I40: 15 | J40: 0 | K40: 0 | L40: =D40-C40 -> -93.89
A41: SPY200619C00209000 | B41: 2020-06-09 7:08PM EDT | C41: 209 | D41: 71.44 | E41: 104.47 | F41: 105.03 | G41: 0 | H41: - | I41: 1 | J41: 107 | K41: 3.6807 | L41: =D41-C41 -> -137.56
...

Sheet Question 2
A1: Date | B1: Open | C1: High | D1: Low | E1: Close | F1: Adj Close
A2: 43941 | B2: 282.60998 | C2: 286.79001 | D2: 281.35001 | E2: 281.59 | F2: 281.59
A3: 43942 | B3: 276.73001 | C3: 278.04001 | D3: 272.01999 | E3: 273.04001 | F3: 273.04001
A4: 43943 | B4: 278.35001 | C4: 281 | D4: 276.91 | E4: 279.10001 | F4: 279.10001
A5: 43944 | B5: 280.48999 | C5: 283.94 | D5: 278.75 | E5: 279.07999 | F5: 279.07999
A6: 43945 | B6: 280.73001 | C6: 283.70001 | D6: 278.5 | E6: 282.97 | F6: 282.97
A7: 43948 | B7: 285.12 | C7: 288.26999 | D7: 284.62 | E7: 287.04999 | F7: 287.04999
A8: 43949 | B8: 291.01999 | C8: 291.39999 | D8: 285.39999 | E8: 285.73001 | F8: 285.73001
A9: 43950 | B9: 291.53 | C9: 294.88 | D9: 290.41 | E9: 293.20999 | F9: 293.20999
A10: 43951 | B10: 291.70999 | C10: 293.32001 | D10: 288.59 | E10: 290.48001 | F10: 290.48001
A11: 43952 | B11: 285.31 | C11: 290.66 | D11: 281.51999 | E11: 282.79001 | F11: 282.79001
A12: 43955 | B12: 280.73999 | C12: 283.89999 | D12: 279.13 | E12: 283.57001 | F12: 283.57001
A13: 43956 | B13: 286.64002 | C13: 289.25 | D13: 283.70999 | E13: 286.19 | F13: 286.19
... A43: 43999 | B43: 314.07001 | C43: 314.39002 | D43: 310.85998 | E43: 311.66 | F43: 311.66
E44: Mean | F44: =AVERAGE(F2:F43) -> 296.22143
E45: Standard deviation | F45: =STDEV(F2:F43) -> 13.044528

Sheet Question 3
A1: Parameters | J1: Parameters
A3: So | B3: =A13 -> 308.04 | D3: T | E3: =2/365 -> 0.0054794521 | G3: Sigma | H3: 13.04 | J3: So | K3: =A14 -> 302.04 | M3: T | N3: =2/365 -> 0.0054794521 | P3: Sigma | Q3: 13.04
A4: r | B4: 0.025 | D4: K | E4: 5 | J4: r | K4: 0.025 | M4: K | N4: 10
A6: d1 | B6: =(LN(B3/E4)+(B4+H3*H3/2)*E3)/(H3*SQRT(E3)) -> 4.7518561 | J6: d1 | K6: =(LN(K3/N4)+(K4+Q3*Q3/2)*N3)/(Q3*SQRT(N3)) -> 4.0133873
A7: d2 | B7: =B6-H3*SQRT(E3) -> 3.786592 | J7: d2 | K7: =K6-Q3*SQRT(N3) -> 3.0481232
J9: So | K9: =A15 -> 297.37 | M9: T | N9: =2/365 -> 0.0054794521 | P9: Sigma | Q9: 13.04
J10: r | K10: 0.025 | M10: K | N10: 15
A11: Table Using BSM to calculate value of call options
A12: Stock Price | B12: σ | C12: Strike Price | D12: d1 | E12: d2 | F12: N(d1) | G12: N(d2) | H12: Price of Call Option | J12: d1 | K12: =(LN(K9/N10)+(K10+Q9*Q9/2)*N9)/(Q9*SQRT(N9)) -> 3.5771882
A13: 308.04 | B13: 13.04 | C13: 5 | D13: =B6 -> 4.7518561 | E13: =B7 -> 3.786592 | F13: =NORMSDIST(D13) -> 0.99999899 | G13: =NORMSDIST(F13) -> 0.8413445 | H13: =A13*F13-C13*EXP(-$B$4*$E$3)*G13 -> 303.83354 | J13: d2 | K13: =K12-Q9*SQRT(N9) -> 2.6119241
A14: 302.04 | B14: 13.04 | C14: 10 | D14: =K6 -> 4.0133873 | E14: =K7 -> 3.0481232 | F14: =NORMSDIST(D14) -> 0.99997007 | G14: =NORMSDIST(F14) -> 0.8413375 | H14: =A14*F14-C14*EXP(-$B$4*$E$3)*G14 -> 293.61874
A15: 297.37 | B15: 13.04 | C15: 15 | D15: =K12 -> 3.5771882 | E15: =K13 -> 2.6119241 | F15: =NORMSDIST(D15) -> 0.99982634 | G15: =NORMSDIST(F15) -> 0.84130272 | H15: =A15*F15-C15*EXP(-$B$4*$E$3)*G15 -> 284.70055 | J15: So | K15: =A16 -> 292.73 | M15: T | N15: =2/365 -> 0.0054794521 | P15: Sigma | Q15: 13.04
A16: 292.73 | B16: 13.04 | C16: 20 | D16: =K18 -> 3.2628612 | E16: =K19 -> 2.2975971 | F16: =NORMSDIST(D16) -> 0.99944853 | G16: =NORMSDIST(F16) -> 0.84121127 | H16: =A16*F16-C16*EXP(-$B$4*$E$3)*G16 -> 275.74665 | J16: r | K16: 0.025 | M16: K | N16: =C16 -> 20
A17: 287.8 | B17: 13.04 | C17: 25 | D17: =K24 -> 3.0140915 | E17: =K25 -> 2.0488274 | F17: =NORMSDIST(D17) -> 0.99871125 | G17: =NORMSDIST(F17) -> 0.84103271 | H17: =A17*F17-C17*EXP(-$B$4*$E$3)*G17 -> 266.40616
A18: 134.2 | B18: 13.04 | C18: 180 | D18: =K30 -> 0.17858196 | E18: =K31 -> -0.78668214 | F18: =NORMSDIST(D18) -> 0.57086702 | G18: =NORMSDIST(F18) -> 0.71595511 | H18: =A18*F18-C18*EXP(-$B$4*$E$3)*G18 -> -52.243912 | J18: d1 | K18: =(LN(K15/N16)+(K16+Q15*Q15/2)*N15)/(Q15*SQRT(N15)) -> 3.2628612
A19: 109.27 | B19: 13.04 | C19: 202 | D19: =K36 -> -0.15378323 | E19: =K37 -> -1.1190473 | F19: =NORMSDIST(D19) -> 0.43889033 | G19: =NORMSDIST(F19) -> 0.6696295 | H19: =A19*F19-C19*EXP(-$B$4*$E$3)*G19 -> -87.289084 | J19: d2 | K19: =K18-Q15*SQRT(N15) -> 2.2975971
A20: 98.82 | B20: 13.04 | C20: 215 | D20: =K42 -> -0.32253725 | E20: =K43 -> -1.2878014 | F20: =NORMSDIST(D20) -> 0.37352286 | G20: =NORMSDIST(F20) -> 0.64562033 | H20: =A20*F20-C20*EXP(-$B$4*$E$3)*G20 -> -101.87783
A21: 91.82 | B21: 13.04 | C21: 220 | D21: =K48 -> -0.42246782 | E21: =K49 -> -1.3877319 | F21: =NORMSDIST(D21) -> 0.33634179 | G21: =NORMSDIST(F21) -> 0.63169343 | H21: =A21*F21-C21*EXP(-$B$4*$E$3)*G21 -> -108.07062 | J21: So | K21: =A17 -> 287.8 | M21: T | N21: =2/365 -> 0.0054794521 | P21: Sigma | Q21: 13.04
A22: 88.26 | B22: 13.04 | C22: 225 | D22: =K54 -> -0.48671551 | E22: =K55 -> -1.4519796 | F22: =NORMSDIST(D22) -> 0.31322998 | G22: =NORMSDIST(F22) -> 0.62294703 | H22: =A22*F22-C22*EXP(-$B$4*$E$3)*G22 -> -112.4982 | J22: r | K22: 0.025 | M22: K | N22: =C17 -> 25
J24: d1 | K24: =(LN(K21/N22)+(K22+Q21*Q21/2)*N21)/(Q21*SQRT(N21)) -> 3.0140915
J25: d2 | K25: =K24-Q21*SQRT(N21) -> 2.0488274
J27: So | K27: =A18 -> 134.2 | M27: T | N27: =2/365 -> 0.0054794521 | P27: Sigma | Q27: 13.04
J28: r | K28: 0.025 | M28: K | N28: =C18 -> 180
J30: d1 | K30: =(LN(K27/N28)+(K28+Q27*Q27/2)*N27)/(Q27*SQRT(N27)) -> 0.17858196
J31: d2 | K31: =K30-Q27*SQRT(N27) -> -0.78668214
J33: So | K33: =A19 -> 109.27 | M33: T | N33: =2/365 -> 0.0054794521 | P33: Sigma | Q33: 13.04
J34: r | K34: 0.025 | M34: K | N34: =C19 -> 202
J36: d1 | K36: =(LN(K33/N34)+(K34+Q33*Q33/2)*N33)/(Q33*SQRT(N33)) -> -0.15378323
J37: d2 | K37: =K36-Q33*SQRT(N33) -> -1.1190473
J39: So | K39: =A20 -> 98.82 | M39: T | N39: =2/365 -> 0.0054794521 | P39: Sigma | Q39: 13.04
J40: r | K40: 0.025 | M40: K | N40: =C20 -> 215
J42: d1 | K42: =(LN(K39/N40)+(K40+Q39*Q39/2)*N39)/(Q39*SQRT(N39)) -> -0.32253725
J43: d2 | K43: =K42-Q39*SQRT(N39) -> -1.2878014
J45: So | K45: =A21 -> 91.82 | M45: T | N45: =2/365 -> 0.0054794521 | P45: Sigma | Q45: 13.04
J46: r | K46: 0.025 | M46: K | N46: =C21 -> 220
J48: d1 | K48: =(LN(K45/N46)+(K46+Q45*Q45/2)*N45)/(Q45*SQRT(N45)) -> -0.42246782
J49: d2 | K49: =K48-Q45*SQRT(N45) -> -1.3877319
J51: So | K51: =A22 -> 88.26 | M51: T | N51: =2/365 -> 0.0054794521 | P51: Sigma | Q51: 13.04
J52: r | K52: 0.025 | M52: K | N52: =C22 -> 225
J54: d1 | K54: =(LN(K51/N52)+(K52+Q51*Q51/2)*N51)/(Q51*SQRT(N51)) -> -0.48671551
...

Sheet Question 4
B1: K/S), price of the option, and the implied volatility
A3: Stock Price | B3: Strike Price | C3: K/S | D3: Price of the option | E3: Implied Volatility
A4: 308.04 | B4: 5 | C4: ='Question 3'!C13/'Question 3'!A13 -> 0.016231658 | D4: ='Question 3'!H13 -> 303.83354 | E4: -335544.32
A5: 302.04 | B5: 10 | C5: ='Question 3'!C14/'Question 3'!A14 -> 0.033108198 | D5: ='Question 3'!H14 -> 293.61874 | E5: -335544.32
A6: 297.37 | B6: 15 | C6: ='Question 3'!C15/'Question 3'!A15 -> 0.05044221 | D6: ='Question 3'!H15 -> 284.70055 | E6: -335544.32
A7: 292.73 | B7: 20 | C7: ='Question 3'!C16/'Question 3'!A16 -> 0.068322345 | D7: ='Question 3'!H16 -> 275.74665 | E7: -335544.32
A8: 287.8 | B8: 25 | C8: ='Question 3'!C17/'Question 3'!A17 -> 0.086865879 | D8: ='Question 3'!H17 -> 266.40616 | E8: -335544.32
A9: 134.2 | B9: 180 | C9: ='Question 3'!C18/'Question 3'!A18 -> 1.3412817 | D9: ='Question 3'!H18 -> -52.243912 | E9: -335544.32
A10: 109.27 | B10: 202 | C10: ='Question 3'!C19/'Question 3'!A19 -> 1.8486318 | D10: ='Question 3'!H19 -> -87.289084 | E10: -335544.32
A11: 98.82 | B11: 215 | C11: ='Question 3'!C20/'Question 3'!A20 -> 2.1756729 | D11: ='Question 3'!H20 -> -101.87783 | E11: -335544.32
A12: 91.82 | B12: 220 | C12: ='Question 3'!C21/'Question 3'!A21 -> 2.3959922 | D12: ='Question 3'!H21 -> -108.07062 | E12: -335544.32
A13: 88.26 | B13: 225 | C13: ='Question 3'!C22/'Question 3'!A22 -> 2.5492862 | D13: ='Question 3'!H22 -> -112.4982 | E13: -335544.32
C15: Choosen Call options
B16: Contract Name | C16: Last Trade Date | D16: Strike | E16: Last Price | F16: Bid | G16: Ask | H16: Change | I16: % Change | J16: Volume | K16: Open Interest | L16: Implied Volatility | M16: Moneyness
A17: In the Money | B17: SPY200619C00005000 | C17: 2020-06-17 11:56AM EDT | D17: 5 | E17: 308.04 | F17: 0 | G17: 0 | H17: 0 | I17: - | J17: 1 | K17: 0 | L17: 0 | M17: =E17-D17 -> 303.04
B18: SPY200619C00010000 | C18: 2020-06-17 11:25AM EDT | D18: 10 | E18: 302.04 | F18: 0 | G18: 0 | H18: 0 | I18: - | J18: 1 | K18: 0 | L18: 0 | M18: =E18-D18 -> 292.04
B19: SPY200619C00015000 | C19: 2020-06-17 11:36AM EDT | D19: 15 | E19: 297.37 | F19: 0 | G19: 0 | H19: 0 | I19: - | J19: 1 | K19: 0 | L19: 0 | M19: =E19-D19 -> 282.37
B20: SPY200619C00020000 | C20: 2020-06-17 11:51AM EDT | D20: 20 | E20: 292.73 | F20: 0 | G20: 0 | H20: 0 | I20: - | J20: 1 | K20: 0 | L20: 0 | M20: =E20-D20 -> 272.73
B21: SPY200619C00025000 | C21: 2020-06-17 12:23PM EDT | D21: 25 | E21: 287.8 | F21: 0 | G21: 0 | H21: 0 | I21: - | J21: 1 | K21: 1 | L21: 0 | M21: =E21-D21 -> 262.8
A22: Out of the Money | B22: SPY200619C00180000 | C22: 2020-06-17 1:56PM EDT | D22: 180 | E22: 134.2 | F22: 0 | G22: 0 | H22: 0 | I22: - | J22: 3 | K22: 0 | L22: 0 | M22: =E22-D22 -> -45.8
B23: SPY200619C00202000 | C23: 2020-06-17 3:44PM EDT | D23: 202 | E23: 109.27 | F23: 0 | G23: 0 | H23: 0 | I23: - | J23: 1 | K23: 0 | L23: 0 | M23: =E23-D23 -> -92.73
B24: SPY200619C00215000 | C24: 2020-06-17 2:00PM EDT | D24: 215 | E24: 98.82 | F24: 0 | G24: 0 | H24: 0 | I24: - | J24: 27 | K24: 0 | L24: 0 | M24: =E24-D24 -> -116.18
B25: SPY200619C00220000 | C25: 2020-06-17 3:40PM EDT | D25: 220 | E25: 91.82 | F25: 0 | G25: 0 | H25: 0 | I25: - | J25: 4 | K25: 0 | L25: 0 | M25: =E25-D25 -> -128.18
B26: SPY200619C00225000 | C26: 2020-06-17 10:56AM EDT | D26: 225 | E26: 88.26 | F26: 0 | G26: 0 | H26: 0 | I26: - | J26: 5 | K26: 0 | L26: 0 | M26: =E26-D26 -> -136.74
B28: Implied Volatility | C28: Moneyness
B29: 0 | C29: =M17 -> 303.04
B30: 0 | C30: =M18 -> 292.04
B31: 0 | C31: =M19 -> 282.37
B32: 0 | C32: =M20 -> 272.73
B33: 0 | C33: =M21 -> 262.8
B34: 0 | C34: =M22 -> -45.8
B35: 0 | C35: =M23 -> -92.73
B36: 0 | C36: =M24 -> -116.18
B37: 0 | C37: =M25 -> -128.18
B38: 0 | C38: =M26 -> -136.74
D44: The implied volatility curve remains constant as the implied volatility doesnot change. The implied volatility is related to the standard deviation in that they both measure the risk of holding the option to maturity. The BSM formula is not very accurate and thus other methods such as the monte carlo can be used.

Sheet part II
A1: Parameters
A3: So | B3: 50 | D3: T | E3: 0.25 | G3: Sigma | H3: 0.25
A4: r | B4: 0.015 | D4: K | E4: 50
A6: d1 | B6: =(LN(B3/E4)+(B4+H3*H3/2)*E3)/(H3*SQRT(E3)) -> 0.0925
A7: d2 | B7: =B6-H3*SQRT(E3) -> -0.0325
A8: Analytic
A9: Expected return of the call option | B9: =B3*NORMDIST(B6,0,1,TRUE)-E4*EXP(-B4*E3)*NORMDIST(B7,0,1,TRUE) -> 2.5817957
A11: Assuming So = 40
A12: Parameters
A14: So | B14: 40 | D14: T | E14: 0.25 | G14: Sigma | H14: 0.25
A15: r | B15: 0.015 | D15: K | E15: 50
A17: d1 | B17: =(LN(B14/E15)+(B15+H14*H14/2)*E14)/(H14*SQRT(E14)) -> -1.6926484
A18: d2 | B18: =B17-H14*SQRT(E14) -> -1.8176484
A19: Analytic
A20: Expected return of the call option | B20: =B14*NORMDIST(B17,0,1,TRUE)-E15*EXP(-B15*E14)*NORMDIST(B18,0,1,TRUE) -> 0.088968692
A22: Assuming So = 45
A23: Parameters
A25: So | B25: 45 | D25: T | E25: 0.25 | G25: Sigma | H25: 0.25
A26: r | B26: 0.015 | D26: K | E26: 50
A28: d1 | B28: =(LN(B25/E26)+(B26+H25*H25/2)*E25)/(H25*SQRT(E25)) -> -0.75038413
A29: d2 | B29: =B28-H25*SQRT(E25) -> -0.87538413
A30: Analytic
A31: Expected return of the call option | B31: =B25*NORMDIST(B28,0,1,TRUE)-E26*EXP(-B26*E25)*NORMDIST(B29,0,1,TRUE) -> 0.6945889
A33: Assuming So = 55
A34: Parameters
A36: So | B36: 55 | D36: T | E36: 0.25 | G36: Sigma | H36: 0.25
A37: r | B37: 0.015 | D37: K | E37: 50
A39: d1 | B39: =(LN(B36/E37)+(B37+H36*H36/2)*E36)/(H36*SQRT(E36)) -> 0.85498144
A40: d2 | B40: =B39-H36*SQRT(E36) -> 0.72998144
A41: Analytic
A42: Expected return of the call option | B42: =B36*NORMDIST(B39,0,1,TRUE)-E37*EXP(-B37*E36)*NORMDIST(B40,0,1,TRUE) -> 5.9831983
A44: Assuming So = 60
A45: Parameters
A47: So | B47: 60 | D47: T | E47: 0.25 | G47: Sigma | H47: 0.25
A48: r | B48: 0.015 | D48: K | E48: 50
A50: d1 | B50: =(LN(B47/E48)+(B48+H47*H47/2)*E47)/(H47*SQRT(E47)) -> 1.5510725
A51: d2 | B51: =B50-H47*SQRT(E47) -> 1.4260725
A52: Analytic
A53: Expected return of the call option | B53: =B47*NORMDIST(B50,0,1,TRUE)-E48*EXP(-B48*E47)*NORMDIST(B51,0,1,TRUE) -> 10.392409
A56: Strike Price | B56: Value of the option
...
